BEGIN:VCALENDAR
VERSION:2.0
PRODID:-//Pacific Mountain Region - ECPv6.8.1//NONSGML v1.0//EN
CALSCALE:GREGORIAN
METHOD:PUBLISH
X-WR-CALNAME:Pacific Mountain Region
X-ORIGINAL-URL:https://pacificmountain.ca
X-WR-CALDESC:Events for Pacific Mountain Region
REFRESH-INTERVAL;VALUE=DURATION:PT1H
X-Robots-Tag:noindex
X-PUBLISHED-TTL:PT1H
BEGIN:VTIMEZONE
TZID:America/Vancouver
BEGIN:DAYLIGHT
TZOFFSETFROM:-0800
TZOFFSETTO:-0700
TZNAME:PDT
DTSTART:20270314T100000
END:DAYLIGHT
BEGIN:STANDARD
TZOFFSETFROM:-0700
TZOFFSETTO:-0800
TZNAME:PST
DTSTART:20271107T090000
END:STANDARD
END:VTIMEZONE
BEGIN:VEVENT
DTSTART;VALUE=DATE:20270326
DTEND;VALUE=DATE:20270327
DTSTAMP:20260423T040911
CREATED:20251023T211447Z
LAST-MODIFIED:20251023T212716Z
UID:21737-1806019200-1806105599@pacificmountain.ca
SUMMARY:Office Closure ~ Good Friday
DESCRIPTION:
URL:https://pacificmountain.ca/event/office-closure-good-friday-2027/
LOCATION:BC
CATEGORIES:Holidays / Office Closures
END:VEVENT
BEGIN:VEVENT
DTSTART;VALUE=DATE:20270329
DTEND;VALUE=DATE:20270330
DTSTAMP:20260423T040911
CREATED:20251023T211518Z
LAST-MODIFIED:20251023T212723Z
UID:21739-1806278400-1806364799@pacificmountain.ca
SUMMARY:Office Closure ~ Easter Monday
DESCRIPTION:
URL:https://pacificmountain.ca/event/office-closure-easter-monday-2027/
LOCATION:BC
CATEGORIES:Holidays / Office Closures
END:VEVENT
BEGIN:VEVENT
DTSTART;TZID=America/Vancouver:20270329T080000
DTEND;TZID=America/Vancouver:20270402T170000
DTSTAMP:20260423T040911
CREATED:20260121T165712Z
LAST-MODIFIED:20260121T170758Z
UID:22002-1806307200-1806685200@pacificmountain.ca
SUMMARY:Sowing Promise: Renewal & Revitalization Pathway
DESCRIPTION:A LeaderSHIFT Offering with Don White Jr. and Tonya Variya\nSowing Promise: Renewal & Revitalization Pathway\nMonday March 29 – Friday April 2\, 2027\nIn-Person at Loon lake Retreat Centre\nThis Renewal and Revitalization Cohort is based on the development of 4 Core Competencies. Each competency is coached\, nurtured\, and measured for genuine growth. A Health & Wholeness Assessment Test will be used to help us discern where the growth edge is for each of us. \n\nNaming & Engaging Pain\nAwareness & Awakening\nLoss\, Limits\, & Lament\nWholeness & Habits\n\nLoon Lake Retreat Centre is a destination for quiet reflection\, fresh air\, clean water\, and tall fir trees. Dan & Tonya White will be facilitating a deep\, soulful retreat to help us rest\, refresh\, and recalibrate the heart of our leadership \nRetreat Overview\n\n8 GROUP COACHING CALLS\n1 RENEWAL RETREAT\n24 WEEKLY ARTICLES & REFLECTIONS\n4 TRAINING WEBINARS\n7 TRANSFORMATIONAL TOOLS\n\nClick here for more information: Sowing Promise: Renewal & Revitalization Pathway — LeaderSHIFT UCCan \nApplication Available February 1\, 2026
URL:https://pacificmountain.ca/event/leadershift-sowing-promise-2027/
LOCATION:Loon Lake Retreat Centre\, 14500 Silver Valley Rd\, Maple Ridge\, BC\, Canada
CATEGORIES:LeaderSHIFT UCCan,PMRC Events
ATTACH;FMTTYPE=image/webp:https://pacificmountain.ca/wordpress2021/wp-content/uploads/Renewal-and-revitilizing-pathway-leadershift-event-pic.webp
ORGANIZER;CN="LeaderSHIFT":MAILTO:leadershift@united-church.ca
END:VEVENT
END:VCALENDAR