BEGIN:VCALENDAR
VERSION:2.0
PRODID:-//Pacific Mountain Region - ECPv6.8.1//NONSGML v1.0//EN
CALSCALE:GREGORIAN
METHOD:PUBLISH
X-WR-CALNAME:Pacific Mountain Region
X-ORIGINAL-URL:https://pacificmountain.ca
X-WR-CALDESC:Events for Pacific Mountain Region
REFRESH-INTERVAL;VALUE=DURATION:PT1H
X-Robots-Tag:noindex
X-PUBLISHED-TTL:PT1H
BEGIN:VTIMEZONE
TZID:America/Vancouver
BEGIN:DAYLIGHT
TZOFFSETFROM:-0800
TZOFFSETTO:-0700
TZNAME:PDT
DTSTART:20210314T100000
END:DAYLIGHT
BEGIN:STANDARD
TZOFFSETFROM:-0700
TZOFFSETTO:-0800
TZNAME:PST
DTSTART:20211107T090000
END:STANDARD
BEGIN:DAYLIGHT
TZOFFSETFROM:-0800
TZOFFSETTO:-0700
TZNAME:PDT
DTSTART:20220313T100000
END:DAYLIGHT
BEGIN:STANDARD
TZOFFSETFROM:-0700
TZOFFSETTO:-0800
TZNAME:PST
DTSTART:20221106T090000
END:STANDARD
END:VTIMEZONE
BEGIN:VEVENT
DTSTART;VALUE=DATE:20211201
DTEND;VALUE=DATE:20211202
DTSTAMP:20260424T033859
CREATED:20211201T001927Z
LAST-MODIFIED:20220201T094334Z
UID:11182-1638316800-1638403199@pacificmountain.ca
SUMMARY:Office Closed for Regional Staff Retreat
DESCRIPTION:
URL:https://pacificmountain.ca/event/office-closed-for-regional-staff-retreat/
CATEGORIES:Holidays / Office Closures
END:VEVENT
BEGIN:VEVENT
DTSTART;VALUE=DATE:20211202
DTEND;VALUE=DATE:20211203
DTSTAMP:20260424T033859
CREATED:20211201T001955Z
LAST-MODIFIED:20220201T094325Z
UID:11184-1638403200-1638489599@pacificmountain.ca
SUMMARY:Office Closed for Regional Staff Retreat
DESCRIPTION:
URL:https://pacificmountain.ca/event/office-closed-for-regional-staff-retreat-2/
CATEGORIES:Holidays / Office Closures
END:VEVENT
BEGIN:VEVENT
DTSTART;TZID=America/Vancouver:20211212T180000
DTEND;TZID=America/Vancouver:20211212T203000
DTSTAMP:20260424T033859
CREATED:20211020T182907Z
LAST-MODIFIED:20211020T182907Z
UID:10778-1639332000-1639341000@pacificmountain.ca
SUMMARY:Young Adult Supper Social
DESCRIPTION:SUPPER SOCIAL \nThis is time for Lower Mainland young adults and a leader or two to gather IN PERSON with Regional Staff Pamela Evans\, eat a great meal\, and share conversation about what is important. All are warmly welcome! Vaccine passport required. Register here. \nIn-person in New Westminster (exact location will be shared after registration). Sunday\, December 12\, from 6-8:30pm.
URL:https://pacificmountain.ca/event/young-adult-supper-social-dec/
CATEGORIES:PMRC Events
ATTACH;FMTTYPE=image/png:https://pacificmountain.ca/wordpress2021/wp-content/uploads/YA-Supper-Social-Square-images.6166faeee135e7.99585151.png
END:VEVENT
BEGIN:VEVENT
DTSTART;TZID=America/Vancouver:20211214T100000
DTEND;TZID=America/Vancouver:20211214T113000
DTSTAMP:20260424T033859
CREATED:20211004T213528Z
LAST-MODIFIED:20211005T142623Z
UID:10635-1639476000-1639481400@pacificmountain.ca
SUMMARY:The Gathering Place - A Time for Ministry Personnel
DESCRIPTION:The Gathering Place a time of online\, Mini-Retreats for United Church Ministry Personnel. Happening 10-11:30am PT/ 11am-12:30pm MT on the 2nd Tuesday of each month via Zoom\, Ministry Personnel are invited into 90 mins of being in community. You can expect practices with colleagues such as check-in\, pray\, laugh\, share sacred stories and maybe even singing a little — together.  \n\nThe Gathering Place is Free and Drop-In Style.\nRegistration is Required for the Zoom access. Register here.\nHosted by the PMRC’s Ministry Personal Support Team\, contact Karen Millard or Marc Coulombe for more information. 
URL:https://pacificmountain.ca/event/the-gathering-place-a-time-for-ministry-personnel-3/
ATTACH;FMTTYPE=image/png:https://pacificmountain.ca/wordpress2021/wp-content/uploads/Fall-MPST-Card-Insert-Gathering-Place-e1633383049774.png
END:VEVENT
BEGIN:VEVENT
DTSTART;VALUE=DATE:20211224
DTEND;VALUE=DATE:20220104
DTSTAMP:20260424T033859
CREATED:20211214T201315Z
LAST-MODIFIED:20220201T094308Z
UID:11387-1640304000-1641254399@pacificmountain.ca
SUMMARY:Office Closed for Holidays
DESCRIPTION:
URL:https://pacificmountain.ca/event/office-closed-for-holidays/
CATEGORIES:Holidays / Office Closures
END:VEVENT
END:VCALENDAR