BEGIN:VCALENDAR
VERSION:2.0
PRODID:-//Pacific Mountain Region - ECPv6.8.1//NONSGML v1.0//EN
CALSCALE:GREGORIAN
METHOD:PUBLISH
X-WR-CALNAME:Pacific Mountain Region
X-ORIGINAL-URL:https://pacificmountain.ca
X-WR-CALDESC:Events for Pacific Mountain Region
REFRESH-INTERVAL;VALUE=DURATION:PT1H
X-Robots-Tag:noindex
X-PUBLISHED-TTL:PT1H
BEGIN:VTIMEZONE
TZID:America/Vancouver
BEGIN:DAYLIGHT
TZOFFSETFROM:-0800
TZOFFSETTO:-0700
TZNAME:PDT
DTSTART:20210314T100000
END:DAYLIGHT
BEGIN:STANDARD
TZOFFSETFROM:-0700
TZOFFSETTO:-0800
TZNAME:PST
DTSTART:20211107T090000
END:STANDARD
END:VTIMEZONE
BEGIN:VEVENT
DTSTART;VALUE=DATE:20210407
DTEND;VALUE=DATE:20210408
DTSTAMP:20260423T112207
CREATED:20210223T232430Z
LAST-MODIFIED:20210223T232430Z
UID:8143-1617753600-1617839999@pacificmountain.ca
SUMMARY:No Townhall Meeting Today
DESCRIPTION:Join the next Townhall on April 21!
URL:https://pacificmountain.ca/event/townhall-meeting/
LOCATION:BC
CATEGORIES:PMRC Events
END:VEVENT
BEGIN:VEVENT
DTSTART;TZID=America/Vancouver:20210408T190000
DTEND;TZID=America/Vancouver:20210408T201500
DTSTAMP:20260423T112207
CREATED:20210218T173409Z
LAST-MODIFIED:20210218T173409Z
UID:8109-1617908400-1617912900@pacificmountain.ca
SUMMARY:Young Adult Book Study: Braiding Sweetgrass
DESCRIPTION:Join book club facilitators Rev Graham Brownmiller and Rev Deb Walker\, and a small group of other young adults four Thursday evenings in April. Registration is open now\, and the book study is free. If you have your own copy of the book\, or can borrow a copy\, you’re all set. If you need a free copy sent to you by the First Third Ministry Team\, let us know in the registration form. \nBraiding Sweetgrass\, Indigenous Wisdom\, Scientific Knowledge and the Teachings of Plants – an extraordinary book written by Robin Wall Kimmerer – asserts that plant life has been our oldest teachers\, and continue to teach us about life\, beauty\, hardship and change. Robin covers issues about language\, colonization\, purpose\, and sustainability. From Muskrat Magazine\, “Braiding Sweetgrass contains too many marvelous gems of wisdom to do justice to in a small review but to close let me leave you with a simple yet profound notion that is transformational for me every time I reconnect with it: “… all gifts are multiplied in relationship”.  What more can I say? If you want your mind blown and your spirit expanded check out Kimmerer’s book.”
URL:https://pacificmountain.ca/event/young-adult-book-study-braiding-sweetgrass/
LOCATION:BC
CATEGORIES:PMRC Events
ATTACH;FMTTYPE=image/png:https://pacificmountain.ca/wordpress2021/wp-content/uploads/Sweetgrass3.png
END:VEVENT
BEGIN:VEVENT
DTSTART;TZID=America/Vancouver:20210409T130000
DTEND;TZID=America/Vancouver:20210411T140000
DTSTAMP:20260423T112207
CREATED:20210309T220224Z
LAST-MODIFIED:20210309T220224Z
UID:8210-1617973200-1618149600@pacificmountain.ca
SUMMARY:This Changes Everything: Festival of Biblical Storytelling
DESCRIPTION:his Changes Everything: The Peacebuilding Power of Scripture Telling\nJoin Dr Tom Boomershine\, acclaimed speaker\, author and founder of the Biblical Storytelling Movement\, and other workshop leaders from across Canada for theme presentations\, worship & praise\, workshops for newcomers\, workshops for experienced tellers\, and the Epic Telling of Mark (this is sooooooooo cool). LeaderShift is thrilled to be sponsoring this event with the Network of Biblical Storytellers Canada.The cost is $50 per person (or $30 if you register before March 15). A group rate of $25/ person when coming with 5 or more is available across the registration window (no date restrictions).
URL:https://pacificmountain.ca/event/this-changes-everything-festival-of-biblical-storytelling/
LOCATION:BC
CATEGORIES:PMRC Events
ATTACH;FMTTYPE=image/png:https://pacificmountain.ca/wordpress2021/wp-content/uploads/This-Changes-Everything.png
END:VEVENT
BEGIN:VEVENT
DTSTART;TZID=America/Vancouver:20210413T100000
DTEND;TZID=America/Vancouver:20210413T120000
DTSTAMP:20260423T112207
CREATED:20210309T215734Z
LAST-MODIFIED:20210309T215734Z
UID:8206-1618308000-1618315200@pacificmountain.ca
SUMMARY:Renewing Leadership: Core\, Character\, Competence\, Call\, Community
DESCRIPTION:RENEWING LEADERSHIP FOR MINISTRY PERSONNEL IN THE PM AND CW REGIONAL COUNCILS\nThis multi-week program invites you to connect and reconnect with your core gifts and strengths\, to reflect on God’s call as you experience it now and align once again with the essential character you bring to your ministry leadership. Over the 6-week course you will meet online in large and small groups\, complete a 360 assessment (purposefully receiving feedback from a cross section of people who you respect and trust) culminating in a one-on-one coaching session. Upon finishing the Renewing Leadership process\, you will have a personal plan for moving forward with what has emerged in the course. This course is facilitated by Allison Rennie\, LeaderShift Director\, and LeaderWise.org colleagues Deborah Rundlett and Okokon Udo. Renewing Leadership is for Ministry Personnel in the Pacific Mountain and Chinook Winds Regional Councils only. Space is limited to 18. The $1100 actual cost per person is subsidized by LeaderShift to make this opportunity available at $550 per participant.
URL:https://pacificmountain.ca/event/renewing-leadership-core-character-competence-call-community/
LOCATION:BC
CATEGORIES:PMRC Events
ATTACH;FMTTYPE=image/png:https://pacificmountain.ca/wordpress2021/wp-content/uploads/Renewing-Leadership.png
END:VEVENT
BEGIN:VEVENT
DTSTART;TZID=America/Vancouver:20210414T100000
DTEND;TZID=America/Vancouver:20210414T120000
DTSTAMP:20260423T112207
CREATED:20210309T215003Z
LAST-MODIFIED:20210309T215003Z
UID:8203-1618394400-1618401600@pacificmountain.ca
SUMMARY:Deepening Pastoral Practice Amidst Continuing Pandemic Realities
DESCRIPTION:Deepening Pastoral Practice Amidst Continuing Pandemic Realities   with Dr Julie Clayton and Michael Collins \nThis four-week workshop equips you with a framework to assess and evaluate where you currently find yourself in pastoral practice. \nYou’ll determine what is needed to address the ongoing traumatic waves that impact pandemic-ridden congregations. \nSpecific attention will be given to understanding the complex nature of family systems and how they impact an individual\, a family unit\, and the larger congregational community. \nYou’ll be empowered to respond with deepening holistic healing strategies that are trauma-informed and trauma-oriented.
URL:https://pacificmountain.ca/event/deepening-pastoral-practice-amidst-continuing-pandemic-realities/
LOCATION:BC
CATEGORIES:PMRC Events
ATTACH;FMTTYPE=image/png:https://pacificmountain.ca/wordpress2021/wp-content/uploads/Pastoral-Practice.png
END:VEVENT
BEGIN:VEVENT
DTSTART;TZID=America/Vancouver:20210415T190000
DTEND;TZID=America/Vancouver:20210415T201500
DTSTAMP:20260423T112207
CREATED:20210218T173618Z
LAST-MODIFIED:20210218T173618Z
UID:8112-1618513200-1618517700@pacificmountain.ca
SUMMARY:Young Adult Book Study: Braiding Sweetgrass
DESCRIPTION:4-week study\, starting April 8
URL:https://pacificmountain.ca/event/young-adult-book-study-braiding-sweetgrass-2/
LOCATION:BC
CATEGORIES:PMRC Events
ATTACH;FMTTYPE=image/png:https://pacificmountain.ca/wordpress2021/wp-content/uploads/Sweetgrass3.png
END:VEVENT
BEGIN:VEVENT
DTSTART;TZID=America/Vancouver:20210421T130000
DTEND;TZID=America/Vancouver:20210421T143000
DTSTAMP:20260423T112207
CREATED:20210412T202319Z
LAST-MODIFIED:20240213T005005Z
UID:8311-1619010000-1619015400@pacificmountain.ca
SUMMARY:PMRC Townhall - this Wednesday\, with Guest Rev Gary Paterson!
DESCRIPTION:Click here for the recording of the meeting. \n\nA Place At The Table\nWednesday April 21\, 2021\n1pm PT/ 2pm MT\nWe’re coming together with Chinook Winds for a special Affirming Town Hall featuring former United Church of Canada Moderator\, Rev. Gary Paterson! \nGary will share theological reflections\, rooted contextually and in story\, on what it means to be Affirming\, working through the “Wesleyan Quadrilateral” of Scripture\, Tradition\, Reason and Experience. As we explore more about what it might mean to be ‘Affirming’\, join in faithful reflection alongside someone who has walked the Affirming journey in an intimate way for many decades. \n 
URL:https://pacificmountain.ca/event/pmrc-townhall-with-affirming-ministry-committee-guests/
LOCATION:BC
CATEGORIES:News,PMRC Events,Town Hall
ATTACH;FMTTYPE=image/png:https://pacificmountain.ca/wordpress2021/wp-content/uploads/FB-Post-Gary-Paterson-CWR-Town-Hall-1.png
END:VEVENT
BEGIN:VEVENT
DTSTART;TZID=America/Vancouver:20210422T190000
DTEND;TZID=America/Vancouver:20210422T201500
DTSTAMP:20260423T112207
CREATED:20210218T173750Z
LAST-MODIFIED:20210218T173750Z
UID:8114-1619118000-1619122500@pacificmountain.ca
SUMMARY:Young Adult Book Study: Braiding Sweetgrass
DESCRIPTION:4-week study\, starting April 8
URL:https://pacificmountain.ca/event/young-adult-book-study-braiding-sweetgrass-3/
LOCATION:BC
CATEGORIES:PMRC Events
ATTACH;FMTTYPE=image/png:https://pacificmountain.ca/wordpress2021/wp-content/uploads/Sweetgrass3.png
END:VEVENT
BEGIN:VEVENT
DTSTART;TZID=America/Vancouver:20210429T190000
DTEND;TZID=America/Vancouver:20210429T201500
DTSTAMP:20260423T112207
CREATED:20210218T173920Z
LAST-MODIFIED:20210218T173920Z
UID:8116-1619722800-1619727300@pacificmountain.ca
SUMMARY:Young Adult Book Study: Braiding Sweetgrass
DESCRIPTION:4-week study\, starting April 8
URL:https://pacificmountain.ca/event/young-adult-book-study-braiding-sweetgrass-4/
LOCATION:BC
CATEGORIES:PMRC Events
ATTACH;FMTTYPE=image/png:https://pacificmountain.ca/wordpress2021/wp-content/uploads/Sweetgrass3.png
END:VEVENT
END:VCALENDAR