BEGIN:VCALENDAR
VERSION:2.0
PRODID:-//Pacific Mountain Region - ECPv6.8.1//NONSGML v1.0//EN
CALSCALE:GREGORIAN
METHOD:PUBLISH
X-WR-CALNAME:Pacific Mountain Region
X-ORIGINAL-URL:https://pacificmountain.ca
X-WR-CALDESC:Events for Pacific Mountain Region
REFRESH-INTERVAL;VALUE=DURATION:PT1H
X-Robots-Tag:noindex
X-PUBLISHED-TTL:PT1H
BEGIN:VTIMEZONE
TZID:America/Vancouver
BEGIN:DAYLIGHT
TZOFFSETFROM:-0800
TZOFFSETTO:-0700
TZNAME:PDT
DTSTART:20200308T100000
END:DAYLIGHT
BEGIN:STANDARD
TZOFFSETFROM:-0700
TZOFFSETTO:-0800
TZNAME:PST
DTSTART:20201101T090000
END:STANDARD
END:VTIMEZONE
BEGIN:VEVENT
DTSTART;VALUE=DATE:20201016
DTEND;VALUE=DATE:20201018
DTSTAMP:20260424T194049
CREATED:20200922T183337Z
LAST-MODIFIED:20200922T183337Z
UID:7202-1602806400-1602979199@pacificmountain.ca
SUMMARY:2020 Annual General Meeting
DESCRIPTION:
URL:https://pacificmountain.ca/event/2020-annual-general-meeting/
CATEGORIES:PMRC Events
END:VEVENT
BEGIN:VEVENT
DTSTART;TZID=America/Vancouver:20201014T103000
DTEND;TZID=America/Vancouver:20201014T120000
DTSTAMP:20260424T194049
CREATED:20200825T190504Z
LAST-MODIFIED:20200825T190504Z
UID:7054-1602671400-1602676800@pacificmountain.ca
SUMMARY:Nourishing the Soul of the Preacher
DESCRIPTION:Each week we come to a text or theme and sit with it\, think about it\, work with it\, leave it alone\, struggle with it\, write it\, and finally dare speaking. \n6 weekly online sessions: Wednesdays September 23\, 30\, October 7\, 14\, 21\, 28 \nClick here for details.
URL:https://pacificmountain.ca/event/nourishing-the-soul-of-the-preacher-4/
CATEGORIES:PMRC Events
ATTACH;FMTTYPE=image/png:https://pacificmountain.ca/wordpress2021/wp-content/uploads/Nourishing-the-Soul.png
END:VEVENT
BEGIN:VEVENT
DTSTART;TZID=America/Vancouver:20201008T140000
DTEND;TZID=America/Vancouver:20201008T153000
DTSTAMP:20260424T194049
CREATED:20200929T161032Z
LAST-MODIFIED:20200929T161032Z
UID:7255-1602165600-1602171000@pacificmountain.ca
SUMMARY:PMRC Financial Townhall
DESCRIPTION:
URL:https://pacificmountain.ca/event/pmrc-financial-townhall/
CATEGORIES:PMRC Events
ATTACH;FMTTYPE=image/png:https://pacificmountain.ca/wordpress2021/wp-content/uploads/Leading-Beyond-the-Wilderness-14.png
END:VEVENT
BEGIN:VEVENT
DTSTART;TZID=America/Vancouver:20201007T130000
DTEND;TZID=America/Vancouver:20201007T143000
DTSTAMP:20260424T194049
CREATED:20201005T201230Z
LAST-MODIFIED:20201005T201230Z
UID:7283-1602075600-1602081000@pacificmountain.ca
SUMMARY:PMRC Townhall Meeting: Sisters in Spirit\, with Cheryl Bear
DESCRIPTION:Click here for the recording of this Townhall Meeting. \nPMRC Townhall Meeting\nOct 7\, 2020\, 1:00PM Pacific Time (US and Canada) \nMeeting ID: 977 9619 1476\nPassword: 046065 \nAll are welcome to attend the important townhall gathering\, with guest speaker Cheryl Bear. Cheryl will be hosted by Rev John Snow (Indigenous Minister)\, Rev Blair Odney (President) and Treena Duncan (Executive Minister). Cheryl is Community Minister at First United in Vancouver\, and will be talking about Sisters in Spirit Day (which was this past Sunday\, October 4th). \nCheryl is from Nadleh Whut’en First Nation\, is a respected voice and teacher on behalf of Canada’s Indigenous peoples and has traveled to over 600 Indigenous communities raising awareness and understanding of Indigenous issues. She is a founding board member of NAIITS\, an Indigenous learning community; an Associate Professor at Regent College; earned her Doctorate from The King’s University\, and Master of Divinity from Regent College. Her doctoral work presents an approach to First Nations ministry from the foundations of Indigenous worldview and values. Cheryl served two terms as a band councillor for her community of Nadleh Whut’en First Nation from 2014-2018\, is currently serving as a Strategic Associate as the Indigenous Relations Specialist with Canadian Baptist Ministries\, and is an award-winning singer/songwriter. \nYou can read about Sisters in Spirit origins here. \nYou can read about the Oct 4th Sisters in Spirit Day here.
URL:https://pacificmountain.ca/event/pmrc-townhall-meeting-sisters-in-spirit-with-cheryl-bear/
CATEGORIES:PMRC Events
ATTACH;FMTTYPE=image/png:https://pacificmountain.ca/wordpress2021/wp-content/uploads/Cheryl-Bear.png
END:VEVENT
BEGIN:VEVENT
DTSTART;TZID=America/Vancouver:20201007T103000
DTEND;TZID=America/Vancouver:20201007T123000
DTSTAMP:20260424T194049
CREATED:20200825T185257Z
LAST-MODIFIED:20200825T185257Z
UID:7052-1602066600-1602073800@pacificmountain.ca
SUMMARY:Nourishing the Soul of the Preacher
DESCRIPTION:Each week we come to a text or theme and sit with it\, think about it\, work with it\, leave it alone\, struggle with it\, write it\, and finally dare speaking. \n6 weekly online sessions: Wednesdays September 23\, 30\, October 7\, 14\, 21\, 28 \nClick here for details.
URL:https://pacificmountain.ca/event/nourishing-the-soul-of-the-preacher-3/
CATEGORIES:PMRC Events
ATTACH;FMTTYPE=image/png:https://pacificmountain.ca/wordpress2021/wp-content/uploads/Nourishing-the-Soul.png
END:VEVENT
BEGIN:VEVENT
DTSTART;TZID=America/Vancouver:20201006T103000
DTEND;TZID=America/Vancouver:20201006T120000
DTSTAMP:20260424T194049
CREATED:20200825T175856Z
LAST-MODIFIED:20200825T175856Z
UID:7036-1601980200-1601985600@pacificmountain.ca
SUMMARY:STEWARDSHIP BUZZ! 6 Steps to Take Right Now!
DESCRIPTION:This dedicated online time together will be packed with amazing information about how to inspire your people about Stewardship. You will learn the difference between “fund raising” and “stewardship” and how to define actual stewardship from scarcity culture. \nClick here for details.
URL:https://pacificmountain.ca/event/stewardship-buzz-6-steps-to-take-right-now-3/
CATEGORIES:PMRC Events
ATTACH;FMTTYPE=image/png:https://pacificmountain.ca/wordpress2021/wp-content/uploads/Stewardship-Buzz.png
END:VEVENT
BEGIN:VEVENT
DTSTART;TZID=America/Vancouver:20201004T130000
DTEND;TZID=America/Vancouver:20201004T160000
DTSTAMP:20260424T194049
CREATED:20200825T202659Z
LAST-MODIFIED:20200825T202659Z
UID:7064-1601816400-1601827200@pacificmountain.ca
SUMMARY:Break the Silence:  The Power of Active Witnessing
DESCRIPTION:Have you ever witnessed a racist incident but didn’t know what to say or do and felt conflicted and regretful about not responding? This workshop will help participants develop their “response-ability” or readiness to respond to such incidents. \nClick here for details.
URL:https://pacificmountain.ca/event/break-the-silence-the-power-of-active-witnessing-4/
CATEGORIES:PMRC Events
ATTACH;FMTTYPE=image/png:https://pacificmountain.ca/wordpress2021/wp-content/uploads/Breaking-the-Silence-Oct-4.png
END:VEVENT
BEGIN:VEVENT
DTSTART;TZID=America/Vancouver:20201001T183000
DTEND;TZID=America/Vancouver:20201001T210000
DTSTAMP:20260424T194049
CREATED:20200922T182302Z
LAST-MODIFIED:20200922T182302Z
UID:7199-1601577000-1601586000@pacificmountain.ca
SUMMARY:Confronting Whiteness\, with Anna Colina White
DESCRIPTION:Whether you are new to this journey or have been unpacking your White privilege for decades\, this workshop will help you develop personal skills for confronting systemic racism. \nLearn more about how we as white people can show up for each other and racialized people in our lives. \nWe will gain skills to support us in moving the dial on our allyship/accomplice work for justice as communities of faith. \nYou’ll have the chance to talk to other White folks about topics ranging from “How do I deal with my racist uncle?” to “What’s White culture?” to “Wait\, I’m a Settler?!” \nThe course comes out of decades of anti-racism work led by people of colour\, and a persistent ask for White folks to engage in our own work of confronting whiteness individually\, interpersonally\, and organizationally. \nClick here for details.
URL:https://pacificmountain.ca/event/confronting-whiteness-with-anna-colina-white/
CATEGORIES:PMRC Events
ATTACH;FMTTYPE=image/png:https://pacificmountain.ca/wordpress2021/wp-content/uploads/Confronting-Whiteness-Oct-1-2020.png
END:VEVENT
BEGIN:VEVENT
DTSTART;TZID=America/Vancouver:20200930T103000
DTEND;TZID=America/Vancouver:20200930T120000
DTSTAMP:20260424T194049
CREATED:20200825T184756Z
LAST-MODIFIED:20200825T184756Z
UID:7050-1601461800-1601467200@pacificmountain.ca
SUMMARY:Nourishing the Soul of the Preacher
DESCRIPTION:Each week we come to a text or theme and sit with it\, think about it\, work with it\, leave it alone\, struggle with it\, write it\, and finally dare speaking. \n6 weekly online sessions: Wednesdays September 23\, 30\, October 7\, 14\, 21\, 28 \nClick here for details.
URL:https://pacificmountain.ca/event/nourishing-the-soul-of-the-preacher-2/
CATEGORIES:PMRC Events
ATTACH;FMTTYPE=image/png:https://pacificmountain.ca/wordpress2021/wp-content/uploads/Nourishing-the-Soul.png
END:VEVENT
BEGIN:VEVENT
DTSTART;TZID=America/Vancouver:20200927T130000
DTEND;TZID=America/Vancouver:20200927T160000
DTSTAMP:20260424T194049
CREATED:20200825T202139Z
LAST-MODIFIED:20200825T202139Z
UID:7060-1601211600-1601222400@pacificmountain.ca
SUMMARY:Break the Silence:  The Power of Active Witnessing
DESCRIPTION:Have you ever witnessed a racist incident but didn’t know what to say or do and felt conflicted and regretful about not responding? This workshop will help participants develop their “response-ability” or readiness to respond to such incidents. \nClick here for details.
URL:https://pacificmountain.ca/event/break-the-silence-the-power-of-active-witnessing-3/
CATEGORIES:PMRC Events
ATTACH;FMTTYPE=image/png:https://pacificmountain.ca/wordpress2021/wp-content/uploads/Breaking-the-Silence-Sept-27.png
END:VEVENT
BEGIN:VEVENT
DTSTART;TZID=America/Vancouver:20200923T170000
DTEND;TZID=America/Vancouver:20200927T120000
DTSTAMP:20260424T194049
CREATED:20200825T203322Z
LAST-MODIFIED:20200825T203322Z
UID:7067-1600880400-1601208000@pacificmountain.ca
SUMMARY:Kootenay Faith Fest 2020
DESCRIPTION:Streaming to you from Knox United in Fernie BC\, Kootenay Faith Fest Small & Mighty is four days of intentional laughter\, learning\, connection and worship with United Church folk who call a small community and a small church home. \nClick here for details.
URL:https://pacificmountain.ca/event/kootenay-faith-fest-2020/
CATEGORIES:PMRC Events
ATTACH;FMTTYPE=image/png:https://pacificmountain.ca/wordpress2021/wp-content/uploads/KFF-2020.png
END:VEVENT
BEGIN:VEVENT
DTSTART;TZID=America/Vancouver:20200923T130000
DTEND;TZID=America/Vancouver:20200923T143000
DTSTAMP:20260424T194049
CREATED:20200908T210303Z
LAST-MODIFIED:20200908T210303Z
UID:7127-1600866000-1600871400@pacificmountain.ca
SUMMARY:Online Town Hall Conference\, with Treena and Blair
DESCRIPTION:Our next Online Townhall Conference is scheduled for Wednesday September 23\, from 1 – 2:30 pm.  Click here for the recording of the Zoom call. \nThis week we will be joined by our new General Secretary\, Rev. Michael Blair. He will talk to us about his current portfolio (Church in Mission) and his move to his new role. \n  \nThank you to everyone to came to be part of our previous Townhall Conferences.
URL:https://pacificmountain.ca/event/online-town-hall-conference-with-treena-and-blair-2/
CATEGORIES:PMRC Events
END:VEVENT
BEGIN:VEVENT
DTSTART;TZID=America/Vancouver:20200923T103000
DTEND;TZID=America/Vancouver:20200923T120000
DTSTAMP:20260424T194049
CREATED:20200825T184205Z
LAST-MODIFIED:20200825T184205Z
UID:7044-1600857000-1600862400@pacificmountain.ca
SUMMARY:Nourishing the Soul of the Preacher
DESCRIPTION:Each week we come to a text or theme and sit with it\, think about it\, work with it\, leave it alone\, struggle with it\, write it\, and finally dare speaking. \n6 weekly online sessions: Wednesdays September 23\, 30\, October 7\, 14\, 21\, 28 \nClick here for details.
URL:https://pacificmountain.ca/event/nourishing-the-soul-of-the-preacher/
CATEGORIES:PMRC Events
ATTACH;FMTTYPE=image/png:https://pacificmountain.ca/wordpress2021/wp-content/uploads/Nourishing-the-Soul.png
END:VEVENT
BEGIN:VEVENT
DTSTART;TZID=America/Vancouver:20200922T103000
DTEND;TZID=America/Vancouver:20200922T120000
DTSTAMP:20260424T194049
CREATED:20200825T175216Z
LAST-MODIFIED:20200825T175216Z
UID:7033-1600770600-1600776000@pacificmountain.ca
SUMMARY:STEWARDSHIP BUZZ! 6 Steps to Take Right Now!
DESCRIPTION:This dedicated online time together will be packed with amazing information about how to inspire your people about Stewardship. You will learn the difference between “fund raising” and “stewardship” and how to define actual stewardship from scarcity culture. \nClick here for details.
URL:https://pacificmountain.ca/event/stewardship-buzz-6-steps-to-take-right-now-2/
CATEGORIES:PMRC Events
ATTACH;FMTTYPE=image/png:https://pacificmountain.ca/wordpress2021/wp-content/uploads/Stewardship-Buzz.png
END:VEVENT
BEGIN:VEVENT
DTSTART;TZID=America/Vancouver:20200920T090000
DTEND;TZID=America/Vancouver:20200920T093000
DTSTAMP:20260424T194049
CREATED:20200904T170429Z
LAST-MODIFIED:20200904T170429Z
UID:7121-1600592400-1600594200@pacificmountain.ca
SUMMARY:Reboot Your Worship: Pandemic Edition\, with Dr Marcia McFee
DESCRIPTION:Are you looking for way to invigorate and refresh the worship services that you create each week? We hear that you are! We hope you’ll access this free 6-week webinar series from worship-arts leader\, Dr Marcia McFee. Called “Reboot Your Worship: Pandemic Edition”. LeaderShift is making this webinar opportunity available at no coast for every community of faith in the Pacific Mountain Regional Council. Amen! \nClick here for details.
URL:https://pacificmountain.ca/event/reboot-your-worship-pandemic-edition-with-dr-marcia-mcfee/
CATEGORIES:PMRC Events
ATTACH;FMTTYPE=image/png:https://pacificmountain.ca/wordpress2021/wp-content/uploads/Reboot-Worship.png
END:VEVENT
BEGIN:VEVENT
DTSTART;TZID=America/Vancouver:20200909T130000
DTEND;TZID=America/Vancouver:20200909T143000
DTSTAMP:20260424T194049
CREATED:20200908T204747Z
LAST-MODIFIED:20200908T204747Z
UID:7124-1599656400-1599661800@pacificmountain.ca
SUMMARY:Online Town Hall Conference\, with Treena and Blair
DESCRIPTION:Click here for the recording of this meeting. \nBelow is the Pandemic Continuity Plan from First United that you can use as a template.  [pdf-embedder url=”https://pacificmountain.ca/wordpress2021/wp-content/uploads/Pandemic-Continuity-Plan.pdf” title=”Pandemic Continuity Plan”] \nTreena will be joined by President Blair Odney\, and the meeting will feature Rev. Diane Strickland. Diane will be speaking with the title ‘Tired of COVID?’ and addressing the topic of COVID-19 fatigue. \nWe will also discuss ‘what to do if you have a COVID exposure in your building’. Rev Carmen Lansdowne of First United (Vancouver) will join us to share about First United’s experience of a staff member testing positive for COVID-19\, and share information provided by Coastal Health. \nThank you to everyone to came to be part of our previous Townhall Conferences.
URL:https://pacificmountain.ca/event/online-town-hall-conference-with-treena-and-blair/
CATEGORIES:PMRC Events
END:VEVENT
BEGIN:VEVENT
DTSTART;TZID=America/Vancouver:20200806T130000
DTEND;TZID=America/Vancouver:20200806T143000
DTSTAMP:20260424T194049
CREATED:20200622T224813Z
LAST-MODIFIED:20200622T224813Z
UID:6858-1596718800-1596724200@pacificmountain.ca
SUMMARY:Online Town Hall Conference with Trudi Rondou\, Senior Manager\, WorkSafeBC
DESCRIPTION:Click Here for the presentation slides from this Townhall. \nOur next Online Townhall Conference is scheduled for THURSDAY August 6th\, from 1 – 2:30 pm. \nWe are very pleased that Trudi Rondou\, in her role as Senior Manager with WorkSafeBC\, is able to join our early-August Townhall meeting. Communities of Faith and Ministries are still discerning best\, safest steps forward this summer and fall. Trudi will be able to answer questions and offer information that will help you\, in your setting\, to think through the requirements. \nPlease note that this Townhall is 1pm Pacific Daylight Time. \nOver the next while\, Pacific Mountain Regional Council Executive Minister\, Treena Duncan is hosting online Townhall Conferences via Zoom\, for all PMRC folk who would like to join for connection with executive leadership\, prayer and conversations\, with time to ask the questions you have. To join the Townhall Conference\, click on the link (you can join by audio only). If it’s your first Zoom experience\, the Zoom link will prompt you to download the App for accessing the meeting. \nThank you to everyone to came to be part of our previous Townhall Conferences. \n 
URL:https://pacificmountain.ca/event/online-town-hall-conference-with-treena-and-jay-10/
CATEGORIES:PMRC Events
ATTACH;FMTTYPE=image/png:https://pacificmountain.ca/wordpress2021/wp-content/uploads/Trudi-Rondou.png
END:VEVENT
BEGIN:VEVENT
DTSTART;TZID=America/Vancouver:20200715T093000
DTEND;TZID=America/Vancouver:20200715T120000
DTSTAMP:20260424T194049
CREATED:20200626T162106Z
LAST-MODIFIED:20200626T162106Z
UID:6901-1594805400-1594814400@pacificmountain.ca
SUMMARY:Confronting Whiteness: An Anti-Racism Workshop for White Folks
DESCRIPTION:Whether you are new to this journey or have been unpacking your White privilege for decades\, this workshop will help you develop personal skills for confronting systemic racism. \nLearn more about how we as white people can show up for each other and racialized people in our lives. \nWe will gain skills to support us in moving the dial on our allyship/accomplice work for justice as communities of faith. \nYou’ll have the chance to talk to other White folks about topics ranging from “How do I deal with my racist uncle?” to “What’s White culture?” to “Wait\, I’m a Settler?!” \nThe course comes out of decades of anti-racism work led by people of colour\, and a persistent ask for White folks to engage in our own work of confronting whiteness individually\, interpersonally\, and organizationally.
URL:https://pacificmountain.ca/event/confronting-whiteness-an-anti-racism-workshop-for-white-folks-2/
CATEGORIES:PMRC Events
ATTACH;FMTTYPE=image/png:https://pacificmountain.ca/wordpress2021/wp-content/uploads/CW-7-15.png
END:VEVENT
BEGIN:VEVENT
DTSTART;TZID=America/Vancouver:20200712T140000
DTEND;TZID=America/Vancouver:20200712T163000
DTSTAMP:20260424T194049
CREATED:20200626T161648Z
LAST-MODIFIED:20200626T161648Z
UID:6898-1594562400-1594571400@pacificmountain.ca
SUMMARY:Confronting Whiteness: An Anti-Racism Workshop for White Folks
DESCRIPTION:Whether you are new to this journey or have been unpacking your White privilege for decades\, this workshop will help you develop personal skills for confronting systemic racism. \nLearn more about how we as white people can show up for each other and racialized people in our lives. \nWe will gain skills to support us in moving the dial on our allyship/accomplice work for justice as communities of faith. \nYou’ll have the chance to talk to other White folks about topics ranging from “How do I deal with my racist uncle?” to “What’s White culture?” to “Wait\, I’m a Settler?!” \nThe course comes out of decades of anti-racism work led by people of colour\, and a persistent ask for White folks to engage in our own work of confronting whiteness individually\, interpersonally\, and organizationally.
URL:https://pacificmountain.ca/event/confronting-whiteness-an-anti-racism-workshop-for-white-folks/
CATEGORIES:PMRC Events
ATTACH;FMTTYPE=image/png:https://pacificmountain.ca/wordpress2021/wp-content/uploads/CW-7-12.png
END:VEVENT
BEGIN:VEVENT
DTSTART;TZID=America/Vancouver:20200709T100000
DTEND;TZID=America/Vancouver:20200709T113000
DTSTAMP:20260424T194049
CREATED:20200601T162617Z
LAST-MODIFIED:20200601T162617Z
UID:6695-1594288800-1594294200@pacificmountain.ca
SUMMARY:Faith Leaders For Such a Time as This - Thursday Cohort
DESCRIPTION:4-week course\, begins June 18
URL:https://pacificmountain.ca/event/faith-leaders-for-such-a-time-as-this-thursday-cohort-8/
CATEGORIES:PMRC Events
ATTACH;FMTTYPE=image/png:https://pacificmountain.ca/wordpress2021/wp-content/uploads/Faith-Leaders-June-16.png
END:VEVENT
BEGIN:VEVENT
DTSTART;TZID=America/Vancouver:20200708T130000
DTEND;TZID=America/Vancouver:20200708T143000
DTSTAMP:20260424T194049
CREATED:20200622T172607Z
LAST-MODIFIED:20200622T172607Z
UID:6849-1594213200-1594218600@pacificmountain.ca
SUMMARY:Townhall with Guest President Rev Blair Odney
DESCRIPTION:This week President Rev Blair Odney joins Treena Duncan at the PMRC Townhall. The mantel of President was passed from Rev Jay Olson to Blair at the Saturday June 27th in the Celebration of Ministry Service (link to view the recording of the worship service is here). Treena will moderate the Townhall and Blair will lead worship and engage in conversation about the work of the Executive in the coming year. Please join in welcoming Blair at this special Townhall\, if you can! \nClick here to see the recording of the Townhall. \nTopic: PMRC Townhall meeting with guest President Rev. Blair Odney\nTime: Wednesday July 8\, 2020 1:00pm Pacific Time (US and Canada) \nThank you to everyone to came to be part of our previous Townhall Conferences.
URL:https://pacificmountain.ca/event/online-town-hall-conference-with-treena-and-jay-9/
CATEGORIES:PMRC Events
END:VEVENT
BEGIN:VEVENT
DTSTART;TZID=America/Vancouver:20200708T093000
DTEND;TZID=America/Vancouver:20200708T123000
DTSTAMP:20260424T194049
CREATED:20200623T161425Z
LAST-MODIFIED:20200623T161425Z
UID:6880-1594200600-1594211400@pacificmountain.ca
SUMMARY:Break the Silence: The Power of Active Witnessing
DESCRIPTION:Online Workshop \nHave you ever witnessed a racist incident but didn’t know what to say or do and felt conflicted and regretful about not responding? This workshop will help participants develop their “response-ability” or readiness to respond to such incidents. \nThe first part of the session engages participants in experiential learning activities and an understanding of the theoretical underpinnings of prejudice\, discrimination and oppression. The second part involves learning a wide range of verbal and behavioral responses when someone is being victimized by an offensive and disrespectful remark or inequitable treatment. \nParticipants will shift from passive bystanders to active witnesses and will feel more equipped and empowered to respond to racism on an individual basis. Together\, we can break the silence and make an ethical commitment to collectively fight prejudice\, discrimination and oppression of any form in society.
URL:https://pacificmountain.ca/event/break-the-silence-the-power-of-active-witnessing-2/
CATEGORIES:PMRC Events
ATTACH;FMTTYPE=image/png:https://pacificmountain.ca/wordpress2021/wp-content/uploads/Break-the-Silence.png
END:VEVENT
BEGIN:VEVENT
DTSTART;TZID=America/Vancouver:20200707T100000
DTEND;TZID=America/Vancouver:20200707T113000
DTSTAMP:20260424T194049
CREATED:20200601T161152Z
LAST-MODIFIED:20200601T161152Z
UID:6687-1594116000-1594121400@pacificmountain.ca
SUMMARY:Faith Leaders For Such a Time as This - Tuesday Cohort
DESCRIPTION:4-week course\, begins June 16
URL:https://pacificmountain.ca/event/faith-leaders-for-such-a-time-as-this-tuesday-cohort-8/
CATEGORIES:PMRC Events
ATTACH;FMTTYPE=image/png:https://pacificmountain.ca/wordpress2021/wp-content/uploads/Faith-Leaders-June-16.png
END:VEVENT
BEGIN:VEVENT
DTSTART;TZID=America/Vancouver:20200702T130000
DTEND;TZID=America/Vancouver:20200702T160000
DTSTAMP:20260424T194049
CREATED:20200623T161105Z
LAST-MODIFIED:20200623T161105Z
UID:6875-1593694800-1593705600@pacificmountain.ca
SUMMARY:Break the Silence:  The Power of Active Witnessing
DESCRIPTION:Online Workshop \nHave you ever witnessed a racist incident but didn’t know what to say or do and felt conflicted and regretful about not responding? This workshop will help participants develop their “response-ability” or readiness to respond to such incidents. \nThe first part of the session engages participants in experiential learning activities and an understanding of the theoretical underpinnings of prejudice\, discrimination and oppression. The second part involves learning a wide range of verbal and behavioral responses when someone is being victimized by an offensive and disrespectful remark or inequitable treatment. \nParticipants will shift from passive bystanders to active witnesses and will feel more equipped and empowered to respond to racism on an individual basis. Together\, we can break the silence and make an ethical commitment to collectively fight prejudice\, discrimination and oppression of any form in society.
URL:https://pacificmountain.ca/event/break-the-silence-the-power-of-active-witnessing/
CATEGORIES:PMRC Events
ATTACH;FMTTYPE=image/png:https://pacificmountain.ca/wordpress2021/wp-content/uploads/Break-the-Silence.png
END:VEVENT
BEGIN:VEVENT
DTSTART;TZID=America/Vancouver:20200702T100000
DTEND;TZID=America/Vancouver:20200702T113000
DTSTAMP:20260424T194049
CREATED:20200601T162436Z
LAST-MODIFIED:20200601T162436Z
UID:6693-1593684000-1593689400@pacificmountain.ca
SUMMARY:Faith Leaders For Such a Time as This - Thursday Cohort
DESCRIPTION:4-week course\, begins June 18
URL:https://pacificmountain.ca/event/faith-leaders-for-such-a-time-as-this-thursday-cohort-7/
CATEGORIES:PMRC Events
ATTACH;FMTTYPE=image/png:https://pacificmountain.ca/wordpress2021/wp-content/uploads/Faith-Leaders-June-16.png
END:VEVENT
BEGIN:VEVENT
DTSTART;TZID=America/Vancouver:20200630T100000
DTEND;TZID=America/Vancouver:20200630T113000
DTSTAMP:20260424T194049
CREATED:20200601T161012Z
LAST-MODIFIED:20200601T161012Z
UID:6685-1593511200-1593516600@pacificmountain.ca
SUMMARY:Faith Leaders For Such a Time as This - Tuesday Cohort
DESCRIPTION:4-week course\, begins June 16
URL:https://pacificmountain.ca/event/faith-leaders-for-such-a-time-as-this-tuesday-cohort-7/
CATEGORIES:PMRC Events
ATTACH;FMTTYPE=image/png:https://pacificmountain.ca/wordpress2021/wp-content/uploads/Faith-Leaders-June-16.png
END:VEVENT
BEGIN:VEVENT
DTSTART;TZID=America/Vancouver:20200625T100000
DTEND;TZID=America/Vancouver:20200625T113000
DTSTAMP:20260424T194049
CREATED:20200601T162201Z
LAST-MODIFIED:20200601T162201Z
UID:6691-1593079200-1593084600@pacificmountain.ca
SUMMARY:Faith Leaders For Such a Time as This - Thursday Cohort
DESCRIPTION:4-week course\, begins June 18
URL:https://pacificmountain.ca/event/faith-leaders-for-such-a-time-as-this-thursday-cohort-6/
CATEGORIES:PMRC Events
ATTACH;FMTTYPE=image/png:https://pacificmountain.ca/wordpress2021/wp-content/uploads/Faith-Leaders-June-16.png
END:VEVENT
BEGIN:VEVENT
DTSTART;TZID=America/Vancouver:20200624T130000
DTEND;TZID=America/Vancouver:20200624T143000
DTSTAMP:20260424T194049
CREATED:20200526T171718Z
LAST-MODIFIED:20200526T171718Z
UID:6663-1593003600-1593009000@pacificmountain.ca
SUMMARY:Online Town Hall Conference\, with Treena and Jay
DESCRIPTION:Our next Online Townhall Conference is scheduled for Wednesday June 24th\, from 1 – 2:30 pm\, with Treena\, Jay\, and this week’s Townhall guest\, Rev. Janet Gear. \nMany folks across our regional council have experienced Janet’s work of the Theological Banquet – exploring her research-based information\, articulating the ways different people express and connect with God and the teachings of Jesus (theologies). At the Townhall\, Janet will focus specifically on “Missing Church – Supporting People of Faith during COVID\, through the Lens of Theological Diversity”. Our time with Janet this Wednesday will be nourishing\, nurturing\, engaging and inspiring. \nOver the next while\, Pacific Mountain Regional Council Executive Minister\, Treena Duncan is hosting online Townhall Conferences via Zoom\, with President Rev Jay Olson\, for all PMRC folk who would like to join for connection with executive leadership\, prayer and conversations\, with time to ask the questions you have. To join the Townhall Conference\, click on the link (you can join by audio only). If it’s your first Zoom experience\, the Zoom link will prompt you to download the App for accessing the meeting. \nThank you to everyone to came to be part of our previous Townhall Conferences.
URL:https://pacificmountain.ca/event/online-town-hall-conference-with-treena-and-jay-8/
ATTACH;FMTTYPE=image/jpeg:https://pacificmountain.ca/wordpress2021/wp-content/uploads/Treena-leaning-in-e1584645027233.jpg
END:VEVENT
BEGIN:VEVENT
DTSTART;TZID=America/Vancouver:20200624T100000
DTEND;TZID=America/Vancouver:20200624T113000
DTSTAMP:20260424T194049
CREATED:20200424T222844Z
LAST-MODIFIED:20200424T222844Z
UID:6544-1592992800-1592998200@pacificmountain.ca
SUMMARY:Transforming Pastoral Care Amidst COVID-19 - Wednesday Cohort
DESCRIPTION:8-week course\, begins May 6
URL:https://pacificmountain.ca/event/transforming-pastoral-care-amidst-covid-19-wednesday-cohort-8/
CATEGORIES:PMRC Events
ATTACH;FMTTYPE=image/png:https://pacificmountain.ca/wordpress2021/wp-content/uploads/Transforming-Pastoral-Care.png
END:VEVENT
BEGIN:VEVENT
DTSTART;TZID=America/Vancouver:20200623T100000
DTEND;TZID=America/Vancouver:20200623T113000
DTSTAMP:20260424T194049
CREATED:20200601T160742Z
LAST-MODIFIED:20200601T160742Z
UID:6682-1592906400-1592911800@pacificmountain.ca
SUMMARY:Faith Leaders For Such a Time as This - Tuesday Cohort
DESCRIPTION:4-week course\, begins June 16
URL:https://pacificmountain.ca/event/faith-leaders-for-such-a-time-as-this-tuesday-cohort-6/
CATEGORIES:PMRC Events
ATTACH;FMTTYPE=image/png:https://pacificmountain.ca/wordpress2021/wp-content/uploads/Faith-Leaders-June-16.png
END:VEVENT
END:VCALENDAR