BEGIN:VCALENDAR
VERSION:2.0
PRODID:-//Pacific Mountain Region - ECPv6.8.1//NONSGML v1.0//EN
CALSCALE:GREGORIAN
METHOD:PUBLISH
X-WR-CALNAME:Pacific Mountain Region
X-ORIGINAL-URL:https://pacificmountain.ca
X-WR-CALDESC:Events for Pacific Mountain Region
REFRESH-INTERVAL;VALUE=DURATION:PT1H
X-Robots-Tag:noindex
X-PUBLISHED-TTL:PT1H
BEGIN:VTIMEZONE
TZID:America/Vancouver
BEGIN:DAYLIGHT
TZOFFSETFROM:-0800
TZOFFSETTO:-0700
TZNAME:PDT
DTSTART:20200308T100000
END:DAYLIGHT
BEGIN:STANDARD
TZOFFSETFROM:-0700
TZOFFSETTO:-0800
TZNAME:PST
DTSTART:20201101T090000
END:STANDARD
END:VTIMEZONE
BEGIN:VEVENT
DTSTART;TZID=America/Vancouver:20201205T133000
DTEND;TZID=America/Vancouver:20201205T150000
DTSTAMP:20260425T044455
CREATED:20201001T163018Z
LAST-MODIFIED:20201001T163018Z
UID:7260-1607175000-1607180400@pacificmountain.ca
SUMMARY:Postmodern Prophets: 4 Windows on our World with Amir Hussain
DESCRIPTION:Prophets tell us what is up ahead\, bring bold ideas\, and stay connected to the Divine so they speak from the heart. In this 4 part series\, Postmodern Prophets: 4 Windows on our World\, some of our best post-modern prophets share what is on their hearts and minds to inspire\, challenge and intrigue us. Preachers\, teachers\, and rabble rousers welcome! \nAmir Hussain\, a Canadian Muslim\, is Chair and Professor of Theological Studies at Loyola Marymount University\, the Jesuit university in Los Angeles. He teaches courses on religion\, with a focus on contemporary Muslim societies in North America. Amir has a long involvement with the United Church of Canada. He is an adherent member of Trinity – St. Paul’s in Toronto\, and most recently taught an online course this summer at the Naramata Centre. \nClick here for more information.
URL:https://pacificmountain.ca/event/postmodern-prophets-4-windows-on-our-word-with-amir-hussain/
CATEGORIES:PMRC Events
ATTACH;FMTTYPE=image/png:https://pacificmountain.ca/wordpress2021/wp-content/uploads/Postmodern-Prophets-Amir-Hussain-title.png
END:VEVENT
BEGIN:VEVENT
DTSTART;TZID=America/Vancouver:20201124T093000
DTEND;TZID=America/Vancouver:20201124T110000
DTSTAMP:20260425T044455
CREATED:20201028T161951Z
LAST-MODIFIED:20201028T161951Z
UID:7434-1606210200-1606215600@pacificmountain.ca
SUMMARY:Let Go: Leaning into the Future without Fear with Matt Miofsky
DESCRIPTION:Three-week seminar\, starting November 10
URL:https://pacificmountain.ca/event/let-go-leaning-into-the-future-without-fear-with-matt-miofsky-3/
CATEGORIES:PMRC Events
ATTACH;FMTTYPE=image/png:https://pacificmountain.ca/wordpress2021/wp-content/uploads/Let-Go-Matt-Miofsky-Nov-2020.png
END:VEVENT
BEGIN:VEVENT
DTSTART;TZID=America/Vancouver:20201122T133000
DTEND;TZID=America/Vancouver:20201122T160000
DTSTAMP:20260425T044455
CREATED:20201022T183206Z
LAST-MODIFIED:20201022T183206Z
UID:7400-1606051800-1606060800@pacificmountain.ca
SUMMARY:Developing Online Small Group Leadership Skills\, with Rev. Rhian Walker
DESCRIPTION:Small groups are places of depth and connection in our communities of faith. But now that we aren’t meeting face to face\, how do we build relationships and intimacy for learning when we are staring at screens? In this short workshop\, we will explore how to create engaging small groups for an online format.  Material covered will include how to create a format that builds relationships\, exercises and techniques to try\, how to manage pacing\, and how to make Zoom work for you (instead of against you).
URL:https://pacificmountain.ca/event/developing-online-small-group-leadership-skills-with-rev-rhian-walker/
CATEGORIES:PMRC Events
ATTACH;FMTTYPE=image/png:https://pacificmountain.ca/wordpress2021/wp-content/uploads/DEVELOPING-ONLINE.png
END:VEVENT
BEGIN:VEVENT
DTSTART;TZID=America/Vancouver:20201120T093000
DTEND;TZID=America/Vancouver:20201120T123000
DTSTAMP:20260425T044455
CREATED:20201022T182608Z
LAST-MODIFIED:20201022T182608Z
UID:7397-1605864600-1605875400@pacificmountain.ca
SUMMARY:Confronting Whiteness\, with Anna Colina White
DESCRIPTION:Whether you are new to this journey or have been unpacking your White privilege for decades\, this workshop will help you develop personal skills for confronting systemic racism. \nLearn more about how we as white people can show up for each other and racialized people in our lives. \nWe will gain skills to support us in moving the dial on our allyship/accomplice work for justice as communities of faith. \nYou’ll have the chance to talk to other White folks about topics ranging from “How do I deal with my racist uncle?” to “What’s White culture?” to “Wait\, I’m a Settler?!” \nThe course comes out of decades of anti-racism work led by people of colour\, and a persistent ask for White folks to engage in our own work of confronting whiteness individually\, interpersonally\, and organizationally.
URL:https://pacificmountain.ca/event/confronting-whiteness-with-anna-colina-white-3/
CATEGORIES:PMRC Events
ATTACH;FMTTYPE=image/png:https://pacificmountain.ca/wordpress2021/wp-content/uploads/Confronting-Whiteness-Nov-20.png
END:VEVENT
BEGIN:VEVENT
DTSTART;TZID=America/Vancouver:20201118T130000
DTEND;TZID=America/Vancouver:20201118T143000
DTSTAMP:20260425T044455
CREATED:20201102T175930Z
LAST-MODIFIED:20201102T175930Z
UID:7451-1605704400-1605709800@pacificmountain.ca
SUMMARY:Townhall Meeting with Special Guest Jason Byassee
DESCRIPTION:Nov 18 Townhall: with Guest Jason Byassee \nTreena and Blair will be joined by Rev. Dr. Jason Byassee\, who teaches preaching at the Vancouver School of Theology. Jason will present on his forthcoming book\, Northern Lights: Resurrecting Church in the North of England. It’s about growing congregations in places where churches purportedly ‘can’t’ grow. Some folks will know of Jason’s other books\, and particularly his work with Matt Miosky in ‘8 Virtues of Rapidly Growing Churches‘. Jason just spoke with the Chinook Winds townhall at the end of October\, and it was fabulous. We’re excited Jason can join PMRC’s townhall this November. \n  \nClick here for a recording of the Zoom Meeting \n 
URL:https://pacificmountain.ca/event/townhall-meeting-with-treena-duncan/
CATEGORIES:PMRC Events
ATTACH;FMTTYPE=image/jpeg:https://pacificmountain.ca/wordpress2021/wp-content/uploads/Jason-Byassee.jpg
END:VEVENT
BEGIN:VEVENT
DTSTART;TZID=America/Vancouver:20201117T093000
DTEND;TZID=America/Vancouver:20201117T110000
DTSTAMP:20260425T044455
CREATED:20201028T161430Z
LAST-MODIFIED:20201028T161430Z
UID:7432-1605605400-1605610800@pacificmountain.ca
SUMMARY:Let Go: Leaning into the Future without Fear with Matt Miofsky
DESCRIPTION:Three-week seminar\, starting November 10
URL:https://pacificmountain.ca/event/let-go-leaning-into-the-future-without-fear-with-matt-miofsky-2/
CATEGORIES:PMRC Events
ATTACH;FMTTYPE=image/png:https://pacificmountain.ca/wordpress2021/wp-content/uploads/Let-Go-Matt-Miofsky-Nov-2020.png
END:VEVENT
BEGIN:VEVENT
DTSTART;TZID=America/Vancouver:20201115T120000
DTEND;TZID=America/Vancouver:20201115T160000
DTSTAMP:20260425T044455
CREATED:20201022T181857Z
LAST-MODIFIED:20201022T181857Z
UID:7394-1605441600-1605456000@pacificmountain.ca
SUMMARY:21 Things You May Not Know About the Indian Act\, with Bob Joseph
DESCRIPTION:This is a launch event for a LeaderShift book study to help broaden our individual and communal knowledge base across the Regional Council\, about the legislation that shapes Indigenous lives today. As a church we have committed to implementing the recommendations of the Truth and Reconciliation Commission – but how complete is your knowledge about the Indian Act itself? Since 1876 the Indian Act has dictated and constrained the lives of Indigenous Peoples. Deeper awareness of the legacy of the Indian Act will contribute to our collective capacity to pursue true reconciliation.
URL:https://pacificmountain.ca/event/21-things-you-may-not-know-about-the-indian-act-with-bob-joseph/
CATEGORIES:PMRC Events
ATTACH;FMTTYPE=image/png:https://pacificmountain.ca/wordpress2021/wp-content/uploads/square-21-things.png
END:VEVENT
BEGIN:VEVENT
DTSTART;TZID=America/Vancouver:20201110T093000
DTEND;TZID=America/Vancouver:20201110T110000
DTSTAMP:20260425T044455
CREATED:20201022T181450Z
LAST-MODIFIED:20201022T181450Z
UID:7391-1605000600-1605006000@pacificmountain.ca
SUMMARY:Let Go: Leaning into the Future without Fear\, with Matt Miofsky
DESCRIPTION:If you are a member or leader in the United Church of Canada\, you are experiencing familiar structures\, expectations\, and habits changing as we face massive shifts in our church and social and political orders. Pandemic\, elections\, virtual church – you can imagine roaming through the unknown\, trying on different approaches. and searching for ideas to orient yourself. Where are we? Who are we? God is calling us to unfamiliar and unknown territory. Join Matt Miofsky\, lead pastor of The Gathering to explore together God’s call to trust in a future we cannot fully see — and to let go even more than we thought possible to rest in that trust.
URL:https://pacificmountain.ca/event/let-go-leaning-into-the-future-without-fear-with-matt-miofsky/
CATEGORIES:PMRC Events
ATTACH;FMTTYPE=image/png:https://pacificmountain.ca/wordpress2021/wp-content/uploads/Let-Go-Matt-Miofsky-Nov-2020.png
END:VEVENT
BEGIN:VEVENT
DTSTART;TZID=America/Vancouver:20201107T133000
DTEND;TZID=America/Vancouver:20201107T150000
DTSTAMP:20260425T044455
CREATED:20200922T201316Z
LAST-MODIFIED:20200922T201316Z
UID:7215-1604755800-1604761200@pacificmountain.ca
SUMMARY:Postmodern Prophets: 4 Windows on our World\, with Emily Scott
DESCRIPTION:It takes guts to do ministry\, to be resilient in facing the challenges and suffering of the world we serve\, and courage to try to do something about it. Emily M D Scott knows all about that in her work as a church planter and founder of St Lydia’s Dinner church\, which spanned a dinner church movement across N. America. Join Emily as she speaks from her book For all who Hunger: Communion in this shattered world on the topic of resilience (and how we might bring more of it into the world). \nProphets tell us what is up ahead\, bring bold ideas\, and stay connected to the Divine so they speak from the heart. In this 4 part series\, Postmodern Prophets: 4 Windows on our World\, some of our best post-modern prophets share what is on their hearts and minds to inspire\, challenge and intrigue us. Preachers\, teachers\, and rabble rousers welcome! \nClick here for more informaton.
URL:https://pacificmountain.ca/event/postmodern-prophets-4-windows-on-our-word-with-emily-scott/
CATEGORIES:PMRC Events
ATTACH;FMTTYPE=image/png:https://pacificmountain.ca/wordpress2021/wp-content/uploads/Postmodern-Prophets-Emily-Scott-title.png
END:VEVENT
BEGIN:VEVENT
DTSTART;TZID=America/Vancouver:20201104T130000
DTEND;TZID=America/Vancouver:20201104T143000
DTSTAMP:20260425T044455
CREATED:20201102T175315Z
LAST-MODIFIED:20201102T175315Z
UID:7447-1604494800-1604500200@pacificmountain.ca
SUMMARY:Townhall Meeting with Treena Duncan and Rev. Blair Odney
DESCRIPTION:Nov 4 Townhall: Cross-PMRC Check-in and Resource Sharing \nJoin Treena and Blair for a conversation with one another\, about what we have learned during COVID that might inform future ministry\, share what’s working for your setting so that others may learn\, and look ahead to strategies and ideas for Christmas season and worship times. \nClick Here for the recording of the Zoom meeting. \n 
URL:https://pacificmountain.ca/event/townhall-meeting-with-treena-duncan-and-special-rev-dr-guest-jason-byassee/
CATEGORIES:PMRC Events
ATTACH;FMTTYPE=image/jpeg:https://pacificmountain.ca/wordpress2021/wp-content/uploads/Zoom-Group.jpg
END:VEVENT
BEGIN:VEVENT
DTSTART;TZID=America/Vancouver:20201103T103000
DTEND;TZID=America/Vancouver:20201103T120000
DTSTAMP:20260425T044455
CREATED:20200825T181114Z
LAST-MODIFIED:20200825T181114Z
UID:7041-1604399400-1604404800@pacificmountain.ca
SUMMARY:STEWARDSHIP BUZZ! 6 Steps to Take Right Now!
DESCRIPTION:This dedicated online time together will be packed with amazing information about how to inspire your people about Stewardship. You will learn the difference between “fund raising” and “stewardship” and how to define actual stewardship from scarcity culture. \nClick here for details.
URL:https://pacificmountain.ca/event/stewardship-buzz-6-steps-to-take-right-now-5/
CATEGORIES:PMRC Events
ATTACH;FMTTYPE=image/png:https://pacificmountain.ca/wordpress2021/wp-content/uploads/Stewardship-Buzz.png
END:VEVENT
BEGIN:VEVENT
DTSTART;TZID=America/Vancouver:20201029T130000
DTEND;TZID=America/Vancouver:20201029T143000
DTSTAMP:20260425T044455
CREATED:20201026T175924Z
LAST-MODIFIED:20201026T175924Z
UID:7428-1603976400-1603981800@pacificmountain.ca
SUMMARY:Special Information Townhall: Palestinian Network\, with Treena Duncan and Guest Rev. Keith Simmonds
DESCRIPTION:Special Information Townhall: Palestinian Network\, with Treena Duncan and Guest Rev. Keith Simmonds\, former human rights observer in Palestine \nRev. Keith Simmonds served as an Ecumenical Accompanier in Palestine and Israel from January through March of this year\, where he witnessed and reported on human rights violations carried out upon Palestinian Children in Occupied Palestine. \nClick here for Keith’s presentation. \nClick here for the discussion afterwards. \n 
URL:https://pacificmountain.ca/event/special-information-townhall-palestinian-network-with-treena-duncan-and-guest-rev-keith-simmonds/
CATEGORIES:PMRC Events
ATTACH;FMTTYPE=image/png:https://pacificmountain.ca/wordpress2021/wp-content/uploads/PalNet-Logo.png
END:VEVENT
BEGIN:VEVENT
DTSTART;TZID=America/Vancouver:20201028T103000
DTEND;TZID=America/Vancouver:20201028T120000
DTSTAMP:20260425T044455
CREATED:20200825T201520Z
LAST-MODIFIED:20200825T201520Z
UID:7058-1603881000-1603886400@pacificmountain.ca
SUMMARY:Nourishing the Soul of the Preacher
DESCRIPTION:Each week we come to a text or theme and sit with it\, think about it\, work with it\, leave it alone\, struggle with it\, write it\, and finally dare speaking. \n6 weekly online sessions: Wednesdays September 23\, 30\, October 7\, 14\, 21\, 28 \nClick here for details.
URL:https://pacificmountain.ca/event/nourishing-the-soul-of-the-preacher-6/
CATEGORIES:PMRC Events
ATTACH;FMTTYPE=image/png:https://pacificmountain.ca/wordpress2021/wp-content/uploads/Nourishing-the-Soul.png
END:VEVENT
BEGIN:VEVENT
DTSTART;TZID=America/Vancouver:20201025T133000
DTEND;TZID=America/Vancouver:20201025T163000
DTSTAMP:20260425T044455
CREATED:20201001T164942Z
LAST-MODIFIED:20201001T164942Z
UID:7267-1603632600-1603643400@pacificmountain.ca
SUMMARY:Confronting Whiteness\, with Anna Colina White
DESCRIPTION:Whether you are new to this journey or have been unpacking your White privilege for decades\, this workshop will help you develop personal skills for confronting systemic racism. \nLearn more about how we as white people can show up for each other and racialized people in our lives. \nWe will gain skills to support us in moving the dial on our allyship/accomplice work for justice as communities of faith. \nYou’ll have the chance to talk to other White folks about topics ranging from “How do I deal with my racist uncle?” to “What’s White culture?” to “Wait\, I’m a Settler?!” \nThe course comes out of decades of anti-racism work led by people of colour\, and a persistent ask for White folks to engage in our own work of confronting whiteness individually\, interpersonally\, and organizationally. \nClick here for more information.
URL:https://pacificmountain.ca/event/confronting-whiteness-with-anna-colina-white-2/
CATEGORIES:PMRC Events
ATTACH;FMTTYPE=image/png:https://pacificmountain.ca/wordpress2021/wp-content/uploads/ConfrontingWhitenessFall2020IG1.png
END:VEVENT
BEGIN:VEVENT
DTSTART;VALUE=DATE:20201023
DTEND;VALUE=DATE:20201026
DTSTAMP:20260425T044455
CREATED:20200416T155625Z
LAST-MODIFIED:20200416T155625Z
UID:6462-1603411200-1603670399@pacificmountain.ca
SUMMARY:Imagine! a Children's Retreat - Island
DESCRIPTION:Save the Date
URL:https://pacificmountain.ca/event/imagine-a-childrens-retreat-island/
LOCATION:Camp Pringle\, 2520 W Shawnigan Lake Rd\, Shawnigan Lake\, BC\, V0R 2W3\, Canada
CATEGORIES:PMRC Events
ATTACH;FMTTYPE=image/png:https://pacificmountain.ca/wordpress2021/wp-content/uploads/Imagine-October.png
END:VEVENT
BEGIN:VEVENT
DTSTART;TZID=America/Vancouver:20201021T103000
DTEND;TZID=America/Vancouver:20201021T120000
DTSTAMP:20260425T044455
CREATED:20200825T201229Z
LAST-MODIFIED:20200825T201229Z
UID:7056-1603276200-1603281600@pacificmountain.ca
SUMMARY:Nourishing the Soul of the Preacher
DESCRIPTION:Each week we come to a text or theme and sit with it\, think about it\, work with it\, leave it alone\, struggle with it\, write it\, and finally dare speaking. \n6 weekly online sessions: Wednesdays September 23\, 30\, October 7\, 14\, 21\, 28 \nClick here for details.
URL:https://pacificmountain.ca/event/nourishing-the-soul-of-the-preacher-5/
CATEGORIES:PMRC Events
ATTACH;FMTTYPE=image/png:https://pacificmountain.ca/wordpress2021/wp-content/uploads/Nourishing-the-Soul.png
END:VEVENT
BEGIN:VEVENT
DTSTART;TZID=America/Vancouver:20201020T103000
DTEND;TZID=America/Vancouver:20201020T120000
DTSTAMP:20260425T044455
CREATED:20200825T180353Z
LAST-MODIFIED:20200825T180353Z
UID:7039-1603189800-1603195200@pacificmountain.ca
SUMMARY:STEWARDSHIP BUZZ! 6 Steps to Take Right Now!
DESCRIPTION:This dedicated online time together will be packed with amazing information about how to inspire your people about Stewardship. You will learn the difference between “fund raising” and “stewardship” and how to define actual stewardship from scarcity culture. \nClick here for details.
URL:https://pacificmountain.ca/event/stewardship-buzz-6-steps-to-take-right-now-4/
CATEGORIES:PMRC Events
ATTACH;FMTTYPE=image/png:https://pacificmountain.ca/wordpress2021/wp-content/uploads/Stewardship-Buzz.png
END:VEVENT
BEGIN:VEVENT
DTSTART;VALUE=DATE:20201016
DTEND;VALUE=DATE:20201018
DTSTAMP:20260425T044455
CREATED:20200922T183337Z
LAST-MODIFIED:20200922T183337Z
UID:7202-1602806400-1602979199@pacificmountain.ca
SUMMARY:2020 Annual General Meeting
DESCRIPTION:
URL:https://pacificmountain.ca/event/2020-annual-general-meeting/
CATEGORIES:PMRC Events
END:VEVENT
BEGIN:VEVENT
DTSTART;TZID=America/Vancouver:20201014T103000
DTEND;TZID=America/Vancouver:20201014T120000
DTSTAMP:20260425T044455
CREATED:20200825T190504Z
LAST-MODIFIED:20200825T190504Z
UID:7054-1602671400-1602676800@pacificmountain.ca
SUMMARY:Nourishing the Soul of the Preacher
DESCRIPTION:Each week we come to a text or theme and sit with it\, think about it\, work with it\, leave it alone\, struggle with it\, write it\, and finally dare speaking. \n6 weekly online sessions: Wednesdays September 23\, 30\, October 7\, 14\, 21\, 28 \nClick here for details.
URL:https://pacificmountain.ca/event/nourishing-the-soul-of-the-preacher-4/
CATEGORIES:PMRC Events
ATTACH;FMTTYPE=image/png:https://pacificmountain.ca/wordpress2021/wp-content/uploads/Nourishing-the-Soul.png
END:VEVENT
BEGIN:VEVENT
DTSTART;TZID=America/Vancouver:20201008T140000
DTEND;TZID=America/Vancouver:20201008T153000
DTSTAMP:20260425T044455
CREATED:20200929T161032Z
LAST-MODIFIED:20200929T161032Z
UID:7255-1602165600-1602171000@pacificmountain.ca
SUMMARY:PMRC Financial Townhall
DESCRIPTION:
URL:https://pacificmountain.ca/event/pmrc-financial-townhall/
CATEGORIES:PMRC Events
ATTACH;FMTTYPE=image/png:https://pacificmountain.ca/wordpress2021/wp-content/uploads/Leading-Beyond-the-Wilderness-14.png
END:VEVENT
BEGIN:VEVENT
DTSTART;TZID=America/Vancouver:20201007T130000
DTEND;TZID=America/Vancouver:20201007T143000
DTSTAMP:20260425T044455
CREATED:20201005T201230Z
LAST-MODIFIED:20201005T201230Z
UID:7283-1602075600-1602081000@pacificmountain.ca
SUMMARY:PMRC Townhall Meeting: Sisters in Spirit\, with Cheryl Bear
DESCRIPTION:Click here for the recording of this Townhall Meeting. \nPMRC Townhall Meeting\nOct 7\, 2020\, 1:00PM Pacific Time (US and Canada) \nMeeting ID: 977 9619 1476\nPassword: 046065 \nAll are welcome to attend the important townhall gathering\, with guest speaker Cheryl Bear. Cheryl will be hosted by Rev John Snow (Indigenous Minister)\, Rev Blair Odney (President) and Treena Duncan (Executive Minister). Cheryl is Community Minister at First United in Vancouver\, and will be talking about Sisters in Spirit Day (which was this past Sunday\, October 4th). \nCheryl is from Nadleh Whut’en First Nation\, is a respected voice and teacher on behalf of Canada’s Indigenous peoples and has traveled to over 600 Indigenous communities raising awareness and understanding of Indigenous issues. She is a founding board member of NAIITS\, an Indigenous learning community; an Associate Professor at Regent College; earned her Doctorate from The King’s University\, and Master of Divinity from Regent College. Her doctoral work presents an approach to First Nations ministry from the foundations of Indigenous worldview and values. Cheryl served two terms as a band councillor for her community of Nadleh Whut’en First Nation from 2014-2018\, is currently serving as a Strategic Associate as the Indigenous Relations Specialist with Canadian Baptist Ministries\, and is an award-winning singer/songwriter. \nYou can read about Sisters in Spirit origins here. \nYou can read about the Oct 4th Sisters in Spirit Day here.
URL:https://pacificmountain.ca/event/pmrc-townhall-meeting-sisters-in-spirit-with-cheryl-bear/
CATEGORIES:PMRC Events
ATTACH;FMTTYPE=image/png:https://pacificmountain.ca/wordpress2021/wp-content/uploads/Cheryl-Bear.png
END:VEVENT
BEGIN:VEVENT
DTSTART;TZID=America/Vancouver:20201007T103000
DTEND;TZID=America/Vancouver:20201007T123000
DTSTAMP:20260425T044455
CREATED:20200825T185257Z
LAST-MODIFIED:20200825T185257Z
UID:7052-1602066600-1602073800@pacificmountain.ca
SUMMARY:Nourishing the Soul of the Preacher
DESCRIPTION:Each week we come to a text or theme and sit with it\, think about it\, work with it\, leave it alone\, struggle with it\, write it\, and finally dare speaking. \n6 weekly online sessions: Wednesdays September 23\, 30\, October 7\, 14\, 21\, 28 \nClick here for details.
URL:https://pacificmountain.ca/event/nourishing-the-soul-of-the-preacher-3/
CATEGORIES:PMRC Events
ATTACH;FMTTYPE=image/png:https://pacificmountain.ca/wordpress2021/wp-content/uploads/Nourishing-the-Soul.png
END:VEVENT
BEGIN:VEVENT
DTSTART;TZID=America/Vancouver:20201006T103000
DTEND;TZID=America/Vancouver:20201006T120000
DTSTAMP:20260425T044455
CREATED:20200825T175856Z
LAST-MODIFIED:20200825T175856Z
UID:7036-1601980200-1601985600@pacificmountain.ca
SUMMARY:STEWARDSHIP BUZZ! 6 Steps to Take Right Now!
DESCRIPTION:This dedicated online time together will be packed with amazing information about how to inspire your people about Stewardship. You will learn the difference between “fund raising” and “stewardship” and how to define actual stewardship from scarcity culture. \nClick here for details.
URL:https://pacificmountain.ca/event/stewardship-buzz-6-steps-to-take-right-now-3/
CATEGORIES:PMRC Events
ATTACH;FMTTYPE=image/png:https://pacificmountain.ca/wordpress2021/wp-content/uploads/Stewardship-Buzz.png
END:VEVENT
BEGIN:VEVENT
DTSTART;TZID=America/Vancouver:20201004T130000
DTEND;TZID=America/Vancouver:20201004T160000
DTSTAMP:20260425T044455
CREATED:20200825T202659Z
LAST-MODIFIED:20200825T202659Z
UID:7064-1601816400-1601827200@pacificmountain.ca
SUMMARY:Break the Silence:  The Power of Active Witnessing
DESCRIPTION:Have you ever witnessed a racist incident but didn’t know what to say or do and felt conflicted and regretful about not responding? This workshop will help participants develop their “response-ability” or readiness to respond to such incidents. \nClick here for details.
URL:https://pacificmountain.ca/event/break-the-silence-the-power-of-active-witnessing-4/
CATEGORIES:PMRC Events
ATTACH;FMTTYPE=image/png:https://pacificmountain.ca/wordpress2021/wp-content/uploads/Breaking-the-Silence-Oct-4.png
END:VEVENT
BEGIN:VEVENT
DTSTART;TZID=America/Vancouver:20201001T183000
DTEND;TZID=America/Vancouver:20201001T210000
DTSTAMP:20260425T044455
CREATED:20200922T182302Z
LAST-MODIFIED:20200922T182302Z
UID:7199-1601577000-1601586000@pacificmountain.ca
SUMMARY:Confronting Whiteness\, with Anna Colina White
DESCRIPTION:Whether you are new to this journey or have been unpacking your White privilege for decades\, this workshop will help you develop personal skills for confronting systemic racism. \nLearn more about how we as white people can show up for each other and racialized people in our lives. \nWe will gain skills to support us in moving the dial on our allyship/accomplice work for justice as communities of faith. \nYou’ll have the chance to talk to other White folks about topics ranging from “How do I deal with my racist uncle?” to “What’s White culture?” to “Wait\, I’m a Settler?!” \nThe course comes out of decades of anti-racism work led by people of colour\, and a persistent ask for White folks to engage in our own work of confronting whiteness individually\, interpersonally\, and organizationally. \nClick here for details.
URL:https://pacificmountain.ca/event/confronting-whiteness-with-anna-colina-white/
CATEGORIES:PMRC Events
ATTACH;FMTTYPE=image/png:https://pacificmountain.ca/wordpress2021/wp-content/uploads/Confronting-Whiteness-Oct-1-2020.png
END:VEVENT
BEGIN:VEVENT
DTSTART;TZID=America/Vancouver:20200930T103000
DTEND;TZID=America/Vancouver:20200930T120000
DTSTAMP:20260425T044455
CREATED:20200825T184756Z
LAST-MODIFIED:20200825T184756Z
UID:7050-1601461800-1601467200@pacificmountain.ca
SUMMARY:Nourishing the Soul of the Preacher
DESCRIPTION:Each week we come to a text or theme and sit with it\, think about it\, work with it\, leave it alone\, struggle with it\, write it\, and finally dare speaking. \n6 weekly online sessions: Wednesdays September 23\, 30\, October 7\, 14\, 21\, 28 \nClick here for details.
URL:https://pacificmountain.ca/event/nourishing-the-soul-of-the-preacher-2/
CATEGORIES:PMRC Events
ATTACH;FMTTYPE=image/png:https://pacificmountain.ca/wordpress2021/wp-content/uploads/Nourishing-the-Soul.png
END:VEVENT
BEGIN:VEVENT
DTSTART;TZID=America/Vancouver:20200927T130000
DTEND;TZID=America/Vancouver:20200927T160000
DTSTAMP:20260425T044455
CREATED:20200825T202139Z
LAST-MODIFIED:20200825T202139Z
UID:7060-1601211600-1601222400@pacificmountain.ca
SUMMARY:Break the Silence:  The Power of Active Witnessing
DESCRIPTION:Have you ever witnessed a racist incident but didn’t know what to say or do and felt conflicted and regretful about not responding? This workshop will help participants develop their “response-ability” or readiness to respond to such incidents. \nClick here for details.
URL:https://pacificmountain.ca/event/break-the-silence-the-power-of-active-witnessing-3/
CATEGORIES:PMRC Events
ATTACH;FMTTYPE=image/png:https://pacificmountain.ca/wordpress2021/wp-content/uploads/Breaking-the-Silence-Sept-27.png
END:VEVENT
BEGIN:VEVENT
DTSTART;TZID=America/Vancouver:20200923T170000
DTEND;TZID=America/Vancouver:20200927T120000
DTSTAMP:20260425T044455
CREATED:20200825T203322Z
LAST-MODIFIED:20200825T203322Z
UID:7067-1600880400-1601208000@pacificmountain.ca
SUMMARY:Kootenay Faith Fest 2020
DESCRIPTION:Streaming to you from Knox United in Fernie BC\, Kootenay Faith Fest Small & Mighty is four days of intentional laughter\, learning\, connection and worship with United Church folk who call a small community and a small church home. \nClick here for details.
URL:https://pacificmountain.ca/event/kootenay-faith-fest-2020/
CATEGORIES:PMRC Events
ATTACH;FMTTYPE=image/png:https://pacificmountain.ca/wordpress2021/wp-content/uploads/KFF-2020.png
END:VEVENT
BEGIN:VEVENT
DTSTART;TZID=America/Vancouver:20200923T130000
DTEND;TZID=America/Vancouver:20200923T143000
DTSTAMP:20260425T044455
CREATED:20200908T210303Z
LAST-MODIFIED:20200908T210303Z
UID:7127-1600866000-1600871400@pacificmountain.ca
SUMMARY:Online Town Hall Conference\, with Treena and Blair
DESCRIPTION:Our next Online Townhall Conference is scheduled for Wednesday September 23\, from 1 – 2:30 pm.  Click here for the recording of the Zoom call. \nThis week we will be joined by our new General Secretary\, Rev. Michael Blair. He will talk to us about his current portfolio (Church in Mission) and his move to his new role. \n  \nThank you to everyone to came to be part of our previous Townhall Conferences.
URL:https://pacificmountain.ca/event/online-town-hall-conference-with-treena-and-blair-2/
CATEGORIES:PMRC Events
END:VEVENT
BEGIN:VEVENT
DTSTART;TZID=America/Vancouver:20200923T103000
DTEND;TZID=America/Vancouver:20200923T120000
DTSTAMP:20260425T044455
CREATED:20200825T184205Z
LAST-MODIFIED:20200825T184205Z
UID:7044-1600857000-1600862400@pacificmountain.ca
SUMMARY:Nourishing the Soul of the Preacher
DESCRIPTION:Each week we come to a text or theme and sit with it\, think about it\, work with it\, leave it alone\, struggle with it\, write it\, and finally dare speaking. \n6 weekly online sessions: Wednesdays September 23\, 30\, October 7\, 14\, 21\, 28 \nClick here for details.
URL:https://pacificmountain.ca/event/nourishing-the-soul-of-the-preacher/
CATEGORIES:PMRC Events
ATTACH;FMTTYPE=image/png:https://pacificmountain.ca/wordpress2021/wp-content/uploads/Nourishing-the-Soul.png
END:VEVENT
END:VCALENDAR