BEGIN:VCALENDAR
VERSION:2.0
PRODID:-//Pacific Mountain Region - ECPv6.8.1//NONSGML v1.0//EN
CALSCALE:GREGORIAN
METHOD:PUBLISH
X-WR-CALNAME:Pacific Mountain Region
X-ORIGINAL-URL:https://pacificmountain.ca
X-WR-CALDESC:Events for Pacific Mountain Region
REFRESH-INTERVAL;VALUE=DURATION:PT1H
X-Robots-Tag:noindex
X-PUBLISHED-TTL:PT1H
BEGIN:VTIMEZONE
TZID:America/Vancouver
BEGIN:DAYLIGHT
TZOFFSETFROM:-0800
TZOFFSETTO:-0700
TZNAME:PDT
DTSTART:20250309T100000
END:DAYLIGHT
BEGIN:STANDARD
TZOFFSETFROM:-0700
TZOFFSETTO:-0800
TZNAME:PST
DTSTART:20251102T090000
END:STANDARD
END:VTIMEZONE
BEGIN:VEVENT
DTSTART;VALUE=DATE:20250601
DTEND;VALUE=DATE:20250602
DTSTAMP:20260425T104047
CREATED:20240708T185004Z
LAST-MODIFIED:20240708T191047Z
UID:19227-1748736000-1748822399@pacificmountain.ca
SUMMARY:Celebration of Ministry 2025 ~ Service of Worship & Communion
DESCRIPTION:Celebrating the Call to Ministry in Pacific Mountain Regional Council! \nCelebration of Ministry\nNanaimo BC\nLive-Streamed and In-Person\nTime To Be Announced \nScripture To Be Announced \nRegistration is not required. \nAll are welcome to join the Live-Stream from @PacificMountainRegionalCouncil YouTube Channel \nLive stream starts around to come. \nWorship begins at to come. \nCommunion is part of the Celebration of Ministry. \nIf worshipping via the live stream\, please prepare for yourself a Cup of Blessing (wine\, juice\, or what you may have on hand) and Bread for the Journey (bread\, cracker\, or what you may have on hand). You are invited to also bring The Light into your space. (flame or battery candle\, drawing or photo of a candle\, or what you may have on hand). \nIf attending in person\, venue and directions to come. \nSunday’s Offering is collected for to come. \nVisit PacificMountain.ca/pmrc-agm-2025 for additional information about the 7th Annual General Meeting.
URL:https://pacificmountain.ca/event/pmr-agm-celebration-of-ministry-2025/
LOCATION:Nanaimo BC\, Vancouver Island
CATEGORIES:AGM - PMR,PMRC Events,Special Worship Day
ATTACH;FMTTYPE=image/png:https://pacificmountain.ca/wordpress2021/wp-content/uploads/PMRC-AGM-2025-Nanaimo-Harbour-Celebration-of-Ministry.png
END:VEVENT
END:VCALENDAR