BEGIN:VCALENDAR
VERSION:2.0
PRODID:-//Pacific Mountain Region - ECPv6.8.1//NONSGML v1.0//EN
CALSCALE:GREGORIAN
METHOD:PUBLISH
X-WR-CALNAME:Pacific Mountain Region
X-ORIGINAL-URL:https://pacificmountain.ca
X-WR-CALDESC:Events for Pacific Mountain Region
REFRESH-INTERVAL;VALUE=DURATION:PT1H
X-Robots-Tag:noindex
X-PUBLISHED-TTL:PT1H
BEGIN:VTIMEZONE
TZID:America/Vancouver
BEGIN:DAYLIGHT
TZOFFSETFROM:-0800
TZOFFSETTO:-0700
TZNAME:PDT
DTSTART:20260308T100000
END:DAYLIGHT
BEGIN:STANDARD
TZOFFSETFROM:-0700
TZOFFSETTO:-0800
TZNAME:PST
DTSTART:20261101T090000
END:STANDARD
BEGIN:DAYLIGHT
TZOFFSETFROM:-0800
TZOFFSETTO:-0700
TZNAME:PDT
DTSTART:20270314T100000
END:DAYLIGHT
BEGIN:STANDARD
TZOFFSETFROM:-0700
TZOFFSETTO:-0800
TZNAME:PST
DTSTART:20271107T090000
END:STANDARD
END:VTIMEZONE
BEGIN:VEVENT
DTSTART;VALUE=DATE:20260713
DTEND;VALUE=DATE:20260714
DTSTAMP:20260423T171605
CREATED:20260423T221030Z
LAST-MODIFIED:20260423T221030Z
UID:22339-1783900800-1783987199@pacificmountain.ca
SUMMARY:Camp Spirit ’26 – Week 2
DESCRIPTION:A Camp Spirit Offering\nCamp Spirit ’26 – Week 2\nMonday July 13 – Friday July 17\, 2026\nIn-Person\nWe offer Camp Spirit in different cities\, towns and villages across BC and into the Yukon! Our camp locations are provided by host-United Churches in the town; we share their space for our week of camp. We love the connections that sharing space builds! More information on being a host community of faith is available from Regional Minister for Camp Spirit\, Cathy Cryder. \nLocations:\n\nValemount Anglican United Church\, Valemount\n\nDay Camp\n\n\nSt. Andrew’s United Church\, North Vancouver\n\nDay Camp\n\n\nThe United Church Regional Office Complex – 6000 Sussex Ave.\, Burnaby\n\nDay Camp\nLevel Up Youth\n\n\n\nDay Camps for Children 6-11 yrs! \n\nAt Camp Spirit we value listening to & experiencing Sacred Stories\, enjoying times of Creativity & Science\, moving to Music\, Sharing Meals together\, and fostering Community\, Friendships & Leadership!​​\n\nLevel Up Youth ​for People 12-14 years! (not offered at all sites)​ \n\nCamp Spirit Level Up Youth will connect with the same scriptures and themes as the campers\, and focus on teamwork\, skill building\, fun and community while connecting to God at their level.\n\n\nClick here for more information and registration!
URL:https://pacificmountain.ca/event/camp-spirit-26-week-2/
CATEGORIES:First Third Ministry,PMRC Events
ATTACH;FMTTYPE=image/png:https://pacificmountain.ca/wordpress2021/wp-content/uploads/Camp-Spirit-2026.png
ORGANIZER;CN="Camp Spirit":MAILTO:CampSpirit@united-church.ca
END:VEVENT
BEGIN:VEVENT
DTSTART;TZID=America/Vancouver:20260717T183000
DTEND;TZID=America/Vancouver:20260717T203000
DTSTAMP:20260423T171605
CREATED:20260326T193847Z
LAST-MODIFIED:20260326T193847Z
UID:22228-1784313000-1784320200@pacificmountain.ca
SUMMARY:Queer & Faithful Cinema: “Wonderfully Made — LGBTQ+R(eligion)”
DESCRIPTION:A Affirming Connections & Pacific Mountain Region Affirming Ministry Offering\nQueer & Faithful Cinema\nMonthly Online Screenings: Friday May 15\, June 26\, July 17\, August 7\nOnline via Zoom\nPIE to Pride season is full of ways to engage your community and dive into Queer Theology. Join us for four monthly film screenings\, each film featuring real life stories of people who have navigated queerness in the context of church\, community and family. A discussion will follow each film that will touch on elements of Queer Theology and Liberating Theology to support the expansion of our own experiences and to support the authentic exploration and articulation of our own faith. \n**Disclaimer** As documentaries\, these films may contain occasional language profanity \nRegister here:\nMay 15 Registration – “Proper Pronouns” follows four transgender ministers in North Carolina as they fight intolerance and discrimination in the Bible Belt and battle narrow-mindedness within the religious community\, fellow state natives\, and their families. \nJune 26 Registration – At General Council 42 the church voted to have a national project of story-sharing and dialogue with people affected by the Church’s 1988 decision. These stories would then help the church to discern if\, and how\, it might live into an apology to the church’s LGBTQ and Two-Spirit people. “The Iridesce Theatre Presentation” is a play in three acts. All the words of the script have emerged from the Iridesce Project\, and are the memories and words of Iridesce participants. \nJuly 17 Registration – “Wonderfully Made — LGBTQ+R(eligion)” is a combined fine art project and feature-length documentary that together strike at the root of anti-LGBTQ+ attitudes by exploring the challenges and aspirations of LGBTQ+ Catholics. The message\, however\, applies to any religious tradition that does not fully embrace our LGBTQ+ brothers and sisters. \nAugust 7 Registration – “A Queer’s Guide to Spiritual Living” Blending zine-inspired animation\, spoken word\, and poetry with insightful interview footage\, this lo-fi documentary collage follows four queer people from different religious backgrounds as they explore the intersections of faith and queerness.
URL:https://pacificmountain.ca/event/queer-faithful-cinema-wonderfully-made-lgbtqreligion/
LOCATION:Online
CATEGORIES:Justice Ministry,PMRC Events
ATTACH;FMTTYPE=image/png:https://pacificmountain.ca/wordpress2021/wp-content/uploads/Queer-and-Fathful-Cinema-e1774459984838.png
ORGANIZER;CN="Justice":MAILTO:kmitchellfoster@united-church.ca
END:VEVENT
BEGIN:VEVENT
DTSTART;VALUE=DATE:20260720
DTEND;VALUE=DATE:20260721
DTSTAMP:20260423T171605
CREATED:20260423T221414Z
LAST-MODIFIED:20260423T221414Z
UID:22341-1784505600-1784591999@pacificmountain.ca
SUMMARY:Camp Spirit ’26 – Week 3
DESCRIPTION:A Camp Spirit Offering\nCamp Spirit ’26 – Week 3\nMonday July 20 – Friday July 24\, 2026\nIn-Person\nWe offer Camp Spirit in different cities\, towns and villages across BC and into the Yukon! Our camp locations are provided by host-United Churches in the town; we share their space for our week of camp. We love the connections that sharing space builds! More information on being a host community of faith is available from Regional Minister for Camp Spirit\, Cathy Cryder. \nLocations:\n\nKnox United Church\, Terrace\n\nDay Camp\nLevel Up Youth\n\n\nComo Lake United Church\, Coquitlam\n\nDay Camp\nLevel Up Youth\n\n\nTrinity United Church\, Prince George\n\nDay Camp\nLevel Up Youth\n\n\n\nDay Camps for Children 6-11 yrs! \n\nAt Camp Spirit we value listening to & experiencing Sacred Stories\, enjoying times of Creativity & Science\, moving to Music\, Sharing Meals together\, and fostering Community\, Friendships & Leadership!​​\n\nLevel Up Youth ​for People 12-14 years! (not offered at all sites)​ \n\nCamp Spirit Level Up Youth will connect with the same scriptures and themes as the campers\, and focus on teamwork\, skill building\, fun and community while connecting to God at their level.\n\n\nClick here for more information and registration!
URL:https://pacificmountain.ca/event/camp-spirit-26-week-3/
CATEGORIES:First Third Ministry,PMRC Events
ATTACH;FMTTYPE=image/png:https://pacificmountain.ca/wordpress2021/wp-content/uploads/Camp-Spirit-2026.png
ORGANIZER;CN="Camp Spirit":MAILTO:CampSpirit@united-church.ca
END:VEVENT
BEGIN:VEVENT
DTSTART;VALUE=DATE:20260727
DTEND;VALUE=DATE:20260728
DTSTAMP:20260423T171605
CREATED:20260423T222121Z
LAST-MODIFIED:20260423T222121Z
UID:22343-1785110400-1785196799@pacificmountain.ca
SUMMARY:Camp Spirit ’26 – Week 4
DESCRIPTION:A Camp Spirit Offering\nCamp Spirit ’26 – Week 4\nMonday July 27 – Friday July 31\, 2026\nIn-Person\nWe offer Camp Spirit in different cities\, towns and villages across BC and into the Yukon! Our camp locations are provided by host-United Churches in the town; we share their space for our week of camp. We love the connections that sharing space builds! More information on being a host community of faith is available from Regional Minister for Camp Spirit\, Cathy Cryder. \nLocations:\n\nSt. Columba Anglican United Church\, Port Hardy: 4 day camp starting Tuesday July 28\n\nDay Camp\n\n\nOakridge United Church\, ​Vancouver\n\nDay Camp\n\n\nShiloh-5th Ave United Church at Sanctuary on 6th\, ​ New Westminster\n\nDay Camp\nLevel Up Youth\n\n\n\nDay Camps for Children 6-11 yrs! \n\nAt Camp Spirit we value listening to & experiencing Sacred Stories\, enjoying times of Creativity & Science\, moving to Music\, Sharing Meals together\, and fostering Community\, Friendships & Leadership!​​\n\nLevel Up Youth ​for People 12-14 years! (not offered at all sites)​ \n\nCamp Spirit Level Up Youth will connect with the same scriptures and themes as the campers\, and focus on teamwork\, skill building\, fun and community while connecting to God at their level.\n\n\nClick here for more information and registration!
URL:https://pacificmountain.ca/event/camp-spirit-26-week-4/
CATEGORIES:First Third Ministry,PMRC Events
ATTACH;FMTTYPE=image/png:https://pacificmountain.ca/wordpress2021/wp-content/uploads/Camp-Spirit-2026.png
ORGANIZER;CN="Camp Spirit":MAILTO:CampSpirit@united-church.ca
END:VEVENT
BEGIN:VEVENT
DTSTART;VALUE=DATE:20260804
DTEND;VALUE=DATE:20260805
DTSTAMP:20260423T171605
CREATED:20260423T222549Z
LAST-MODIFIED:20260423T222549Z
UID:22344-1785801600-1785887999@pacificmountain.ca
SUMMARY:Camp Spirit '26 - Week 5
DESCRIPTION:A Camp Spirit Offering\nCamp Spirit ’26 – Week 5\nTuesday August 4 – Friday August 7\, 2026\nIn-Person\nWe offer Camp Spirit in different cities\, towns and villages across BC and into the Yukon! Our camp locations are provided by host-United Churches in the town; we share their space for our week of camp. We love the connections that sharing space builds! More information on being a host community of faith is available from Regional Minister for Camp Spirit\, Cathy Cryder. \nLocations: 4 Day Camp\n\nPacific Spirit United Church\, Vancouver\n\nDay Camp\nLevel Up Youth\n\n\nNorthwood United Church\, Surrey\n\nDay Camp\nLevel Up Youth\n\n\nTsawwassen United Church\, Delta\n\nDay Camp\nLevel Up Youth\n\n\n\nDay Camps for Children 6-11 yrs! \n\nAt Camp Spirit we value listening to & experiencing Sacred Stories\, enjoying times of Creativity & Science\, moving to Music\, Sharing Meals together\, and fostering Community\, Friendships & Leadership!​​\n\nLevel Up Youth ​for People 12-14 years! (not offered at all sites)​ \n\nCamp Spirit Level Up Youth will connect with the same scriptures and themes as the campers\, and focus on teamwork\, skill building\, fun and community while connecting to God at their level.\n\n\nClick here for more information and registration!
URL:https://pacificmountain.ca/event/camp-spirit-26-week-5/
CATEGORIES:First Third Ministry,PMRC Events
ATTACH;FMTTYPE=image/png:https://pacificmountain.ca/wordpress2021/wp-content/uploads/Camp-Spirit-2026.png
ORGANIZER;CN="Camp Spirit":MAILTO:CampSpirit@united-church.ca
END:VEVENT
BEGIN:VEVENT
DTSTART;TZID=America/Vancouver:20260807T183000
DTEND;TZID=America/Vancouver:20260807T203000
DTSTAMP:20260423T171605
CREATED:20260326T193937Z
LAST-MODIFIED:20260326T193937Z
UID:22226-1786127400-1786134600@pacificmountain.ca
SUMMARY:Queer & Faithful Cinema: “A Queer’s Guide to Spiritual Living”
DESCRIPTION:A Affirming Connections & Pacific Mountain Region Affirming Ministry Offering\nQueer & Faithful Cinema\nMonthly Online Screenings: Friday May 15\, June 26\, July 17\, August 7\nOnline via Zoom\nPIE to Pride season is full of ways to engage your community and dive into Queer Theology. Join us for four monthly film screenings\, each film featuring real life stories of people who have navigated queerness in the context of church\, community and family. A discussion will follow each film that will touch on elements of Queer Theology and Liberating Theology to support the expansion of our own experiences and to support the authentic exploration and articulation of our own faith. \n**Disclaimer** As documentaries\, these films may contain occasional language profanity \nRegister here:\nMay 15 Registration – “Proper Pronouns” follows four transgender ministers in North Carolina as they fight intolerance and discrimination in the Bible Belt and battle narrow-mindedness within the religious community\, fellow state natives\, and their families. \nJune 26 Registration – At General Council 42 the church voted to have a national project of story-sharing and dialogue with people affected by the Church’s 1988 decision. These stories would then help the church to discern if\, and how\, it might live into an apology to the church’s LGBTQ and Two-Spirit people. “The Iridesce Theatre Presentation” is a play in three acts. All the words of the script have emerged from the Iridesce Project\, and are the memories and words of Iridesce participants. \nJuly 17 Registration – “Wonderfully Made — LGBTQ+R(eligion)” is a combined fine art project and feature-length documentary that together strike at the root of anti-LGBTQ+ attitudes by exploring the challenges and aspirations of LGBTQ+ Catholics. The message\, however\, applies to any religious tradition that does not fully embrace our LGBTQ+ brothers and sisters. \nAugust 7 Registration – “A Queer’s Guide to Spiritual Living” Blending zine-inspired animation\, spoken word\, and poetry with insightful interview footage\, this lo-fi documentary collage follows four queer people from different religious backgrounds as they explore the intersections of faith and queerness.
URL:https://pacificmountain.ca/event/queer-faithful-cinema-a-queers-guide-to-spiritual-living/
LOCATION:Online
CATEGORIES:Justice Ministry,PMRC Events
ATTACH;FMTTYPE=image/png:https://pacificmountain.ca/wordpress2021/wp-content/uploads/Queer-and-Fathful-Cinema-e1774459984838.png
ORGANIZER;CN="Justice":MAILTO:kmitchellfoster@united-church.ca
END:VEVENT
BEGIN:VEVENT
DTSTART;VALUE=DATE:20260810
DTEND;VALUE=DATE:20260811
DTSTAMP:20260423T171605
CREATED:20260423T223220Z
LAST-MODIFIED:20260423T223220Z
UID:22346-1786320000-1786406399@pacificmountain.ca
SUMMARY:Camp Spirit '26 - Week 6
DESCRIPTION:A Camp Spirit Offering\nCamp Spirit ’26 – Week 6\nMonday August 10 – Friday August 14\, 2026\nIn-Person\nWe offer Camp Spirit in different cities\, towns and villages across BC and into the Yukon! Our camp locations are provided by host-United Churches in the town; we share their space for our week of camp. We love the connections that sharing space builds! More information on being a host community of faith is available from Regional Minister for Camp Spirit\, Cathy Cryder. \nLocations:\n\nCrossroads United Church\, Delta\n\nDay Camp\nLevel Up Youth\n\n\nWhite Horse United Church\, Whitehorse\n\nDay Camp\nLevel Up Youth\n\n\nSt. Andrew’s Wesley United Church\, Vancouver\n\nDay Camp\nLevel Up Youth\n\n\n\nDay Camps for Children 6-11 yrs! \n\nAt Camp Spirit we value listening to & experiencing Sacred Stories\, enjoying times of Creativity & Science\, moving to Music\, Sharing Meals together\, and fostering Community\, Friendships & Leadership!​​\n\nLevel Up Youth ​for People 12-14 years! (not offered at all sites)​ \n\nCamp Spirit Level Up Youth will connect with the same scriptures and themes as the campers\, and focus on teamwork\, skill building\, fun and community while connecting to God at their level.\n\n\nClick here for more information and registration!
URL:https://pacificmountain.ca/event/camp-spirit-26-week-6/
CATEGORIES:First Third Ministry,PMRC Events
ATTACH;FMTTYPE=image/png:https://pacificmountain.ca/wordpress2021/wp-content/uploads/Camp-Spirit-2026.png
ORGANIZER;CN="Camp Spirit":MAILTO:CampSpirit@united-church.ca
END:VEVENT
BEGIN:VEVENT
DTSTART;VALUE=DATE:20260817
DTEND;VALUE=DATE:20260818
DTSTAMP:20260423T171605
CREATED:20260423T224328Z
LAST-MODIFIED:20260423T224328Z
UID:22350-1786924800-1787011199@pacificmountain.ca
SUMMARY:Camp Spirit ’26 – Week 7
DESCRIPTION:A Camp Spirit Offering\nCamp Spirit ’26 – Week 7\nMonday August 17 – Friday August 21\, 2026\nIn-Person\nWe offer Camp Spirit in different cities\, towns and villages across BC and into the Yukon! Our camp locations are provided by host-United Churches in the town; we share their space for our week of camp. We love the connections that sharing space builds! More information on being a host community of faith is available from Regional Minister for Camp Spirit\, Cathy Cryder. \nLocations:\n\nSmithers United Church at Camp Caledonia\, Telkwa\n\nDay Camp\n\n\nBroad View United\, Victoria\n\nDay Camp\nLevel Up Youth\n\n\nWeird Church\, Cumberland\n\nDay Camp\nLevel Up Youth\n\n\nCampbell River United Church\, Campbell River\n\nDay Camp\n\n\n\n\n\n\nDay Camps for Children 6-11 yrs! \n\nAt Camp Spirit we value listening to & experiencing Sacred Stories\, enjoying times of Creativity & Science\, moving to Music\, Sharing Meals together\, and fostering Community\, Friendships & Leadership!​​\n\nLevel Up Youth ​for People 12-14 years! (not offered at all sites)​ \n\nCamp Spirit Level Up Youth will connect with the same scriptures and themes as the campers\, and focus on teamwork\, skill building\, fun and community while connecting to God at their level.\n\n\nClick here for more information and registration!
URL:https://pacificmountain.ca/event/camp-spirit-26-week-7/
CATEGORIES:First Third Ministry,PMRC Events
ATTACH;FMTTYPE=image/png:https://pacificmountain.ca/wordpress2021/wp-content/uploads/Camp-Spirit-2026.png
ORGANIZER;CN="Camp Spirit":MAILTO:CampSpirit@united-church.ca
END:VEVENT
BEGIN:VEVENT
DTSTART;TZID=America/Vancouver:20261026T080000
DTEND;TZID=America/Vancouver:20261106T170000
DTSTAMP:20260423T171605
CREATED:20260407T212620Z
LAST-MODIFIED:20260407T212620Z
UID:22257-1793001600-1793984400@pacificmountain.ca
SUMMARY:Pilgrimage to Guatemala: A Journey of Encounter\, Community and Learning
DESCRIPTION:A LeaderSHIFT Offering with World Pilgrim Global Education\nPilgrimage to Guatemala: A Journey of Encounter\, Community and Learning\nMonday October 26 – Friday November 6\, 2026\nIn-Person\nThis is not a trip in the usual sense. It is a pilgrimage — an invitation to step out of our familiar rhythms and into a deeper way of seeing. Together\, we will travel with World Pilgrim and Executive Minister Treena Duncan into the heart of Guatemala\, not as visitors\, but as learners and companions\, open to being shaped by the people\, the land\, and the stories we encounter. \nMore information here: https://leadershiftuccan.org/guatemala-2026
URL:https://pacificmountain.ca/event/pilgrimage-to-guatemala-a-journey-of-encounter-community-and-learning/
CATEGORIES:LeaderSHIFT UCCan,PMRC Events
ATTACH;FMTTYPE=image/webp:https://pacificmountain.ca/wordpress2021/wp-content/uploads/Pilgrimage-to-Guatemala-2026.webp
ORGANIZER;CN="LeaderSHIFT":MAILTO:leadershift@united-church.ca
END:VEVENT
BEGIN:VEVENT
DTSTART;TZID=America/Vancouver:20261130T080000
DTEND;TZID=America/Vancouver:20261204T170000
DTSTAMP:20260423T171605
CREATED:20260122T231403Z
LAST-MODIFIED:20260122T231403Z
UID:22014-1796025600-1796403600@pacificmountain.ca
SUMMARY:Office Closure ~ PMRC Staff Retreat
DESCRIPTION:
URL:https://pacificmountain.ca/event/office-closure-staff-retreat-2026/
CATEGORIES:PMRC Events
END:VEVENT
BEGIN:VEVENT
DTSTART;TZID=America/Vancouver:20261224T080000
DTEND;TZID=America/Vancouver:20270101T170000
DTSTAMP:20260423T171605
CREATED:20260122T231517Z
LAST-MODIFIED:20260122T231517Z
UID:22016-1798099200-1798822800@pacificmountain.ca
SUMMARY:Office Closure ~ Christmas Break
DESCRIPTION:
URL:https://pacificmountain.ca/event/office-closure-christmas-break-2026/
CATEGORIES:PMRC Events
END:VEVENT
BEGIN:VEVENT
DTSTART;VALUE=DATE:20270101
DTEND;VALUE=DATE:20270102
DTSTAMP:20260423T171605
CREATED:20251023T211020Z
LAST-MODIFIED:20251023T212643Z
UID:21733-1798761600-1798847999@pacificmountain.ca
SUMMARY:Office Closure ~ New Year's Day
DESCRIPTION:
URL:https://pacificmountain.ca/event/office-closure-new-years-day-2027/
CATEGORIES:Holidays / Office Closures,PMRC Events
END:VEVENT
BEGIN:VEVENT
DTSTART;TZID=America/Vancouver:20270329T080000
DTEND;TZID=America/Vancouver:20270402T170000
DTSTAMP:20260423T171605
CREATED:20260121T165712Z
LAST-MODIFIED:20260121T170758Z
UID:22002-1806307200-1806685200@pacificmountain.ca
SUMMARY:Sowing Promise: Renewal & Revitalization Pathway
DESCRIPTION:A LeaderSHIFT Offering with Don White Jr. and Tonya Variya\nSowing Promise: Renewal & Revitalization Pathway\nMonday March 29 – Friday April 2\, 2027\nIn-Person at Loon lake Retreat Centre\nThis Renewal and Revitalization Cohort is based on the development of 4 Core Competencies. Each competency is coached\, nurtured\, and measured for genuine growth. A Health & Wholeness Assessment Test will be used to help us discern where the growth edge is for each of us. \n\nNaming & Engaging Pain\nAwareness & Awakening\nLoss\, Limits\, & Lament\nWholeness & Habits\n\nLoon Lake Retreat Centre is a destination for quiet reflection\, fresh air\, clean water\, and tall fir trees. Dan & Tonya White will be facilitating a deep\, soulful retreat to help us rest\, refresh\, and recalibrate the heart of our leadership \nRetreat Overview\n\n8 GROUP COACHING CALLS\n1 RENEWAL RETREAT\n24 WEEKLY ARTICLES & REFLECTIONS\n4 TRAINING WEBINARS\n7 TRANSFORMATIONAL TOOLS\n\nClick here for more information: Sowing Promise: Renewal & Revitalization Pathway — LeaderSHIFT UCCan \nApplication Available February 1\, 2026
URL:https://pacificmountain.ca/event/leadershift-sowing-promise-2027/
LOCATION:Loon Lake Retreat Centre\, 14500 Silver Valley Rd\, Maple Ridge\, BC\, Canada
CATEGORIES:LeaderSHIFT UCCan,PMRC Events
ATTACH;FMTTYPE=image/webp:https://pacificmountain.ca/wordpress2021/wp-content/uploads/Renewal-and-revitilizing-pathway-leadershift-event-pic.webp
ORGANIZER;CN="LeaderSHIFT":MAILTO:leadershift@united-church.ca
END:VEVENT
BEGIN:VEVENT
DTSTART;TZID=America/Vancouver:20270508T080000
DTEND;TZID=America/Vancouver:20270517T170000
DTSTAMP:20260423T171605
CREATED:20260407T214426Z
LAST-MODIFIED:20260407T214426Z
UID:22258-1809763200-1810573200@pacificmountain.ca
SUMMARY:Walking the Way: Camino de Santiago
DESCRIPTION:A LeaderSHIFT Offering with World Pilgrim Global Education\nWalking the Way: Camino de Santiago\nSaturday May 8 – Monday May 17\, 2027\nIn-Person\nFor more than a thousand years\, pilgrims have walked to the Cathedral in Santiago de Compostela where the remains of St. James\, one of Jesus’ apostles are buried. Pilgrims have followed many routes\, the most popular one being over Northern Spain on the French Way. To this day\, pilgrims from around the world continue to make this journey following many different routes\, each person walking for their own reasons. \nMaybe for you it’s a spiritual journey\, a chance to get away from life and reflect. Maybe this will be a chance to challenge yourself physically and mentally and to walk with other pilgrims sharing the experience together. Maybe it’s a chance to be in nature walking through the beautiful countryside\, along ocean beaches and ancient villages. Your challenge and purpose await you on this journey. \nMore information here: https://leadershiftuccan.org/camino-2027
URL:https://pacificmountain.ca/event/walking-the-way-camino-de-santiago/
CATEGORIES:LeaderSHIFT UCCan,PMRC Events
ATTACH;FMTTYPE=image/webp:https://pacificmountain.ca/wordpress2021/wp-content/uploads/Walking-the-Way-Camino-de-Santiago-2026.webp
ORGANIZER;CN="LeaderSHIFT":MAILTO:leadershift@united-church.ca
END:VEVENT
END:VCALENDAR