BEGIN:VCALENDAR
VERSION:2.0
PRODID:-//Pacific Mountain Region - ECPv6.8.1//NONSGML v1.0//EN
CALSCALE:GREGORIAN
METHOD:PUBLISH
X-WR-CALNAME:Pacific Mountain Region
X-ORIGINAL-URL:https://pacificmountain.ca
X-WR-CALDESC:Events for Pacific Mountain Region
REFRESH-INTERVAL;VALUE=DURATION:PT1H
X-Robots-Tag:noindex
X-PUBLISHED-TTL:PT1H
BEGIN:VTIMEZONE
TZID:America/Vancouver
BEGIN:DAYLIGHT
TZOFFSETFROM:-0800
TZOFFSETTO:-0700
TZNAME:PDT
DTSTART:20240310T100000
END:DAYLIGHT
BEGIN:STANDARD
TZOFFSETFROM:-0700
TZOFFSETTO:-0800
TZNAME:PST
DTSTART:20241103T090000
END:STANDARD
BEGIN:DAYLIGHT
TZOFFSETFROM:-0800
TZOFFSETTO:-0700
TZNAME:PDT
DTSTART:20250309T100000
END:DAYLIGHT
BEGIN:STANDARD
TZOFFSETFROM:-0700
TZOFFSETTO:-0800
TZNAME:PST
DTSTART:20251102T090000
END:STANDARD
BEGIN:DAYLIGHT
TZOFFSETFROM:-0800
TZOFFSETTO:-0700
TZNAME:PDT
DTSTART:20260308T100000
END:DAYLIGHT
BEGIN:STANDARD
TZOFFSETFROM:-0700
TZOFFSETTO:-0800
TZNAME:PST
DTSTART:20261101T090000
END:STANDARD
END:VTIMEZONE
BEGIN:VEVENT
DTSTART;TZID=America/Vancouver:20260421T103000
DTEND;TZID=America/Vancouver:20260421T113000
DTSTAMP:20260422T054019
CREATED:20260203T191838Z
LAST-MODIFIED:20260203T191838Z
UID:22084-1776767400-1776771000@pacificmountain.ca
SUMMARY:Clergy Prayer Circle
DESCRIPTION:A Ministry Personnel Support Team Offering\nClergy Prayer Circle\nThird Tuesday of the month: April 21\, 2026\nOnline via Zoom\nA Time for Connection\nAll active ministry personnel serving in the Pacific Mountain Regional Council are invited to this hour of being in community\, and sharing practices of check-in\, prayer\, laughter with one another. We look forward to welcoming all who can attend each Tuesday. \nIf it may be your first time coming to the Clergy Prayer Circle\, please sign up to receive the link to the Zoom room:  Form.jotform.com/PMR-UCC/mpst-clergy-prayer-circle \nIf you’ve attended a Clergy Prayer Circle recently\, the link for the upcoming gathering will be automatically sent to your email address. If you’re not sure\, click the link above to sign up again. \nWe look forward to welcoming and praying with you. Please extend this invitation to active ministry personnel in your networks. \nClick here for more information!
URL:https://pacificmountain.ca/event/clergy-prayer-circle-april-21-2026/
LOCATION:Online
CATEGORIES:Ministry Personnel,PMRC Events
ATTACH;FMTTYPE=image/png:https://pacificmountain.ca/wordpress2021/wp-content/uploads/MPST-Clergy-Prayer-Circle-Primary-Image-1920-x-1080.png
END:VEVENT
BEGIN:VEVENT
DTSTART;TZID=America/Vancouver:20260317T103000
DTEND;TZID=America/Vancouver:20260317T113000
DTSTAMP:20260422T054019
CREATED:20260203T190542Z
LAST-MODIFIED:20260203T190803Z
UID:22081-1773743400-1773747000@pacificmountain.ca
SUMMARY:Clergy Prayer Circle
DESCRIPTION:A Ministry Personnel Support Team Offering\nClergy Prayer Circle\nThird Tuesday of the month: March 17\, 2026\nOnline via Zoom\nA Time for Connection\nAll active ministry personnel serving in the Pacific Mountain Regional Council are invited to this hour of being in community\, and sharing practices of check-in\, prayer\, laughter with one another. We look forward to welcoming all who can attend each Tuesday. \nIf it may be your first time coming to the Clergy Prayer Circle\, please sign up to receive the link to the Zoom room:  Form.jotform.com/PMR-UCC/mpst-clergy-prayer-circle \nIf you’ve attended a Clergy Prayer Circle recently\, the link for the upcoming gathering will be automatically sent to your email address. If you’re not sure\, click the link above to sign up again. \nWe look forward to welcoming and praying with you. Please extend this invitation to active ministry personnel in your networks. \nClick here for more information!
URL:https://pacificmountain.ca/event/clergy-prayer-circle-mar-17-2026/
LOCATION:Online
CATEGORIES:Ministry Personnel,PMRC Events
ATTACH;FMTTYPE=image/png:https://pacificmountain.ca/wordpress2021/wp-content/uploads/MPST-Clergy-Prayer-Circle-Primary-Image-1920-x-1080.png
END:VEVENT
BEGIN:VEVENT
DTSTART;TZID=America/Vancouver:20260217T103000
DTEND;TZID=America/Vancouver:20260217T113000
DTSTAMP:20260422T054019
CREATED:20260203T184333Z
LAST-MODIFIED:20260203T184431Z
UID:22077-1771324200-1771327800@pacificmountain.ca
SUMMARY:Clergy Prayer Circle
DESCRIPTION:A Ministry Personnel Support Team Offering\nClergy Prayer Circle\nThird Tuesday of the month: February 17\, 2026\nOnline via Zoom\nA Time for Connection\nAll active ministry personnel serving in the Pacific Mountain Regional Council are invited to this hour of being in community\, and sharing practices of check-in\, prayer\, laughter with one another. We look forward to welcoming all who can attend each Tuesday. \nIf it may be your first time coming to the Clergy Prayer Circle\, please sign up to receive the link to the Zoom room:  Form.jotform.com/PMR-UCC/mpst-clergy-prayer-circle \nIf you’ve attended a Clergy Prayer Circle recently\, the link for the upcoming gathering will be automatically sent to your email address. If you’re not sure\, click the link above to sign up again. \nWe look forward to welcoming and praying with you. Please extend this invitation to active ministry personnel in your networks. \nClick here for more information!
URL:https://pacificmountain.ca/event/clergy-prayer-circle-feb-17-2026/
LOCATION:Online
CATEGORIES:Ministry Personnel,PMRC Events
ATTACH;FMTTYPE=image/png:https://pacificmountain.ca/wordpress2021/wp-content/uploads/MPST-Clergy-Prayer-Circle-Primary-Image-1920-x-1080.png
END:VEVENT
BEGIN:VEVENT
DTSTART;TZID=America/Vancouver:20251118T103000
DTEND;TZID=America/Vancouver:20251118T113000
DTSTAMP:20260422T054019
CREATED:20251023T174135Z
LAST-MODIFIED:20251023T174135Z
UID:21724-1763461800-1763465400@pacificmountain.ca
SUMMARY:Clergy Prayer Circle
DESCRIPTION:A Time For Connection\nAll active ministry personnel serving in the Pacific Mountain Regional Council are invited to this hour of being in community\, and sharing practices of check-in\, prayer\, laughter with one another. \nIf it may be your first time coming to the Clergy Prayer Circle\, please sign up to receive the link to the Zoom room:  Form.jotform.com/PMR-UCC/mpst-clergy-prayer-circle \nIf you’ve attended a Clergy Prayer Circle recently\, the link for the upcoming gathering will be automatically sent to your email address. If you’re not sure\, click the link above to sign up again. \nWe look forward to welcoming and praying with you. Please extend this invitation to active ministry personnel in your networks. \nThe Clergy Prayer Circle is free and drop-in style\, and hosted by members of Pacific Mountain Regional Council’s Ministry Personal Support Team (MPST). \nA Time for Prayer\n3rd Tuesday of the month \n10:30-11:30am Pacific / 11:30 am-12:30pm Mountain \nAlways Online\, via Zoom \nAlways requiring monthly registration \nClick Here to register.
URL:https://pacificmountain.ca/event/clergy-prayer-circle-2/
LOCATION:Online
CATEGORIES:Ministry Personnel,PMRC Events
ATTACH;FMTTYPE=image/png:https://pacificmountain.ca/wordpress2021/wp-content/uploads/MPST-Clergy-Prayer-Circle-Primary-Image.png
END:VEVENT
BEGIN:VEVENT
DTSTART;TZID=America/Vancouver:20241119T103000
DTEND;TZID=America/Vancouver:20241119T113000
DTSTAMP:20260422T054019
CREATED:20240419T181215Z
LAST-MODIFIED:20240419T181215Z
UID:18527-1732012200-1732015800@pacificmountain.ca
SUMMARY:Clergy Prayer Circle
DESCRIPTION:A Time For Connection\nAll active ministry personnel serving in the Pacific Mountain Regional Council are invited to this hour of being in community\, and sharing practices of check-in\, prayer\, laughter with one another. \nIf it may be your first time coming to the Clergy Prayer Circle\, please sign up to receive the link to the Zoom room:  Form.jotform.com/PMR-UCC/mpst-clergy-prayer-circle \nIf you’ve attended a Clergy Prayer Circle recently\, the link for the upcoming gathering will be automatically sent to your email address. If you’re not sure\, click the link above to sign up again. \nWe look forward to welcoming and praying with you. Please extend this invitation to active ministry personnel in your networks. \nThe Clergy Prayer Circle is free and drop-in style\, and hosted by members of Pacific Mountain Regional Council’s Ministry Personal Support Team (MPST). \nA Time for Prayer\n3rd Tuesday of the month \n10:30-11:30am Pacific / 11:30 am-12:30pm Mountain \nAlways Online\, via Zoom \nAlways requiring monthly registration \nClick Here to register.
URL:https://pacificmountain.ca/event/clergy-prayer-circle-november-19-2024/
LOCATION:Online
CATEGORIES:Ministry Personnel,PMRC Events
ATTACH;FMTTYPE=image/png:https://pacificmountain.ca/wordpress2021/wp-content/uploads/MPST-Clergy-Prayer-Circle-Primary-Image.png
END:VEVENT
BEGIN:VEVENT
DTSTART;TZID=America/Vancouver:20241015T103000
DTEND;TZID=America/Vancouver:20241015T113000
DTSTAMP:20260422T054019
CREATED:20240419T181158Z
LAST-MODIFIED:20240419T181158Z
UID:18525-1728988200-1728991800@pacificmountain.ca
SUMMARY:Clergy Prayer Circle
DESCRIPTION:A Time For Connection\nAll active ministry personnel serving in the Pacific Mountain Regional Council are invited to this hour of being in community\, and sharing practices of check-in\, prayer\, laughter with one another. \nIf it may be your first time coming to the Clergy Prayer Circle\, please sign up to receive the link to the Zoom room:  Form.jotform.com/PMR-UCC/mpst-clergy-prayer-circle \nIf you’ve attended a Clergy Prayer Circle recently\, the link for the upcoming gathering will be automatically sent to your email address. If you’re not sure\, click the link above to sign up again. \nWe look forward to welcoming and praying with you. Please extend this invitation to active ministry personnel in your networks. \nThe Clergy Prayer Circle is free and drop-in style\, and hosted by members of Pacific Mountain Regional Council’s Ministry Personal Support Team (MPST). \nA Time for Prayer\n3rd Tuesday of the month \n10:30-11:30am Pacific / 11:30 am-12:30pm Mountain \nAlways Online\, via Zoom \nAlways requiring monthly registration \nClick Here to register.
URL:https://pacificmountain.ca/event/clergy-prayer-circle-october-15-2024/
LOCATION:Online
CATEGORIES:Ministry Personnel,PMRC Events
ATTACH;FMTTYPE=image/png:https://pacificmountain.ca/wordpress2021/wp-content/uploads/MPST-Clergy-Prayer-Circle-Primary-Image.png
END:VEVENT
BEGIN:VEVENT
DTSTART;TZID=America/Vancouver:20240917T103000
DTEND;TZID=America/Vancouver:20240917T113000
DTSTAMP:20260422T054019
CREATED:20240419T181111Z
LAST-MODIFIED:20240419T181111Z
UID:18463-1726569000-1726572600@pacificmountain.ca
SUMMARY:Clergy Prayer Circle
DESCRIPTION:A Time For Connection\nAll active ministry personnel serving in the Pacific Mountain Regional Council are invited to this hour of being in community\, and sharing practices of check-in\, prayer\, laughter with one another. \nIf it may be your first time coming to the Clergy Prayer Circle\, please sign up to receive the link to the Zoom room:  Form.jotform.com/PMR-UCC/mpst-clergy-prayer-circle \nIf you’ve attended a Clergy Prayer Circle recently\, the link for the upcoming gathering will be automatically sent to your email address. If you’re not sure\, click the link above to sign up again. \nWe look forward to welcoming and praying with you. Please extend this invitation to active ministry personnel in your networks. \nThe Clergy Prayer Circle is free and drop-in style\, and hosted by members of Pacific Mountain Regional Council’s Ministry Personal Support Team (MPST). \nA Time for Prayer\n3rd Tuesday of the month \n10:30-11:30am Pacific / 11:30 am-12:30pm Mountain \nAlways Online\, via Zoom \nAlways requiring monthly registration \nClick Here to register.
URL:https://pacificmountain.ca/event/clergy-prayer-circle-september-17-2024-2/
LOCATION:Online
CATEGORIES:Ministry Personnel,PMRC Events
ATTACH;FMTTYPE=image/png:https://pacificmountain.ca/wordpress2021/wp-content/uploads/MPST-Clergy-Prayer-Circle-Primary-Image.png
END:VEVENT
BEGIN:VEVENT
DTSTART;VALUE=DATE:20240802
DTEND;VALUE=DATE:20240813
DTSTAMP:20260422T054019
CREATED:20231217T225952Z
LAST-MODIFIED:20240130T204437Z
UID:16998-1722556800-1723507199@pacificmountain.ca
SUMMARY:Guatemala ~ A Tour For Ministry Leaders\, with Executive Minister Treena Duncan and World Pilgrim Tours
DESCRIPTION:This tour is for ministry personnel from Chinook Winds and Pacific Mountain Regional Councils. To hear more about this opportunity\, or talk about how this tour is the right choice for you at this time in your ministry\, contact Executive Minister\, Treena Duncan. \nGuatemala: a tour for ministry leaders\nAugust 2-12\, 2024\n(Note: this date replaces the previously publicized Lenten 2024 dates) \nGUATEMALA\, CENTRAL AMERICA\nLead by World Pilgrim Global Education guides Doris Kizinna\, Julio Cochoy\, and Friends. \nGo to LeaderSHIFT’s Guatemala – A Tour For Ministry Personnel event page for tour information.
URL:https://pacificmountain.ca/event/guatemala-a-tour-for-ministry-leaders-with-executive-minister-treena-duncan-and-world-pilgrim-tours/
CATEGORIES:Chinook Winds,LeaderSHIFT UCCan,Ministry Personnel,PMRC Events
ATTACH;FMTTYPE=image/png:https://pacificmountain.ca/wordpress2021/wp-content/uploads/LS-CW-August-2024-Guatemala-SS-Header.png
ORGANIZER;CN="LeaderSHIFT":MAILTO:leadershift@united-church.ca
END:VEVENT
BEGIN:VEVENT
DTSTART;TZID=America/Vancouver:20240618T103000
DTEND;TZID=America/Vancouver:20240618T113000
DTSTAMP:20260422T054019
CREATED:20240419T180916Z
LAST-MODIFIED:20240419T180916Z
UID:18461-1718706600-1718710200@pacificmountain.ca
SUMMARY:Clergy Prayer Circle
DESCRIPTION:A Time For Connection\nAll active ministry personnel serving in the Pacific Mountain Regional Council are invited to this hour of being in community\, and sharing practices of check-in\, prayer\, laughter with one another. \nIf it may be your first time coming to the Clergy Prayer Circle\, please sign up to receive the link to the Zoom room:  Form.jotform.com/PMR-UCC/mpst-clergy-prayer-circle \nIf you’ve attended a Clergy Prayer Circle recently\, the link for the upcoming gathering will be automatically sent to your email address. If you’re not sure\, click the link above to sign up again. \nWe look forward to welcoming and praying with you. Please extend this invitation to active ministry personnel in your networks. \nThe Clergy Prayer Circle is free and drop-in style\, and hosted by members of Pacific Mountain Regional Council’s Ministry Personal Support Team (MPST). \nA Time for Prayer\n3rd Tuesday of the month \n10:30-11:30am Pacific / 11:30 am-12:30pm Mountain \nAlways Online\, via Zoom \nAlways requiring monthly registration \nClick Here to register.
URL:https://pacificmountain.ca/event/clergy-prayer-circle-june-18-2024/
LOCATION:Online
CATEGORIES:Ministry Personnel,PMRC Events
ATTACH;FMTTYPE=image/png:https://pacificmountain.ca/wordpress2021/wp-content/uploads/MPST-Clergy-Prayer-Circle-Primary-Image.png
END:VEVENT
BEGIN:VEVENT
DTSTART;TZID=America/Vancouver:20240529T130000
DTEND;TZID=America/Vancouver:20240530T140000
DTSTAMP:20260422T054019
CREATED:20240311T210111Z
LAST-MODIFIED:20240404T182338Z
UID:17484-1716987600-1717077600@pacificmountain.ca
SUMMARY:Deep Dive ~ A Time for Ministry Personnel Pre-PMRC AGM
DESCRIPTION:A LEADERSHIFT OFFERING WITH GROWTH ANIMATOR\, REV. SCOTT REYNOLDS\nA gathering for ministry personnel in the days immediately prior to the Pacific Mountain Regional Council’s 2024 Annual General Meeting! \nDeep Dive – A Time for Ministry Personnel Pre-PMRC AGM with Growth Animator Rev. Scott Reynolds and LeaderSHIFT’s Rev. Michelle Slater \n1pm Wednesday May 29 until 2pm Thursday May 30 (following lunch together) \nDowntown Vancouver at St. Andrew’s-Welsey United Church \n$50\, with registration opening soon. Contact Rev. Michelle Slater if any questions\, in the meantime: MSlater@united-church.ca
URL:https://pacificmountain.ca/event/deep-dive-a-time-for-ministry-personnel-pre-pmrc-agm/
LOCATION:St. Andrew’s-Wesley United Church\, Vancouver\, BC\, Canada
CATEGORIES:General Meeting,LeaderSHIFT UCCan,Ministry Personnel,PMRC Events
ATTACH;FMTTYPE=image/png:https://pacificmountain.ca/wordpress2021/wp-content/uploads/LS-Pre-AGM-Event-May-2024-no-dates-1080x1080-1-e1710191034868.png
ORGANIZER;CN="LeaderSHIFT":MAILTO:leadershift@united-church.ca
END:VEVENT
BEGIN:VEVENT
DTSTART;TZID=America/Vancouver:20240521T103000
DTEND;TZID=America/Vancouver:20240521T113000
DTSTAMP:20260422T054019
CREATED:20240419T180810Z
LAST-MODIFIED:20240419T180810Z
UID:18447-1716287400-1716291000@pacificmountain.ca
SUMMARY:Clergy Prayer Circle
DESCRIPTION:A Time For Connection\nAll active ministry personnel serving in the Pacific Mountain Regional Council are invited to this hour of being in community\, and sharing practices of check-in\, prayer\, laughter with one another. \nIf it may be your first time coming to the Clergy Prayer Circle\, please sign up to receive the link to the Zoom room:  Form.jotform.com/PMR-UCC/mpst-clergy-prayer-circle \nIf you’ve attended a Clergy Prayer Circle recently\, the link for the upcoming gathering will be automatically sent to your email address. If you’re not sure\, click the link above to sign up again. \nWe look forward to welcoming and praying with you. Please extend this invitation to active ministry personnel in your networks. \nThe Clergy Prayer Circle is free and drop-in style\, and hosted by members of Pacific Mountain Regional Council’s Ministry Personal Support Team (MPST). \nA Time for Prayer\n3rd Tuesday of the month \n10:30-11:30am Pacific / 11:30 am-12:30pm Mountain \nAlways Online\, via Zoom \nAlways requiring monthly registration \nClick Here to register.
URL:https://pacificmountain.ca/event/clergy-prayer-circle-may-21-2024/
LOCATION:Online
CATEGORIES:Ministry Personnel,PMRC Events
ATTACH;FMTTYPE=image/png:https://pacificmountain.ca/wordpress2021/wp-content/uploads/MPST-Clergy-Prayer-Circle-Primary-Image.png
END:VEVENT
BEGIN:VEVENT
DTSTART;TZID=America/Vancouver:20240404T090000
DTEND;TZID=America/Vancouver:20240406T123000
DTSTAMP:20260422T054019
CREATED:20240209T205625Z
LAST-MODIFIED:20240209T205917Z
UID:17341-1712221200-1712406600@pacificmountain.ca
SUMMARY:Anti-Racism Work & Action Leadership Conference 2024
DESCRIPTION:Held in-person at the Epiphany Chapel\, on the Vancouver School of Theology UBC campus\, come empower yourself to engage key learnings\, work\, and action. Be in a Christian community of other ministry leaders who are working for an anti-racist church. \n\nAnti-Racism Work & Action\nLeadership Conference 2024\nApril 2-4\, 2024\n\n\n  \n\n\n\n\n\nWork\, and action – in Christian community\n\n\n\n\n\n\n\n\nAnti-Racism Work & Action Leadership Conference is an offering of Chinook Winds & Pacific Mountain Regional Councils First Third Ministry. First Third Ministry’s mission is to support those who work with those in the first of life’s three eras (children\, youth\, young adults and families) – yet\, this conference is designed to resonate for leaders of any\, and\, all ages and generations. \nFor All in Leadership\nWhether you’re paid or volunteering\, staffing a community of faith or un-churched organization\, focused on children & family ministry or serving older generations\, this conference centers anti-racism principles and actions in your leadership. \n \n\nYou can expect \nVaried learning formats and thoughtfully chosen content to engage key learnings\, focus work\, and empower action in your leadership. \nA Christ-centered conference fostering connection and relationship with other leaders who are also working for an anti-racist church. \nDiscovery-based questions and reflection opportunities will help you to compassionately and faithfully examine your own ministry and leadership in your specific setting. \nAn introduction to the materials from the new United Church of Canada resource for children and youth\, Becoming an Anti-Racist Church. \nA convergence of your personal and professional call to anti-racism\, with others like you – all seeking a new way of being church.​ \n\nEvent Page\, Registration\, Funding : FirstThirdMinistry.ca/f3-conference-anti-racism-work-and-action\n 
URL:https://pacificmountain.ca/event/anti-racism-work-action-leadership-conference-2024/
LOCATION:Epiphany Chapel – VST\, 6030 Chancellor Blvd\, Vancouver\, BC\, V6T 1E7\, Canada
CATEGORIES:Chinook Winds,First Third Ministry,Justice Ministry,LeaderSHIFT UCCan,Ministry Personnel,News,PMRC Events
ATTACH;FMTTYPE=image/png:https://pacificmountain.ca/wordpress2021/wp-content/uploads/MN-VST-Leadership-Conf-2024-Details-and-Sponsorship-Facebook-Cover-V4.png
ORGANIZER;CN="First Third Ministry":MAILTO:FirstThirdMinistry@united-church.ca
END:VEVENT
BEGIN:VEVENT
DTSTART;TZID=America/Vancouver:20240220T103000
DTEND;TZID=America/Vancouver:20240220T113000
DTSTAMP:20260422T054019
CREATED:20240215T194108Z
LAST-MODIFIED:20240215T194108Z
UID:17387-1708425000-1708428600@pacificmountain.ca
SUMMARY:Clergy Prayer Circle ~ A time for connection
DESCRIPTION:All active ministry personnel serving in the Pacific Mountain Regional Council are invited to this hour of being in community\, and sharing practices of check-in\, prayer\, laughter with one another. \nThe Clergy Prayer Circle is free and drop-in style\, though registration is required to access the Zoom link. The Clergy Prayer Circle is hosted by Pacific Mountain Regional Council’s Ministry Personal Support Team. The Zoom Registration Link is below. \nClick here to register for the next Clergy Prayer Circle. \nA time for prayer\n\n3rd Tuesday of the month\nAlways Online\, via Zoom\nAlways requiring monthly registration
URL:https://pacificmountain.ca/event/clergy-prayer-circle-a-time-for-connection/
CATEGORIES:Ministry Personnel,PMRC Events
ATTACH;FMTTYPE=image/png:https://pacificmountain.ca/wordpress2021/wp-content/uploads/CC-02-2024-Active-Clergy-Prayer-Circle.png
END:VEVENT
BEGIN:VEVENT
DTSTART;TZID=America/Vancouver:20240209T100000
DTEND;TZID=America/Vancouver:20240209T110000
DTSTAMP:20260422T054019
CREATED:20240124T221215Z
LAST-MODIFIED:20240130T213100Z
UID:17236-1707472800-1707476400@pacificmountain.ca
SUMMARY:February Online Info Session for “Guatemala: A Tour for Ministry Leaders”
DESCRIPTION:Traveling August 2024\nWITH EXECUTIVE MINISTER TREENA DUNCAN\, LEAD BY WORLD PILGRIM GLOBAL EDUCATION-AWARENESS TRAVEL\n\nCurious?\nJOIN ONE OF OUR ONLINE INFORMATION SESSIONS!\n\n\nJanuary 30\, 2024\, 10am Pacific / 11am Mountain \n\n\nFebruary 9\, 2024\, 10am Pacific / 11am Mountain \n\n\nThe Zoom link for both info sessions is: https://us02web.zoom.us/j/82787409411 \nCome\, Pilgrim.\nThis is your invitation to immerse yourself in a pilgrimage to the Highlands of Guatemala in community with Executive Minister\, Treena Duncan\, LeaderSHIFT\, fellow ministry leaders\, and World Pilgrim guides Doris Kizinna\, Julio Conchoy and Friends. \nFull course details and registration information is on the Guatemala: A Tour for Ministry Leaders event page.
URL:https://pacificmountain.ca/event/february-online-info-session-for-guatemala-a-tour-for-ministry-leaders/
CATEGORIES:Chinook Winds,LeaderSHIFT UCCan,Ministry Personnel,PMRC Events
ATTACH;FMTTYPE=image/png:https://pacificmountain.ca/wordpress2021/wp-content/uploads/LS-CW-August-2024-Guatemala-Square.png
ORGANIZER;CN="LeaderSHIFT":MAILTO:leadershift@united-church.ca
END:VEVENT
BEGIN:VEVENT
DTSTART;TZID=America/Vancouver:20240130T100000
DTEND;TZID=America/Vancouver:20240130T110000
DTSTAMP:20260422T054019
CREATED:20240124T215934Z
LAST-MODIFIED:20240130T203352Z
UID:17233-1706608800-1706612400@pacificmountain.ca
SUMMARY:January Online Info Session for "Guatemala: A Tour for Ministry Leaders"
DESCRIPTION:Traveling August 2024\nWITH EXECUTIVE MINISTER TREENA DUNCAN\, LEAD BY WORLD PILGRIM GLOBAL EDUCATION-AWARENESS TRAVEL\n\nCurious?\nJOIN ONE OF OUR ONLINE INFORMATION SESSIONS!\n\n\nJanuary 30\, 2024\, 10am Pacific / 11am Mountain \n\n\nFebruary 9\, 2024\, 10am Pacific / 11am Mountain \n\n\nThe Zoom link for both info sessions is: https://us02web.zoom.us/j/82787409411 \nCome\, Pilgrim.\nThis is your invitation to immerse yourself in a pilgrimage to the Highlands of Guatemala in community with Executive Minister\, Treena Duncan and fellow ministry leaders\, and World Pilgrim guides Doris Kizinna\, Julio Conchoy and Friends. \nFull course details and registration information is on the Guatemala: A Tour for Ministry Leaders event page.
URL:https://pacificmountain.ca/event/january-online-info-session-for-guatemala-a-tour-for-ministry-leaders/
CATEGORIES:Chinook Winds,LeaderSHIFT UCCan,Ministry Personnel,News
ATTACH;FMTTYPE=image/png:https://pacificmountain.ca/wordpress2021/wp-content/uploads/LS-CW-August-2024-Guatemala-Square.png
ORGANIZER;CN="LeaderSHIFT":MAILTO:leadershift@united-church.ca
END:VEVENT
END:VCALENDAR