BEGIN:VCALENDAR
VERSION:2.0
PRODID:-//Pacific Mountain Region - ECPv6.8.1//NONSGML v1.0//EN
CALSCALE:GREGORIAN
METHOD:PUBLISH
X-ORIGINAL-URL:https://pacificmountain.ca
X-WR-CALDESC:Events for Pacific Mountain Region
REFRESH-INTERVAL;VALUE=DURATION:PT1H
X-Robots-Tag:noindex
X-PUBLISHED-TTL:PT1H
BEGIN:VTIMEZONE
TZID:America/Vancouver
BEGIN:DAYLIGHT
TZOFFSETFROM:-0800
TZOFFSETTO:-0700
TZNAME:PDT
DTSTART:20260308T100000
END:DAYLIGHT
BEGIN:STANDARD
TZOFFSETFROM:-0700
TZOFFSETTO:-0800
TZNAME:PST
DTSTART:20261101T090000
END:STANDARD
END:VTIMEZONE
BEGIN:VEVENT
DTSTART;TZID=America/Vancouver:20260603T140000
DTEND;TZID=America/Vancouver:20260604T130000
DTSTAMP:20260423T105040
CREATED:20260422T192314Z
LAST-MODIFIED:20260422T192314Z
UID:22304-1780495200-1780578000@pacificmountain.ca
SUMMARY:Creating a Culture of Cooperation: A Lay Leader Gathering
DESCRIPTION:A Lay Leadership Support Team Offering\nCreating a Culture of Cooperation\nWednesday June 3 – Thursday June 4\, 2026\nIn-Person at Kamloops United Church\nThe Lay Leadership Support Team is excited to offer this opportunity for Lay People\, who are involved in the many varieties of lay Ministry\, to gather together the day before\, and the day of\, the Pacific Mountain Region Annual General Meeting. \nWe are inviting all lay leader volunteers including Board/Council chairs and Board members\, M&P chairs and members\, Trustees\, Worship Committees\, Finance Committees\, Outreach Committees and all other volunteers who participate and contribute to their church families. Lay Worship Leaders are welcome but this workshop is not geared to Lay Worship Leaders but is purposed to support lay leadership in all aspects of a faith community’s life. \nWe hope that many of you that are planning to attend the Regional Meeting will consider coming early to assist us in together Creating a Culture of Cooperation! \nClick here for more information and registration!
URL:https://pacificmountain.ca/event/creating-a-culture-of-cooperation-a-lay-leader-gathering/
LOCATION:Kamloops United Church\, 421 St. Paul's Road\, Kamloops\, BC\, Canada
CATEGORIES:AGM - PMR,Lay Leadership,PMRC Events
ATTACH;FMTTYPE=image/png:https://pacificmountain.ca/wordpress2021/wp-content/uploads/LLST-2026-pre-AGM-regisration-image-for-CC-1.png
END:VEVENT
END:VCALENDAR