BEGIN:VCALENDAR
VERSION:2.0
PRODID:-//Pacific Mountain Region - ECPv6.8.1//NONSGML v1.0//EN
CALSCALE:GREGORIAN
METHOD:PUBLISH
X-WR-CALNAME:Pacific Mountain Region
X-ORIGINAL-URL:https://pacificmountain.ca
X-WR-CALDESC:Events for Pacific Mountain Region
REFRESH-INTERVAL;VALUE=DURATION:PT1H
X-Robots-Tag:noindex
X-PUBLISHED-TTL:PT1H
BEGIN:VTIMEZONE
TZID:America/Vancouver
BEGIN:DAYLIGHT
TZOFFSETFROM:-0800
TZOFFSETTO:-0700
TZNAME:PDT
DTSTART:20260308T100000
END:DAYLIGHT
BEGIN:STANDARD
TZOFFSETFROM:-0700
TZOFFSETTO:-0800
TZNAME:PST
DTSTART:20261101T090000
END:STANDARD
END:VTIMEZONE
BEGIN:VEVENT
DTSTART;TZID=America/Vancouver:20260530T100000
DTEND;TZID=America/Vancouver:20260530T140000
DTSTAMP:20260423T001212
CREATED:20260422T230025Z
LAST-MODIFIED:20260422T230025Z
UID:22319-1780135200-1780149600@pacificmountain.ca
SUMMARY:Toward 2035: Conversations Across Pacific Mountain Region
DESCRIPTION:Toward 2035: In-person Conversations with Treena Duncan and Kathy Davies\nSaturday May 30\, 2026\nIn-Person at Central Okanagan United Church (602 Silica St.\, Nelson BC)\nYou’re invited join us for a region-wide conversation about the future of the church. \nSeven in-person gatherings will take place across the province\, bringing local communities of faith together to connect with one another and with the wider region. In these conversations\, we’ll explore the United Church’s Toward 2035 vision\, reflect on data specific to your local area\, and begin imagining a shared path forward for sustaining and strengthening our ministry. \nThis is a space for connection\, curiosity\, and collaboration. Together\, we’ll share wisdom\, listen deeply\, and consider new ways of working alongside neighbouring communities of faith. \nAll are welcome\, active and retired ministry personnel\, lay leaders\, and anyone who feels called to engage in shaping the future of the United Church in their local context. \nIf you have any questions\, please email Kathy Davies\, Pastoral Relations and Community of Faith Team Lead \nClick here to register!
URL:https://pacificmountain.ca/event/toward-2035-conversations-may-30/
LOCATION:Nelson United Church\, 602 Silica Street\, Nelson\, BC\, V1L 4N1
CATEGORIES:PMRC Events
ATTACH;FMTTYPE=image/png:https://pacificmountain.ca/wordpress2021/wp-content/uploads/Towards-20235-cluster-conversations-2.png
END:VEVENT
END:VCALENDAR