BEGIN:VCALENDAR
VERSION:2.0
PRODID:-//Pacific Mountain Region - ECPv6.8.1//NONSGML v1.0//EN
CALSCALE:GREGORIAN
METHOD:PUBLISH
X-ORIGINAL-URL:https://pacificmountain.ca
X-WR-CALDESC:Events for Pacific Mountain Region
REFRESH-INTERVAL;VALUE=DURATION:PT1H
X-Robots-Tag:noindex
X-PUBLISHED-TTL:PT1H
BEGIN:VTIMEZONE
TZID:America/Vancouver
BEGIN:DAYLIGHT
TZOFFSETFROM:-0800
TZOFFSETTO:-0700
TZNAME:PDT
DTSTART:20240310T100000
END:DAYLIGHT
BEGIN:STANDARD
TZOFFSETFROM:-0700
TZOFFSETTO:-0800
TZNAME:PST
DTSTART:20241103T090000
END:STANDARD
END:VTIMEZONE
BEGIN:VEVENT
DTSTART;TZID=America/Vancouver:20241118T080000
DTEND;TZID=America/Vancouver:20241121T170000
DTSTAMP:20260424T153904
CREATED:20240909T160658Z
LAST-MODIFIED:20240909T160658Z
UID:19602-1731916800-1732208400@pacificmountain.ca
SUMMARY:Church Planters Retreat
DESCRIPTION:Photo Credit to D. Sharon Pruitt \nChurch Planting is a broad term that refers to starting new communities of faith for the benefit of those who are not yet part of the Church. These may start in various forms\, and usually have the capacity to develop into ‘mature’ expressions of ‘word\, sacrament and pastoral care’ – though that might look very different then many existing congregations or pastoral charges. We deliberately engage this metaphor of gardening and tilling as a way to express the organic and ecological nature of starting new communities of faith. \nIf you are interested please contact Rob Shearer the Regional Minister for LeaderSHIFT Church Planting Project (LLCP).  He can be reached by email or phone +1-778-977-7562. \n 
URL:https://pacificmountain.ca/event/church-planters-retreat/
LOCATION:Bethlehem Centre\, 2371 Arbot Rd\, Nanaimo\, British Columbia\, V9R 6S9\, Canada
CATEGORIES:LeaderSHIFT UCCan,PMRC Events
ATTACH;FMTTYPE=image/jpeg:https://pacificmountain.ca/wordpress2021/wp-content/uploads/Baby-seedling-image-by-D.-Sharon-Pruitt.jpg
ORGANIZER;CN="LeaderSHIFT":MAILTO:leadershift@united-church.ca
END:VEVENT
BEGIN:VEVENT
DTSTART;TZID=America/Vancouver:20241119T103000
DTEND;TZID=America/Vancouver:20241119T113000
DTSTAMP:20260424T153904
CREATED:20240419T181215Z
LAST-MODIFIED:20240419T181215Z
UID:18527-1732012200-1732015800@pacificmountain.ca
SUMMARY:Clergy Prayer Circle
DESCRIPTION:A Time For Connection\nAll active ministry personnel serving in the Pacific Mountain Regional Council are invited to this hour of being in community\, and sharing practices of check-in\, prayer\, laughter with one another. \nIf it may be your first time coming to the Clergy Prayer Circle\, please sign up to receive the link to the Zoom room:  Form.jotform.com/PMR-UCC/mpst-clergy-prayer-circle \nIf you’ve attended a Clergy Prayer Circle recently\, the link for the upcoming gathering will be automatically sent to your email address. If you’re not sure\, click the link above to sign up again. \nWe look forward to welcoming and praying with you. Please extend this invitation to active ministry personnel in your networks. \nThe Clergy Prayer Circle is free and drop-in style\, and hosted by members of Pacific Mountain Regional Council’s Ministry Personal Support Team (MPST). \nA Time for Prayer\n3rd Tuesday of the month \n10:30-11:30am Pacific / 11:30 am-12:30pm Mountain \nAlways Online\, via Zoom \nAlways requiring monthly registration \nClick Here to register.
URL:https://pacificmountain.ca/event/clergy-prayer-circle-november-19-2024/
LOCATION:Online
CATEGORIES:Ministry Personnel,PMRC Events
ATTACH;FMTTYPE=image/png:https://pacificmountain.ca/wordpress2021/wp-content/uploads/MPST-Clergy-Prayer-Circle-Primary-Image.png
END:VEVENT
END:VCALENDAR