BEGIN:VCALENDAR
VERSION:2.0
PRODID:-//Pacific Mountain Region - ECPv6.8.1//NONSGML v1.0//EN
CALSCALE:GREGORIAN
METHOD:PUBLISH
X-ORIGINAL-URL:https://pacificmountain.ca
X-WR-CALDESC:Events for Pacific Mountain Region
REFRESH-INTERVAL;VALUE=DURATION:PT1H
X-Robots-Tag:noindex
X-PUBLISHED-TTL:PT1H
BEGIN:VTIMEZONE
TZID:America/Vancouver
BEGIN:DAYLIGHT
TZOFFSETFROM:-0800
TZOFFSETTO:-0700
TZNAME:PDT
DTSTART:20240310T100000
END:DAYLIGHT
BEGIN:STANDARD
TZOFFSETFROM:-0700
TZOFFSETTO:-0800
TZNAME:PST
DTSTART:20241103T090000
END:STANDARD
END:VTIMEZONE
BEGIN:VEVENT
DTSTART;TZID=America/Vancouver:20241116T090000
DTEND;TZID=America/Vancouver:20241116T170000
DTSTAMP:20260424T022117
CREATED:20240910T214412Z
LAST-MODIFIED:20240910T214412Z
UID:19656-1731747600-1731776400@pacificmountain.ca
SUMMARY:A Day-Long Retreat for Boards/Councils & Their Ministry Personnel
DESCRIPTION:A Day-Long Retreat for Boards/Councils & Their Ministry Personnel\nWith LeaderSHIFT\nSaturday\, November 16\, 2024\n9:00 a.m.  5:00 p.m\nIn-Person at 6000 Sussex Ave. Burnaby\, BC\nJoin Pacific Mountain Regional Ministers for workshops on recruitment\, emerging models of congregational governance\, best practices\, Manual roles and responsibilities and more. Come gain some knowledge and skills\, build relationships with other lay leaders\, and reconnect to why you care about and give your time\, energy and commitment to your community of faith! \nRegistration & Information at A Day-Long Retreat for Boards/Councils & Their Ministry Personnel!
URL:https://pacificmountain.ca/event/a-day-long-retreat-for-boards-councils-their-ministry-personnel/
LOCATION:Pacific Mountain Regional Council Office\, 6000 Sussex Avenue\, Burnaby\, BC\, V5H 3C2\, Canada
CATEGORIES:LeaderSHIFT UCCan,PMRC Events
ATTACH;FMTTYPE=image/png:https://pacificmountain.ca/wordpress2021/wp-content/uploads/Leadershift-day-long-retreat-2024.png
ORGANIZER;CN="LeaderSHIFT":MAILTO:leadershift@united-church.ca
END:VEVENT
END:VCALENDAR