BEGIN:VCALENDAR
VERSION:2.0
PRODID:-//Pacific Mountain Region - ECPv6.8.1//NONSGML v1.0//EN
CALSCALE:GREGORIAN
METHOD:PUBLISH
X-WR-CALNAME:Pacific Mountain Region
X-ORIGINAL-URL:https://pacificmountain.ca
X-WR-CALDESC:Events for Pacific Mountain Region
REFRESH-INTERVAL;VALUE=DURATION:PT1H
X-Robots-Tag:noindex
X-PUBLISHED-TTL:PT1H
BEGIN:VTIMEZONE
TZID:America/Vancouver
BEGIN:DAYLIGHT
TZOFFSETFROM:-0800
TZOFFSETTO:-0700
TZNAME:PDT
DTSTART:20240310T100000
END:DAYLIGHT
BEGIN:STANDARD
TZOFFSETFROM:-0700
TZOFFSETTO:-0800
TZNAME:PST
DTSTART:20241103T090000
END:STANDARD
END:VTIMEZONE
BEGIN:VEVENT
DTSTART;TZID=America/Vancouver:20241112T130000
DTEND;TZID=America/Vancouver:20241112T140000
DTSTAMP:20260424T021900
CREATED:20240409T215727Z
LAST-MODIFIED:20240911T220456Z
UID:18246-1731416400-1731420000@pacificmountain.ca
SUMMARY:Living Generously Stewardship Webinar 4 ~ Advent of Generosity: Inviting Giving & Participation During Advent and Christmas
DESCRIPTION:With LeaderSHIFT and Vicki Nelson\, Community of Faith Stewardship Support\n  \nThis free webinar series is supported by LeaderSHIFT\, The United Church of Canada\, Pacific Mountain Regional Council\, Chinook Winds Regional Council. It’s for church leaders – clergy and lay – to explore ways to encourage\, support\, and talk about church finances and givings. \nThis 60-minute session for church leaders–both clergy and lay–will talk about different ways that we can bring conversations of stewardship into Advent\, Christmas Eve\, and beyond. Through hospitality\, welcome and invitation\, let’s help make this Advent the beginning of a church year full of deeper generosity. \nONLINE ONLY\, VIA ZOOM\nRegistration & Information at Living Generously: A Stewardship Webinar Series
URL:https://pacificmountain.ca/event/advent-of-generosity-inviting-giving-participation-during-advent-and-christmas-living-generously-a-stewardship-webinar-series/
LOCATION:Online
CATEGORIES:General Council Office,LeaderSHIFT UCCan,PMRC Events
ATTACH;FMTTYPE=image/png:https://pacificmountain.ca/wordpress2021/wp-content/uploads/LS-Stewardship-Webinar-Series-2024-SS-Calendar-Image-4.png
ORGANIZER;CN="LeaderSHIFT":MAILTO:leadershift@united-church.ca
END:VEVENT
BEGIN:VEVENT
DTSTART;TZID=America/Vancouver:20241112T133000
DTEND;TZID=America/Vancouver:20241112T143000
DTSTAMP:20260424T021900
CREATED:20240910T213517Z
LAST-MODIFIED:20240910T213517Z
UID:19648-1731418200-1731421800@pacificmountain.ca
SUMMARY:Leaders Online Gathering
DESCRIPTION:Leaders Online Gathering – Engaging All Ages in Worship\nWith the First Third Ministry\nTuesday November 12\, 2024\n1:30pm Pacific / 2:30 Mountain\nFirst Third Ministry hosts a monthly gathering of United Church leaders who are in ministry with children\, youth and families\, across the church. \nLed by First Third Ministry’s Minister for Leadership Support & Development: Rev. Michelle Slater!\n​\nJoin us for an online cohort group discussions\, comprised of check-ins\, resource-sharing\, and monthly themes to discuss! \nClick here to register for the Zoom link!
URL:https://pacificmountain.ca/event/leaders-online-gathering-nov-2024/
LOCATION:Online
CATEGORIES:First Third Ministry,PMRC Events
ATTACH;FMTTYPE=image/png:https://pacificmountain.ca/wordpress2021/wp-content/uploads/F3-Leaders-online-gathring-fall.png
ORGANIZER;CN="First Third Ministry":MAILTO:FirstThirdMinistry@united-church.ca
END:VEVENT
END:VCALENDAR