BEGIN:VCALENDAR
VERSION:2.0
PRODID:-//Pacific Mountain Region - ECPv6.8.1//NONSGML v1.0//EN
CALSCALE:GREGORIAN
METHOD:PUBLISH
X-WR-CALNAME:Pacific Mountain Region
X-ORIGINAL-URL:https://pacificmountain.ca
X-WR-CALDESC:Events for Pacific Mountain Region
REFRESH-INTERVAL;VALUE=DURATION:PT1H
X-Robots-Tag:noindex
X-PUBLISHED-TTL:PT1H
BEGIN:VTIMEZONE
TZID:America/Vancouver
BEGIN:DAYLIGHT
TZOFFSETFROM:-0800
TZOFFSETTO:-0700
TZNAME:PDT
DTSTART:20260308T100000
END:DAYLIGHT
BEGIN:STANDARD
TZOFFSETFROM:-0700
TZOFFSETTO:-0800
TZNAME:PST
DTSTART:20261101T090000
END:STANDARD
END:VTIMEZONE
BEGIN:VEVENT
DTSTART;TZID=America/Vancouver:20260420T150000
DTEND;TZID=America/Vancouver:20260423T130000
DTSTAMP:20260423T043401
CREATED:20251016T221459Z
LAST-MODIFIED:20251016T221459Z
UID:21668-1776697200-1776949200@pacificmountain.ca
SUMMARY:Radical Hope: A Clergy Retreat
DESCRIPTION:A LeaderSHIFT Offering with With Rev. Therese DesCamps and Robyn Froese\nRadical Hope: A Clergy Retreat\nMonday April 20 – Thursday April 23\, 2026\nIn-Person at Naramata Centre\n\n\n\n\nRetreat Overview\n\nBeginning 3pm\, Monday\, April 20\nClosing with lunch at 12pm\, Thursday\, April 23\nPrivate accommodation\, all meals and snacks provided\nAfternoon optional experiences included\, such as Healing Touch\, Cranial-Sacral Therapy\, Yoga\, Forest Bathing/Wild Church\, and Spiritual Direction\n\nRegistration Information\n\n$775 per person (private accommodation)\nRegistration: https://app.amilia.com/store/en/chinook-pacific-uccan/shop/programs/98110?subCategoryIds=6316175\n\n\n\n\n\n\n\n\n\nThough the fig tree does not blossom and no fruit is on the vines;\nthough the produce of the olive fails and the fields yield no food… yet I will rejoice in the Lord; I will exult in the God of my salvation. (Habakkuk 3:17-18) \nThe prophet Habakkuk lived in a time of great turmoil and injustice. His short three-chapter book condemns both the corruption of his own people and the brutality of their enemies. Yet at the end of the book\, as Habakkuk faces into famine and destruction\, he sings of joy. \nWhat enables this kind of hope? Is this a delusion\, a spiritual bypass\, a vindictive taunt of Israel’s enemies? Or is Habakkuk actually filled with a radical hope that is not dependent on good outcomes? And if this is radical hope\, how do we get some of that? \nOur time together at Naramata will explore how we face into the storm of the world we live in; how we are connected (and why this is wonderful and awful at the same time); our work of giving attention; how we allow prayer to heal and equip us; and the sacramental practice of letting go. \nYou can expect to leave this retreat feeling refreshed. Better yet\, you can expect to identify the practices that will work in your own life\, to settle more deeply into your own call to ministry\, to connect with others for mutual support\, and to rest in a radical revision of hope. \nFor more information and registration: Radical Hope Clergy Retreat — LeaderSHIFT UCCan
URL:https://pacificmountain.ca/event/radical-hope-a-clergy-retreat/
LOCATION:Naramata Centre\, 460 Ellis Street\, Naramata\, BC\, V0H 1N0\, Canada
CATEGORIES:LeaderSHIFT UCCan,PMRC Events
ATTACH;FMTTYPE=image/jpeg:https://pacificmountain.ca/wordpress2021/wp-content/uploads/LeaderSHIFT-Radical-Hope-Clergy-retreat-2026.jpg
ORGANIZER;CN="LeaderSHIFT":MAILTO:leadershift@united-church.ca
END:VEVENT
BEGIN:VEVENT
DTSTART;TZID=America/Vancouver:20260423T130000
DTEND;TZID=America/Vancouver:20260423T160000
DTSTAMP:20260423T043401
CREATED:20260422T225135Z
LAST-MODIFIED:20260422T225135Z
UID:22309-1776949200-1776960000@pacificmountain.ca
SUMMARY:Toward 2035: Conversations Across Pacific Mountain Region
DESCRIPTION:Toward 2035: In-person Conversations with Treena Duncan and Kathy Davies\nThursday April 23\, 2026\nIn-Person at Central Okanagan United Church (721 Bernard Ave.\, Kelowna BC)\nYou’re invited join us for a region-wide conversation about the future of the church. \nSeven in-person gatherings will take place across the province\, bringing local communities of faith together to connect with one another and with the wider region. In these conversations\, we’ll explore the United Church’s Toward 2035 vision\, reflect on data specific to your local area\, and begin imagining a shared path forward for sustaining and strengthening our ministry. \nThis is a space for connection\, curiosity\, and collaboration. Together\, we’ll share wisdom\, listen deeply\, and consider new ways of working alongside neighbouring communities of faith. \nAll are welcome\, active and retired ministry personnel\, lay leaders\, and anyone who feels called to engage in shaping the future of the United Church in their local context. \nIf you have any questions\, please email Kathy Davies\, Pastoral Relations and Community of Faith Team Lead \nClick here to register!
URL:https://pacificmountain.ca/event/toward-2035-conversations-april-23/
LOCATION:BC
CATEGORIES:PMRC Events
ATTACH;FMTTYPE=image/png:https://pacificmountain.ca/wordpress2021/wp-content/uploads/Towards-20235-cluster-conversations-2.png
END:VEVENT
END:VCALENDAR