BEGIN:VCALENDAR
VERSION:2.0
PRODID:-//Pacific Mountain Region - ECPv6.8.1//NONSGML v1.0//EN
CALSCALE:GREGORIAN
METHOD:PUBLISH
X-WR-CALNAME:Pacific Mountain Region
X-ORIGINAL-URL:https://pacificmountain.ca
X-WR-CALDESC:Events for Pacific Mountain Region
REFRESH-INTERVAL;VALUE=DURATION:PT1H
X-Robots-Tag:noindex
X-PUBLISHED-TTL:PT1H
BEGIN:VTIMEZONE
TZID:America/Vancouver
BEGIN:DAYLIGHT
TZOFFSETFROM:-0800
TZOFFSETTO:-0700
TZNAME:PDT
DTSTART:20260308T100000
END:DAYLIGHT
BEGIN:STANDARD
TZOFFSETFROM:-0700
TZOFFSETTO:-0800
TZNAME:PST
DTSTART:20261101T090000
END:STANDARD
END:VTIMEZONE
BEGIN:VEVENT
DTSTART;TZID=America/Vancouver:20260420T150000
DTEND;TZID=America/Vancouver:20260423T130000
DTSTAMP:20260421T120019
CREATED:20251016T221459Z
LAST-MODIFIED:20251016T221459Z
UID:21668-1776697200-1776949200@pacificmountain.ca
SUMMARY:Radical Hope: A Clergy Retreat
DESCRIPTION:A LeaderSHIFT Offering with With Rev. Therese DesCamps and Robyn Froese\nRadical Hope: A Clergy Retreat\nMonday April 20 – Thursday April 23\, 2026\nIn-Person at Naramata Centre\n\n\n\n\nRetreat Overview\n\nBeginning 3pm\, Monday\, April 20\nClosing with lunch at 12pm\, Thursday\, April 23\nPrivate accommodation\, all meals and snacks provided\nAfternoon optional experiences included\, such as Healing Touch\, Cranial-Sacral Therapy\, Yoga\, Forest Bathing/Wild Church\, and Spiritual Direction\n\nRegistration Information\n\n$775 per person (private accommodation)\nRegistration: https://app.amilia.com/store/en/chinook-pacific-uccan/shop/programs/98110?subCategoryIds=6316175\n\n\n\n\n\n\n\n\n\nThough the fig tree does not blossom and no fruit is on the vines;\nthough the produce of the olive fails and the fields yield no food… yet I will rejoice in the Lord; I will exult in the God of my salvation. (Habakkuk 3:17-18) \nThe prophet Habakkuk lived in a time of great turmoil and injustice. His short three-chapter book condemns both the corruption of his own people and the brutality of their enemies. Yet at the end of the book\, as Habakkuk faces into famine and destruction\, he sings of joy. \nWhat enables this kind of hope? Is this a delusion\, a spiritual bypass\, a vindictive taunt of Israel’s enemies? Or is Habakkuk actually filled with a radical hope that is not dependent on good outcomes? And if this is radical hope\, how do we get some of that? \nOur time together at Naramata will explore how we face into the storm of the world we live in; how we are connected (and why this is wonderful and awful at the same time); our work of giving attention; how we allow prayer to heal and equip us; and the sacramental practice of letting go. \nYou can expect to leave this retreat feeling refreshed. Better yet\, you can expect to identify the practices that will work in your own life\, to settle more deeply into your own call to ministry\, to connect with others for mutual support\, and to rest in a radical revision of hope. \nFor more information and registration: Radical Hope Clergy Retreat — LeaderSHIFT UCCan
URL:https://pacificmountain.ca/event/radical-hope-a-clergy-retreat/
LOCATION:Naramata Centre\, 460 Ellis Street\, Naramata\, BC\, V0H 1N0\, Canada
CATEGORIES:LeaderSHIFT UCCan,PMRC Events
ATTACH;FMTTYPE=image/jpeg:https://pacificmountain.ca/wordpress2021/wp-content/uploads/LeaderSHIFT-Radical-Hope-Clergy-retreat-2026.jpg
ORGANIZER;CN="LeaderSHIFT":MAILTO:leadershift@united-church.ca
END:VEVENT
BEGIN:VEVENT
DTSTART;TZID=America/Vancouver:20260421T103000
DTEND;TZID=America/Vancouver:20260421T113000
DTSTAMP:20260421T120019
CREATED:20260203T191838Z
LAST-MODIFIED:20260203T191838Z
UID:22084-1776767400-1776771000@pacificmountain.ca
SUMMARY:Clergy Prayer Circle
DESCRIPTION:A Ministry Personnel Support Team Offering\nClergy Prayer Circle\nThird Tuesday of the month: April 21\, 2026\nOnline via Zoom\nA Time for Connection\nAll active ministry personnel serving in the Pacific Mountain Regional Council are invited to this hour of being in community\, and sharing practices of check-in\, prayer\, laughter with one another. We look forward to welcoming all who can attend each Tuesday. \nIf it may be your first time coming to the Clergy Prayer Circle\, please sign up to receive the link to the Zoom room:  Form.jotform.com/PMR-UCC/mpst-clergy-prayer-circle \nIf you’ve attended a Clergy Prayer Circle recently\, the link for the upcoming gathering will be automatically sent to your email address. If you’re not sure\, click the link above to sign up again. \nWe look forward to welcoming and praying with you. Please extend this invitation to active ministry personnel in your networks. \nClick here for more information!
URL:https://pacificmountain.ca/event/clergy-prayer-circle-april-21-2026/
LOCATION:Online
CATEGORIES:Ministry Personnel,PMRC Events
ATTACH;FMTTYPE=image/png:https://pacificmountain.ca/wordpress2021/wp-content/uploads/MPST-Clergy-Prayer-Circle-Primary-Image-1920-x-1080.png
END:VEVENT
BEGIN:VEVENT
DTSTART;TZID=America/Vancouver:20260421T140000
DTEND;TZID=America/Vancouver:20260421T150000
DTSTAMP:20260421T120019
CREATED:20251009T221658Z
LAST-MODIFIED:20260327T200333Z
UID:21561-1776780000-1776783600@pacificmountain.ca
SUMMARY:PMRC Town Hall
DESCRIPTION:A Pacific Mountain Region Offering\nPMRC Town Hall\nTuesday April 21\, 2026\nOnline via Zoom\nAll are warmly invited to join this monthly regional gathering offered for all people in Pacific Mountain region. \nGuest presenters\, time of prayer or worship\, regional updates\, encouragement\, and opportunities for connection make Pacific Mountain Region Town Halls meaningful and relevant! The most up-to-date information about scheduled town hall times (or any changes to its schedule) is found on our calendar: PacificMountain.ca/events. \nTown Hall Gatherings are hosted with Zoom\, but you do not need an internet connection to join the Town Hall! Can call-in using one of the phone numbers below and participate as if a traditional conference call. \nZoom link: Town Hall – April 21\, 2026 \nBlessings\,\nPMR Office
URL:https://pacificmountain.ca/event/pmrc-town-hall-apr-21-2026/
LOCATION:Online
CATEGORIES:PMRC Events,Town Hall
ATTACH;FMTTYPE=image/png:https://pacificmountain.ca/wordpress2021/wp-content/uploads/PMR-Town-Hall-Fall-Feature-Image-2024.png
END:VEVENT
END:VCALENDAR