BEGIN:VCALENDAR
VERSION:2.0
PRODID:-//Pacific Mountain Region - ECPv6.8.1//NONSGML v1.0//EN
CALSCALE:GREGORIAN
METHOD:PUBLISH
X-WR-CALNAME:Pacific Mountain Region
X-ORIGINAL-URL:https://pacificmountain.ca
X-WR-CALDESC:Events for Pacific Mountain Region
REFRESH-INTERVAL;VALUE=DURATION:PT1H
X-Robots-Tag:noindex
X-PUBLISHED-TTL:PT1H
BEGIN:VTIMEZONE
TZID:America/Vancouver
BEGIN:DAYLIGHT
TZOFFSETFROM:-0800
TZOFFSETTO:-0700
TZNAME:PDT
DTSTART:20240310T100000
END:DAYLIGHT
BEGIN:STANDARD
TZOFFSETFROM:-0700
TZOFFSETTO:-0800
TZNAME:PST
DTSTART:20241103T090000
END:STANDARD
END:VTIMEZONE
BEGIN:VEVENT
DTSTART;VALUE=DATE:20240603
DTEND;VALUE=DATE:20240605
DTSTAMP:20260423T013745
CREATED:20240409T212236Z
LAST-MODIFIED:20240409T212436Z
UID:18274-1717372800-1717545599@pacificmountain.ca
SUMMARY:Sussex Office Closure
DESCRIPTION:Dear Friends\, \n The PMRC Office is closed Monday June 3 – Tuesday June 4 and re-opening Wednesday June 5\, 2024 due to the travel and working dates of the 6th Annual General Meeting. There will be no Community Connections on May 29 and June 5. \nThank you for your understanding and patience while you wait for replies to emails and phone messages once the Office re-opens on June 5. Some staff may be checking emails and phone messages during the office closure dates; specific details may be available in individual staff voicemails and autoreplies. \nMay this time of community\, discernment\, business and worship – whether participating in the General Meeting\, and in your own communities of faith and ministry – be a time where we all are Connecting\, Collaborating\, Cultivating. We give thanks to God for the call to be the church\, and be God’s love in the world! Amen. \nBlessings\, \nPMRC Office
URL:https://pacificmountain.ca/event/sussex-office-closure/
LOCATION:BC
CATEGORIES:AGM - PMR,PMRC Events
END:VEVENT
END:VCALENDAR