BEGIN:VCALENDAR
VERSION:2.0
PRODID:-//Pacific Mountain Region - ECPv6.8.1//NONSGML v1.0//EN
CALSCALE:GREGORIAN
METHOD:PUBLISH
X-ORIGINAL-URL:https://pacificmountain.ca
X-WR-CALDESC:Events for Pacific Mountain Region
REFRESH-INTERVAL;VALUE=DURATION:PT1H
X-Robots-Tag:noindex
X-PUBLISHED-TTL:PT1H
BEGIN:VTIMEZONE
TZID:America/Vancouver
BEGIN:DAYLIGHT
TZOFFSETFROM:-0800
TZOFFSETTO:-0700
TZNAME:PDT
DTSTART:20230312T100000
END:DAYLIGHT
BEGIN:STANDARD
TZOFFSETFROM:-0700
TZOFFSETTO:-0800
TZNAME:PST
DTSTART:20231105T090000
END:STANDARD
END:VTIMEZONE
BEGIN:VEVENT
DTSTART;TZID=America/Vancouver:20231017T130000
DTEND;TZID=America/Vancouver:20231017T143000
DTSTAMP:20260423T021339
CREATED:20230824T164641Z
LAST-MODIFIED:20230830T214604Z
UID:16228-1697547600-1697553000@pacificmountain.ca
SUMMARY:First Third Ministries: Leaders Online Gatherings
DESCRIPTION:Time for United Church Leaders – Across BC\, Southern Alberta and Yukon\nFor all those in leadership with Children\, Youth\, Families\, Young Adults in a United Church setting – whether paid or volunteer in dedicated ministry with children and families\, or a piece of your ministry.\nDates: Every Tuesday Afternoon – details below.\n​Hosts: Rev. Mary Nichol and Chris Mah Poy\, First Third Ministry Staff\nGuest Speakers will join when able! \n\nGatherings in the Season After Pentecost\, Ordinary Time 2023\nTuesday AFTERNOONS: 1:00-2:15pm PT / 2:00-3:15pm MT  \n\nOctober 17\nOctober 24\nOctober 31\nNovember 7\nNovember 14\nNovember 21\nNovember 28 – cancelled due to First Third Ministry Regional Planning & Staff Retreat\n\nAnd two in the Season of Advent \n\nDecember 5\nDecember 12 – Closing Gathering (we will pause our weekly gathering in the second half of December 2023\, and resume mid-January 2024).\n\nClick for Zoom Access
URL:https://pacificmountain.ca/event/first-third-ministries-leaders-online-gatherings-6/
LOCATION:BC
CATEGORIES:PMRC Events
ATTACH;FMTTYPE=image/png:https://pacificmountain.ca/wordpress2021/wp-content/uploads/F3-Leaders-Online-Gathering-Fall-2023-Square-1080-x-1080.png
ORGANIZER;CN="First Third Ministry":MAILTO:FirstThirdMinistry@united-church.ca
END:VEVENT
BEGIN:VEVENT
DTSTART;TZID=America/Vancouver:20231017T153000
DTEND;TZID=America/Vancouver:20231017T153000
DTSTAMP:20260423T021339
CREATED:20231017T162954Z
LAST-MODIFIED:20231017T163322Z
UID:16743-1697556600-1697556600@pacificmountain.ca
SUMMARY:Candlelight & Prayer Vigil\, Joining 'Day of Prayer & Fasting'
DESCRIPTION:The United Church of Canada has shared this invitation to Prayer and Light\, tonight\, joining in the Day of Prayer and Fasting hosted by the Jerusalem Heads of Churches. \nUnited Church households and congregations are invited to unite in prayer by lighting a candle at 3:30pm Pacific / 4:30pm Mountain and\, if you wish\, post a picture of your Light on social media with your own prayer in the caption\, and with the hashtags #UCCan #WCC #PrayForPeace #PacificMountainRegion \nAmen. \nThe United Church of Canada Joins Day of Prayer and Fasting on October 17 \n \nFacebook.com/PacificMountainUCC
URL:https://pacificmountain.ca/event/candle-lighting-joining-day-of-prayer-fasting/
LOCATION:BC
CATEGORIES:PMRC Events
ATTACH;FMTTYPE=image/jpeg:https://pacificmountain.ca/wordpress2021/wp-content/uploads/Oct-17-News-of-Note-candle-paolo-nicolello-KY6NHtBWJB8-unsplash.jpeg
END:VEVENT
END:VCALENDAR