BEGIN:VCALENDAR
VERSION:2.0
PRODID:-//Pacific Mountain Region - ECPv6.8.1//NONSGML v1.0//EN
CALSCALE:GREGORIAN
METHOD:PUBLISH
X-ORIGINAL-URL:https://pacificmountain.ca
X-WR-CALDESC:Events for Pacific Mountain Region
REFRESH-INTERVAL;VALUE=DURATION:PT1H
X-Robots-Tag:noindex
X-PUBLISHED-TTL:PT1H
BEGIN:VTIMEZONE
TZID:America/Vancouver
BEGIN:DAYLIGHT
TZOFFSETFROM:-0800
TZOFFSETTO:-0700
TZNAME:PDT
DTSTART:20230312T100000
END:DAYLIGHT
BEGIN:STANDARD
TZOFFSETFROM:-0700
TZOFFSETTO:-0800
TZNAME:PST
DTSTART:20231105T090000
END:STANDARD
END:VTIMEZONE
BEGIN:VEVENT
DTSTART;TZID=America/Vancouver:20230627T130000
DTEND;TZID=America/Vancouver:20230627T140000
DTSTAMP:20260425T103202
CREATED:20230614T181911Z
LAST-MODIFIED:20230614T181911Z
UID:15985-1687870800-1687874400@pacificmountain.ca
SUMMARY:Leaders Online Gathering
DESCRIPTION:Hosts: Mary Nichol\, Pamela Evans\, Chris Mah Poy\, First Third Ministry Staff \nParticipants: All those in leadership with Children\, Youth\, Families\, Young Adults in a United Church setting – whether paid or volunteer in dedicated ministry with children and families\, or a piece of your ministry. \nGuest Speakers join occasionally 🙂 \nEvery Tuesday AFTERNOONS: 1:00-2:15pm PT / 2:00-3:15pm MT \nDates: \n\nJune 27\n\nRegistrations: A one first time registration is required \nRegister here\nFor more information visit Leaders Online
URL:https://pacificmountain.ca/event/leaders-online-gathering-9/
CATEGORIES:PMRC Events
ATTACH;FMTTYPE=image/jpeg:https://pacificmountain.ca/wordpress2021/wp-content/uploads/scaled_768-13-2.jpg
ORGANIZER;CN="First Third Ministry":MAILTO:FirstThirdMinistry@united-church.ca
END:VEVENT
END:VCALENDAR