BEGIN:VCALENDAR
VERSION:2.0
PRODID:-//Pacific Mountain Region - ECPv6.8.1//NONSGML v1.0//EN
CALSCALE:GREGORIAN
METHOD:PUBLISH
X-WR-CALNAME:Pacific Mountain Region
X-ORIGINAL-URL:https://pacificmountain.ca
X-WR-CALDESC:Events for Pacific Mountain Region
REFRESH-INTERVAL;VALUE=DURATION:PT1H
X-Robots-Tag:noindex
X-PUBLISHED-TTL:PT1H
BEGIN:VTIMEZONE
TZID:America/Vancouver
BEGIN:DAYLIGHT
TZOFFSETFROM:-0800
TZOFFSETTO:-0700
TZNAME:PDT
DTSTART:20230312T100000
END:DAYLIGHT
BEGIN:STANDARD
TZOFFSETFROM:-0700
TZOFFSETTO:-0800
TZNAME:PST
DTSTART:20231105T090000
END:STANDARD
END:VTIMEZONE
BEGIN:VEVENT
DTSTART;VALUE=DATE:20230407
DTEND;VALUE=DATE:20230411
DTSTAMP:20260423T210338
CREATED:20230103T202214Z
LAST-MODIFIED:20230103T202214Z
UID:14718-1680825600-1681171199@pacificmountain.ca
SUMMARY:Office Closed for Good Friday and Easter Monday
DESCRIPTION:
URL:https://pacificmountain.ca/event/office-closed-for-good-friday-and-easter-monday/
CATEGORIES:Holidays / Office Closures,Special Worship Day
END:VEVENT
BEGIN:VEVENT
DTSTART;TZID=America/Vancouver:20230408T150000
DTEND;TZID=America/Vancouver:20230408T170000
DTSTAMP:20260423T210338
CREATED:20230329T180638Z
LAST-MODIFIED:20230329T180638Z
UID:15249-1680966000-1680973200@pacificmountain.ca
SUMMARY:Cake Pops 101
DESCRIPTION:Join us to learn how to make cake pops from a master! Bring a container to bring some home. \n\nSaturday\, April 8\, 2023\n3-5pm Pacific / 4-6pm Mountain\nWhere: Pacific Mountain Regional Council Office\, 6000 Sussex Avenue\, Burnaby\, BC.\n\nRegistration is open\nLimited space\, please Register Here
URL:https://pacificmountain.ca/event/cake-pops-101/
LOCATION:Pacific Mountain Regional Council Office\, 6000 Sussex Avenue\, Burnaby\, BC\, V5H 3C2\, Canada
CATEGORIES:PMRC Events
ATTACH;FMTTYPE=image/png:https://pacificmountain.ca/wordpress2021/wp-content/uploads/YA-Workshop-Cake-Pops.png
ORGANIZER;CN="First Third Ministry":MAILTO:FirstThirdMinistry@united-church.ca
END:VEVENT
END:VCALENDAR