BEGIN:VCALENDAR
VERSION:2.0
PRODID:-//Pacific Mountain Region - ECPv6.8.1//NONSGML v1.0//EN
CALSCALE:GREGORIAN
METHOD:PUBLISH
X-WR-CALNAME:Pacific Mountain Region
X-ORIGINAL-URL:https://pacificmountain.ca
X-WR-CALDESC:Events for Pacific Mountain Region
REFRESH-INTERVAL;VALUE=DURATION:PT1H
X-Robots-Tag:noindex
X-PUBLISHED-TTL:PT1H
BEGIN:VTIMEZONE
TZID:America/Vancouver
BEGIN:DAYLIGHT
TZOFFSETFROM:-0800
TZOFFSETTO:-0700
TZNAME:PDT
DTSTART:20230312T100000
END:DAYLIGHT
BEGIN:STANDARD
TZOFFSETFROM:-0700
TZOFFSETTO:-0800
TZNAME:PST
DTSTART:20231105T090000
END:STANDARD
END:VTIMEZONE
BEGIN:VEVENT
DTSTART;TZID=America/Vancouver:20230323T190000
DTEND;TZID=America/Vancouver:20230323T203000
DTSTAMP:20260423T093619
CREATED:20221215T182823Z
LAST-MODIFIED:20221215T182823Z
UID:14670-1679598000-1679603400@pacificmountain.ca
SUMMARY:Faithful Climate Conversations
DESCRIPTION:“Faithful Climate Conversations” is a free\, online series offered by the PMRC Justice Network\, and drawing from the multi-denominational\, Canada-wide “For the Love of Creation” discussion resources. It will run in two series during early 2023. This series\, in four parts\, is offered March 9\, 16\, 23\, & 30 all from 7-8:30pm. \n\nRegister for the March series here\n\nCONNECTION AND LEARNING\nThis series of topic sessions will be facilitated by Debbie Hubbard and Peter Jones. Come for a chance to connect with others in our region and learn ways to create safe and respectful climate change conversations in your own community of faith. \nIf you’re interested in hosting such conversations for your church\, this series will also be a great way to get to know the ‘For the Love of Creation’ resources! Included below is the Discussion Guide for each topic\, offering a preview of the kind of conversation you and others may engage with together. \nYou are warmly welcome\, we hope you’ll join us. \nRegistration is here: Faithful Climate Conversations Registration Form\n\nAll sessions are online only\, via Zoom.\nFree! Registration is required to receive the Zoom links.\nThe times listed are Pacific Time; please adjust if you’re participating from another time zone.
URL:https://pacificmountain.ca/event/faithful-climate-conversations-4/
LOCATION:BC
CATEGORIES:PMRC Events
ATTACH;FMTTYPE=image/png:https://pacificmountain.ca/wordpress2021/wp-content/uploads/PM-Justice-Network-Faithful-Climate-Conversations-1920-x-500-Facebook-Event-Cover-1.png
ORGANIZER;CN="Justice":MAILTO:kmitchellfoster@united-church.ca
END:VEVENT
END:VCALENDAR