BEGIN:VCALENDAR
VERSION:2.0
PRODID:-//Pacific Mountain Region - ECPv6.8.1//NONSGML v1.0//EN
CALSCALE:GREGORIAN
METHOD:PUBLISH
X-WR-CALNAME:Pacific Mountain Region
X-ORIGINAL-URL:https://pacificmountain.ca
X-WR-CALDESC:Events for Pacific Mountain Region
REFRESH-INTERVAL;VALUE=DURATION:PT1H
X-Robots-Tag:noindex
X-PUBLISHED-TTL:PT1H
BEGIN:VTIMEZONE
TZID:America/Vancouver
BEGIN:DAYLIGHT
TZOFFSETFROM:-0800
TZOFFSETTO:-0700
TZNAME:PDT
DTSTART:20230312T100000
END:DAYLIGHT
BEGIN:STANDARD
TZOFFSETFROM:-0700
TZOFFSETTO:-0800
TZNAME:PST
DTSTART:20231105T090000
END:STANDARD
END:VTIMEZONE
BEGIN:VEVENT
DTSTART;VALUE=DATE:20230314
DTEND;VALUE=DATE:20230315
DTSTAMP:20260425T065015
CREATED:20220808T170010Z
LAST-MODIFIED:20220808T170010Z
UID:13942-1678752000-1678838399@pacificmountain.ca
SUMMARY:National Affirming / PIE Day
DESCRIPTION:PIE = Public. Intentional. Explicit. These are the standards we hold ourselves and our welcome to when we become affirming\, welcoming\, or inclusive communities. March 14 is a chance to serve some pie and roll out the PIE by celebrating the full inclusion of LGBTQIA+ and Two Spirit people in faith communities and beyond across Canada. \nWorship resources and related material can be found here.
URL:https://pacificmountain.ca/event/national-affirming-pie-day/
CATEGORIES:Special Worship Day
ATTACH;FMTTYPE=image/jpeg:https://pacificmountain.ca/wordpress2021/wp-content/uploads/Street-Party-Affirming-Celebration.jpg
END:VEVENT
END:VCALENDAR