BEGIN:VCALENDAR
VERSION:2.0
PRODID:-//Pacific Mountain Region - ECPv6.8.1//NONSGML v1.0//EN
CALSCALE:GREGORIAN
METHOD:PUBLISH
X-WR-CALNAME:Pacific Mountain Region
X-ORIGINAL-URL:https://pacificmountain.ca
X-WR-CALDESC:Events for Pacific Mountain Region
REFRESH-INTERVAL;VALUE=DURATION:PT1H
X-Robots-Tag:noindex
X-PUBLISHED-TTL:PT1H
BEGIN:VTIMEZONE
TZID:America/Vancouver
BEGIN:DAYLIGHT
TZOFFSETFROM:-0800
TZOFFSETTO:-0700
TZNAME:PDT
DTSTART:20220313T100000
END:DAYLIGHT
BEGIN:STANDARD
TZOFFSETFROM:-0700
TZOFFSETTO:-0800
TZNAME:PST
DTSTART:20221106T090000
END:STANDARD
END:VTIMEZONE
BEGIN:VEVENT
DTSTART;TZID=America/Vancouver:20220726T100000
DTEND;TZID=America/Vancouver:20220726T140000
DTSTAMP:20260424T050709
CREATED:20220704T191502Z
LAST-MODIFIED:20220704T201524Z
UID:13597-1658829600-1658844000@pacificmountain.ca
SUMMARY:MHFA Training For Those Who Work With Youth (Session Two)
DESCRIPTION:A Training: For Those Who Work With Youth – Online Group Session Two\n  \nRequired Attendance: This course is completed in three parts. Your completion of all three parts is required for certification. \n\n\nSelf-Directed Online Module: for you to complete in your own time during the week of July 11-18\, 2022 \n\n\nOnline Group Session One: Tuesday July 19\, 10am-2pm Pacific Time \n\n\nOnline Group Session Two: Tuesday July 26\, 10am-2pm Pacific Time \n\n\nTrainer: Dr Julie Clayton\nChaplain: Pamela Evans from First Third Ministry \nPricing: $150\, non-refundable \nRegister at this link.
URL:https://pacificmountain.ca/event/mental-health-first-aid-3/
CATEGORIES:PMRC Events
ATTACH;FMTTYPE=image/png:https://pacificmountain.ca/wordpress2021/wp-content/uploads/MHFAForThoseWhoWorkWithYouthJuly2022Dates.png
ORGANIZER;CN="First Third Ministry":MAILTO:FirstThirdMinistry@united-church.ca
END:VEVENT
BEGIN:VEVENT
DTSTART;TZID=America/Vancouver:20220726T133000
DTEND;TZID=America/Vancouver:20220726T144500
DTSTAMP:20260424T050709
CREATED:20220708T224138Z
LAST-MODIFIED:20220708T224138Z
UID:13755-1658842200-1658846700@pacificmountain.ca
SUMMARY:Leaders Online Gathering
DESCRIPTION:United Church leaders and ministers wanting support and collegial connections\, regarding children & family ministries are welcome to this weekly\, online gathering! Details are here. Register at this link! \n​Gatherings in the Season of Green and Growing 2022Tuesday afternoons\, 1:30-2:45pm Pacific / 2:30-3:45pm Mountain \n\nJuly 26\n\nNo August gatherings\, with gatherings resuming on Tuesday\, September 6\, 2022.
URL:https://pacificmountain.ca/event/leaders-online-gathering-5/
CATEGORIES:PMRC Events
ATTACH;FMTTYPE=image/png:https://pacificmountain.ca/wordpress2021/wp-content/uploads/Leaders-Online-Gathering-Green-and-Growing-1080-x-1080-1.png
ORGANIZER;CN="First Third Ministry":MAILTO:FirstThirdMinistry@united-church.ca
END:VEVENT
END:VCALENDAR