BEGIN:VCALENDAR
VERSION:2.0
PRODID:-//Pacific Mountain Region - ECPv6.8.1//NONSGML v1.0//EN
CALSCALE:GREGORIAN
METHOD:PUBLISH
X-ORIGINAL-URL:https://pacificmountain.ca
X-WR-CALDESC:Events for Pacific Mountain Region
REFRESH-INTERVAL;VALUE=DURATION:PT1H
X-Robots-Tag:noindex
X-PUBLISHED-TTL:PT1H
BEGIN:VTIMEZONE
TZID:America/Vancouver
BEGIN:DAYLIGHT
TZOFFSETFROM:-0800
TZOFFSETTO:-0700
TZNAME:PDT
DTSTART:20220313T100000
END:DAYLIGHT
BEGIN:STANDARD
TZOFFSETFROM:-0700
TZOFFSETTO:-0800
TZNAME:PST
DTSTART:20221106T090000
END:STANDARD
END:VTIMEZONE
BEGIN:VEVENT
DTSTART;VALUE=DATE:20220613
DTEND;VALUE=DATE:20220614
DTSTAMP:20260423T191217
CREATED:20220607T202509Z
LAST-MODIFIED:20220607T202509Z
UID:13422-1655078400-1655164799@pacificmountain.ca
SUMMARY:Sussex Office Closed
DESCRIPTION:Friends\, \n The PMRC Office is closed Wednesday June 8 and re-opening Wednesday June 15\, 2022 due to the travel and working dates of the 4th Annual General Meeting. There will be no Community Connections on June 8. \nThank you for your understanding and patience while you wait for replies to emails and phone messages once the Office re-opens on June 15. Some staff may be checking emails and phone messages during the office closure dates; specific details may be available in individual staff voicemails and autoreplies. \n\nMay this mid-June time of community\, discernment\, business and worship – whether participating in the General Meeting\, and in your own communities of faith and ministry – be a time where we all are Rooted and Grounded in Love. We give thanks to God for the call to be the church\, and be God’s love in the world! Amen. \n\nBlessings\, \nPMRC Office
URL:https://pacificmountain.ca/event/sussex-office-closed/
CATEGORIES:PMRC Events
ATTACH;FMTTYPE=image/png:https://pacificmountain.ca/wordpress2021/wp-content/uploads/GM2022-Proposals-Header-363x225-1-1.png
END:VEVENT
END:VCALENDAR