BEGIN:VCALENDAR
VERSION:2.0
PRODID:-//Pacific Mountain Region - ECPv6.8.1//NONSGML v1.0//EN
CALSCALE:GREGORIAN
METHOD:PUBLISH
X-ORIGINAL-URL:https://pacificmountain.ca
X-WR-CALDESC:Events for Pacific Mountain Region
REFRESH-INTERVAL;VALUE=DURATION:PT1H
X-Robots-Tag:noindex
X-PUBLISHED-TTL:PT1H
BEGIN:VTIMEZONE
TZID:America/Vancouver
BEGIN:DAYLIGHT
TZOFFSETFROM:-0800
TZOFFSETTO:-0700
TZNAME:PDT
DTSTART:20220313T100000
END:DAYLIGHT
BEGIN:STANDARD
TZOFFSETFROM:-0700
TZOFFSETTO:-0800
TZNAME:PST
DTSTART:20221106T090000
END:STANDARD
END:VTIMEZONE
BEGIN:VEVENT
DTSTART;VALUE=DATE:20220520
DTEND;VALUE=DATE:20220524
DTSTAMP:20260425T090220
CREATED:20220405T204848Z
LAST-MODIFIED:20220405T204848Z
UID:12897-1653004800-1653350399@pacificmountain.ca
SUMMARY:PMRC Family Retreat
DESCRIPTION:Family Retreat at Camp Pringle – May 20-23\, 2022 \nA Family Retreat for United Church families of all ages in the Pacific Mountain Regional Council is to be held on May 20-23\, 2022 at Camp Pringle on Vancouver Island. We will gather together in community over the long weekend through worship\, singing\, camp activities\, and much more! Families will be in their own bubbles for safety and will be given their own accommodation and washroom facilities for their use. \n\nDATES: May Long Weekend. May 20-23\nAGES: All ages\, Family oriented\nLOCATION: Camp Pringle (Shawnigan Lake\, BC Vancouver Island)\nLEADERSHIP: Sarah Prestwich\nCOST: $150-Adult (18+)\, $100-Children (3-18)\, Free-2 & under\n\nRemember – financial support is available; the event fee will not be a barrier to participation. \nCheck of double vaccination proof in place. \nDetails and registration here.
URL:https://pacificmountain.ca/event/pmrc-family-retreat/
CATEGORIES:PMRC Events
ATTACH;FMTTYPE=image/jpeg:https://pacificmountain.ca/wordpress2021/wp-content/uploads/scaled_768-5.jpg
END:VEVENT
END:VCALENDAR