BEGIN:VCALENDAR
VERSION:2.0
PRODID:-//Pacific Mountain Region - ECPv6.8.1//NONSGML v1.0//EN
CALSCALE:GREGORIAN
METHOD:PUBLISH
X-ORIGINAL-URL:https://pacificmountain.ca
X-WR-CALDESC:Events for Pacific Mountain Region
REFRESH-INTERVAL;VALUE=DURATION:PT1H
X-Robots-Tag:noindex
X-PUBLISHED-TTL:PT1H
BEGIN:VTIMEZONE
TZID:America/Vancouver
BEGIN:DAYLIGHT
TZOFFSETFROM:-0800
TZOFFSETTO:-0700
TZNAME:PDT
DTSTART:20220313T100000
END:DAYLIGHT
BEGIN:STANDARD
TZOFFSETFROM:-0700
TZOFFSETTO:-0800
TZNAME:PST
DTSTART:20221106T090000
END:STANDARD
END:VTIMEZONE
BEGIN:VEVENT
DTSTART;TZID=America/Vancouver:20220518T090000
DTEND;TZID=America/Vancouver:20220518T090000
DTSTAMP:20260425T043439
CREATED:20220428T224131Z
LAST-MODIFIED:20220502T232814Z
UID:13039-1652864400-1652864400@pacificmountain.ca
SUMMARY:To Be Determined ~ Town Hall
DESCRIPTION:Friends\, \nThe usual routine for Pacific Mountain town halls is changing as the life of church in the world shifts and changes. Stay tuned for updates! \nTown hall gatherings will be announced in the News of Note emails from the regional council office. \nBe signed up to the PMRC email list (sign up here) so that you don’t miss out! \n  \nBlessings\, \nPacificMountain Staff
URL:https://pacificmountain.ca/event/town-hall-3/
CATEGORIES:PMRC Events
ATTACH;FMTTYPE=image/png:https://pacificmountain.ca/wordpress2021/wp-content/uploads/birds-pacific-mountain-region-united-church-canada.png
END:VEVENT
END:VCALENDAR