BEGIN:VCALENDAR
VERSION:2.0
PRODID:-//Pacific Mountain Region - ECPv6.8.1//NONSGML v1.0//EN
CALSCALE:GREGORIAN
METHOD:PUBLISH
X-ORIGINAL-URL:https://pacificmountain.ca
X-WR-CALDESC:Events for Pacific Mountain Region
REFRESH-INTERVAL;VALUE=DURATION:PT1H
X-Robots-Tag:noindex
X-PUBLISHED-TTL:PT1H
BEGIN:VTIMEZONE
TZID:America/Vancouver
BEGIN:DAYLIGHT
TZOFFSETFROM:-0800
TZOFFSETTO:-0700
TZNAME:PDT
DTSTART:20220313T100000
END:DAYLIGHT
BEGIN:STANDARD
TZOFFSETFROM:-0700
TZOFFSETTO:-0800
TZNAME:PST
DTSTART:20221106T090000
END:STANDARD
END:VTIMEZONE
BEGIN:VEVENT
DTSTART;TZID=America/Vancouver:20220515T180000
DTEND;TZID=America/Vancouver:20220515T203000
DTSTAMP:20260425T063519
CREATED:20220228T220904Z
LAST-MODIFIED:20220228T220904Z
UID:12369-1652637600-1652646600@pacificmountain.ca
SUMMARY:Young Adult Supper Social
DESCRIPTION:We are back! YAY! Let’s get together.\n\nWhat is on your heart and mind? How is your spirit? What was the last thing you watched on a screen that left you thinking about things in a different way? What do you yearn for? This is time for young adults and a leader or two to gather\, eat a great meal and share conversation about what is important to you.\n\nA Gathering of Young Adults\, 18 years+\, in the Lower Mainland. It is a free event. We buy dinner\, you buy your drink.\n\nThe Young Adults Supper Social is time for young adults and a leader or two to gather IN PERSON\, eat a great meal and share conversation about what is important.\n\n\nDATE: Sunday\, March 13th\, Sunday\, April 10th\, Sunday\, May 15th\nTIME: 6 pm – 8:30 pm\nAGES: +18 years\nLOCATION: Will be shared with the participants after Registration\nLEADERSHIP: Pamela Evans\nCOST: It is a free event\n\nThe event requires PROOF OF VACCINATION. Please make sure you bring it to the gathering. Registration here.
URL:https://pacificmountain.ca/event/young-adult-supper-social-2/
CATEGORIES:PMRC Events
ATTACH;FMTTYPE=image/jpeg:https://pacificmountain.ca/wordpress2021/wp-content/uploads/scaled_768-3.jpg
END:VEVENT
END:VCALENDAR