BEGIN:VCALENDAR
VERSION:2.0
PRODID:-//Pacific Mountain Region - ECPv6.8.1//NONSGML v1.0//EN
CALSCALE:GREGORIAN
METHOD:PUBLISH
X-ORIGINAL-URL:https://pacificmountain.ca
X-WR-CALDESC:Events for Pacific Mountain Region
REFRESH-INTERVAL;VALUE=DURATION:PT1H
X-Robots-Tag:noindex
X-PUBLISHED-TTL:PT1H
BEGIN:VTIMEZONE
TZID:America/Vancouver
BEGIN:DAYLIGHT
TZOFFSETFROM:-0800
TZOFFSETTO:-0700
TZNAME:PDT
DTSTART:20220313T100000
END:DAYLIGHT
BEGIN:STANDARD
TZOFFSETFROM:-0700
TZOFFSETTO:-0800
TZNAME:PST
DTSTART:20221106T090000
END:STANDARD
END:VTIMEZONE
BEGIN:VEVENT
DTSTART;TZID=America/Vancouver:20220104T100000
DTEND;TZID=America/Vancouver:20220104T114500
DTSTAMP:20260424T173242
CREATED:20211214T183016Z
LAST-MODIFIED:20211214T191208Z
UID:11331-1641290400-1641296700@pacificmountain.ca
SUMMARY:Leaders Online Gathering
DESCRIPTION:​Gatherings in the Season of Epiphany\, 2022 \nHosted by Rev Mary Nichol\, First Third Ministry Staff\, for all those in leadership with Children\, Youth\, Families\, Young Adults in a United Church setting – whether paid or volunteer in dedicated ministry with children and families\, or a piece of your ministry. \nHeld Tuesdays\, 10-11:45am PT / 11am – 12:45pm MT. Register at this link. \nJanuary 4 / January 11 / January 18 / January 25​ / February 1 / February 8 / February 15 / February 22 / March 1
URL:https://pacificmountain.ca/event/time-for-united-church-leaders-across-bc-southern-alberta-and-yukon/
CATEGORIES:PMRC Events
ATTACH;FMTTYPE=image/png:https://pacificmountain.ca/wordpress2021/wp-content/uploads/leaders-online-gathering-epiphany-2022-rectangle_orig.png
END:VEVENT
END:VCALENDAR