BEGIN:VCALENDAR
VERSION:2.0
PRODID:-//Pacific Mountain Region - ECPv6.8.1//NONSGML v1.0//EN
CALSCALE:GREGORIAN
METHOD:PUBLISH
X-ORIGINAL-URL:https://pacificmountain.ca
X-WR-CALDESC:Events for Pacific Mountain Region
REFRESH-INTERVAL;VALUE=DURATION:PT1H
X-Robots-Tag:noindex
X-PUBLISHED-TTL:PT1H
BEGIN:VTIMEZONE
TZID:America/Vancouver
BEGIN:DAYLIGHT
TZOFFSETFROM:-0800
TZOFFSETTO:-0700
TZNAME:PDT
DTSTART:20210314T100000
END:DAYLIGHT
BEGIN:STANDARD
TZOFFSETFROM:-0700
TZOFFSETTO:-0800
TZNAME:PST
DTSTART:20211107T090000
END:STANDARD
END:VTIMEZONE
BEGIN:VEVENT
DTSTART;TZID=America/Vancouver:20211130T100000
DTEND;TZID=America/Vancouver:20211130T120000
DTSTAMP:20260425T084520
CREATED:20211108T184222Z
LAST-MODIFIED:20211110T215958Z
UID:10963-1638266400-1638273600@pacificmountain.ca
SUMMARY:Deepening Pastoral Practice Amidst Continuing Pandemic Realities with Dr Julie Clayton
DESCRIPTION:This four-week workshop equips participants with a framework to assess and evaluate where they currently find themselves in pastoral practice – and determine what is needed to address the ongoing traumatic waves that impact pandemic-ridden congregations. \nSpecific attention will be given to understanding the complex nature of family systems and how they impact an individual\, a family unit\, and the larger congregational community. \nParticipants will leave these sessions empowered to respond with deepening holistic healing strategies that are trauma-informed and trauma-oriented. \nFacilitated by Dr Julie Clayton. Hosted by LeaderShift Director\, Allison Rennie \n 
URL:https://pacificmountain.ca/event/deepening-pastoral-practice-amidst-continuing-pandemic-realities-with-dr-julie-clayton-4/
LOCATION:Online
CATEGORIES:PMRC Events
ATTACH;FMTTYPE=image/png:https://pacificmountain.ca/wordpress2021/wp-content/uploads/LS-Deepening-Pastoral-Practice-Nov-2021-.png
END:VEVENT
END:VCALENDAR