BEGIN:VCALENDAR
VERSION:2.0
PRODID:-//Pacific Mountain Region - ECPv6.8.1//NONSGML v1.0//EN
CALSCALE:GREGORIAN
METHOD:PUBLISH
X-WR-CALNAME:Pacific Mountain Region
X-ORIGINAL-URL:https://pacificmountain.ca
X-WR-CALDESC:Events for Pacific Mountain Region
REFRESH-INTERVAL;VALUE=DURATION:PT1H
X-Robots-Tag:noindex
X-PUBLISHED-TTL:PT1H
BEGIN:VTIMEZONE
TZID:America/Vancouver
BEGIN:DAYLIGHT
TZOFFSETFROM:-0800
TZOFFSETTO:-0700
TZNAME:PDT
DTSTART:20210314T100000
END:DAYLIGHT
BEGIN:STANDARD
TZOFFSETFROM:-0700
TZOFFSETTO:-0800
TZNAME:PST
DTSTART:20211107T090000
END:STANDARD
END:VTIMEZONE
BEGIN:VEVENT
DTSTART;TZID=America/Vancouver:20211124T100000
DTEND;TZID=America/Vancouver:20211124T120000
DTSTAMP:20260423T210648
CREATED:20211108T184118Z
LAST-MODIFIED:20211108T184319Z
UID:10961-1637748000-1637755200@pacificmountain.ca
SUMMARY:Deepening Pastoral Practice Amidst Continuing Pandemic Realities with Dr Julie Clayton
DESCRIPTION:This four-week workshop equips participants with a framework to assess and evaluate where they currently find themselves in pastoral practice – and determine what is needed to address the ongoing traumatic waves that impact pandemic-ridden congregations. \nSpecific attention will be given to understanding the complex nature of family systems and how they impact an individual\, a family unit\, and the larger congregational community. \nParticipants will leave these sessions empowered to respond with deepening holistic healing strategies that are trauma-informed and trauma-oriented. \nFacilitated by Dr Julie Clayton. Hosted by LeaderShift Director\, Allison Rennie
URL:https://pacificmountain.ca/event/deepening-pastoral-practice-amidst-continuing-pandemic-realities-with-dr-julie-clayton-3/
CATEGORIES:PMRC Events
ATTACH;FMTTYPE=image/png:https://pacificmountain.ca/wordpress2021/wp-content/uploads/LS-Deepening-Pastoral-Practice-Nov-2021-.png
END:VEVENT
BEGIN:VEVENT
DTSTART;TZID=America/Vancouver:20211124T130000
DTEND;TZID=America/Vancouver:20211124T140000
DTSTAMP:20260423T210648
CREATED:20211110T185129Z
LAST-MODIFIED:20211110T185519Z
UID:10991-1637758800-1637762400@pacificmountain.ca
SUMMARY:Town Hall With Guest Janice MacLean ~ Hope Matters
DESCRIPTION:Today’s town hall is a special gathering for Advent\, and we’ll be joined by Janice MacLean of PrayerBench.ca (in addition to some brief COVID-19 updates). Janice will be introducing her Advent-themed resource called “Hope Matters ~ an Advent Retreat”. This is a resource that you can use to create in-person or online reflection times with\, for your community of faith. \n\nRead more from Janice\, about Hope Matters\, on the Chinook Winds website.\nAdd your email here to receive the Hope Matters download\n\nNovember 24 Town Hall\n1pm Pacific / 2pm Mountain \nJoin Zoom Meeting:\nhttps://united-church.zoom.us/j/98231867711?pwd=ZEhqU0xGVTBvdTBoOFYrYWNVTXk1dz09 \nMeeting ID: 982 3186 7711\nPassword: 555695 \nFind your local number: https://united-church.zoom.us/u/addG5s2evk
URL:https://pacificmountain.ca/event/town-hall-janice-maclean-hope-matters/
CATEGORIES:News,PMRC Events
ATTACH;FMTTYPE=image/jpeg:https://pacificmountain.ca/wordpress2021/wp-content/uploads/Janice-Inner-Fire.jpg
END:VEVENT
END:VCALENDAR