BEGIN:VCALENDAR
VERSION:2.0
PRODID:-//Pacific Mountain Region - ECPv6.8.1//NONSGML v1.0//EN
CALSCALE:GREGORIAN
METHOD:PUBLISH
X-ORIGINAL-URL:https://pacificmountain.ca
X-WR-CALDESC:Events for Pacific Mountain Region
REFRESH-INTERVAL;VALUE=DURATION:PT1H
X-Robots-Tag:noindex
X-PUBLISHED-TTL:PT1H
BEGIN:VTIMEZONE
TZID:America/Vancouver
BEGIN:DAYLIGHT
TZOFFSETFROM:-0800
TZOFFSETTO:-0700
TZNAME:PDT
DTSTART:20210314T100000
END:DAYLIGHT
BEGIN:STANDARD
TZOFFSETFROM:-0700
TZOFFSETTO:-0800
TZNAME:PST
DTSTART:20211107T090000
END:STANDARD
END:VTIMEZONE
BEGIN:VEVENT
DTSTART;TZID=America/Vancouver:20211109T100000
DTEND;TZID=America/Vancouver:20211109T113000
DTSTAMP:20260423T083652
CREATED:20211004T213420Z
LAST-MODIFIED:20211005T142559Z
UID:10633-1636452000-1636457400@pacificmountain.ca
SUMMARY:The Gathering Place - A Time for Ministry Personnel
DESCRIPTION:The Gathering Place a time of online\, Mini-Retreats for United Church Ministry Personnel. Happening 10-11:30am PT/ 11am-12:30pm MT on the 2nd Tuesday of each month via Zoom\, Ministry Personnel are invited into 90 mins of being in community. You can expect practices with colleagues such as check-in\, pray\, laugh\, share sacred stories and maybe even singing a little — together.  \n\nThe Gathering Place is Free and Drop-In Style.\nRegistration is Required for the Zoom access. Register here.\nHosted by the PMRC’s Ministry Personal Support Team\, contact Karen Millard or Marc Coulombe for more information. 
URL:https://pacificmountain.ca/event/the-gathering-place-a-time-for-ministry-personnel-2/
LOCATION:BC
ATTACH;FMTTYPE=image/png:https://pacificmountain.ca/wordpress2021/wp-content/uploads/Fall-MPST-Card-Insert-Gathering-Place-e1633383049774.png
END:VEVENT
END:VCALENDAR