BEGIN:VCALENDAR
VERSION:2.0
PRODID:-//Pacific Mountain Region - ECPv6.8.1//NONSGML v1.0//EN
CALSCALE:GREGORIAN
METHOD:PUBLISH
X-WR-CALNAME:Pacific Mountain Region
X-ORIGINAL-URL:https://pacificmountain.ca
X-WR-CALDESC:Events for Pacific Mountain Region
REFRESH-INTERVAL;VALUE=DURATION:PT1H
X-Robots-Tag:noindex
X-PUBLISHED-TTL:PT1H
BEGIN:VTIMEZONE
TZID:America/Vancouver
BEGIN:DAYLIGHT
TZOFFSETFROM:-0800
TZOFFSETTO:-0700
TZNAME:PDT
DTSTART:20210314T100000
END:DAYLIGHT
BEGIN:STANDARD
TZOFFSETFROM:-0700
TZOFFSETTO:-0800
TZNAME:PST
DTSTART:20211107T090000
END:STANDARD
END:VTIMEZONE
BEGIN:VEVENT
DTSTART;TZID=America/Vancouver:20211013T100000
DTEND;TZID=America/Vancouver:20211013T113000
DTSTAMP:20260424T033749
CREATED:20211013T135904Z
LAST-MODIFIED:20211013T140431Z
UID:10680-1634119200-1634124600@pacificmountain.ca
SUMMARY:Faith Leaders For Such A Time As This
DESCRIPTION:Offered by LeaderShift \n“Faith Leaders for Such a Time as This” is designed to invite participants into the Christian faith’s essential practices: \nTo attend to the life and faith of our community\, \nTo listen for the Spirit within the challenges and opportunities of our context\, \nTo honour the wisdom of our traditions. \nExpect to start with story – exploring who we are\, and where we are as leaders and as individuals – and expand from there. Beautiful\, strong women leaders\, Cheryl Bear and Kim Uyede-Kai\, are facilitating this series. They bring to it deep experience in living into right relations\, and experience across a diversity of communities. Previous Faith Leaders For Such a Time As This participants have been moved and encouraged in their call as leaders in this time\, by the power of community and reflection in the intentional group setting. \n\nOctober 13\, 20\, November 3\, 10 (4 sessions. No gathering on October 27)\n10-11:30am PT / 11am-12:30pm MT\nOnline via Zoom\nFree. Space is limited to 18
URL:https://pacificmountain.ca/event/10680/
CATEGORIES:PMRC Events
ATTACH;FMTTYPE=image/png:https://pacificmountain.ca/wordpress2021/wp-content/uploads/LS-Faith-Leaders-for-Such-a-Time-as-This-Fall-2021-4.png
ORGANIZER;CN="LeaderSHIFT":MAILTO:leadershift@united-church.ca
END:VEVENT
BEGIN:VEVENT
DTSTART;TZID=America/Vancouver:20211013T173000
DTEND;TZID=America/Vancouver:20211013T183000
DTSTAMP:20260424T033749
CREATED:20211013T150434Z
LAST-MODIFIED:20211013T150434Z
UID:10697-1634146200-1634149800@pacificmountain.ca
SUMMARY:Planning for First Third - A Way Forward
DESCRIPTION:Offered by First Third Ministry \nThis cohort series for First Third Ministry will be facilitated by two of our First Third Ministry Regional Staff\, Rev. Mary Nichol and Chris Mah Poy. The theme is “Planning for First Third – A Way Forward”. The goal is for the small group to hear and learn from each other\, and support one another in their own context. The topic of re-opening is relevant and a part of the conversation but will vary depending on the provincial health guidelines and communities of faith decisions. We will journey together in groups of five. \n\nFour Sessions: Wednesdays October 13\, 20\, November 3 and 10 (no gathering on October 27)\n5:30pm-6:30pm PT / 6:30pm-7:30pm MT\nMeeting Online\, via Zoom\nFree. Space is limited to 10 participants.\n\nThis event is an Online Event. The Zoom Link will be emailed to the address provided on your registration. \nParticipants are requested to commit to attending all 4 sessions. \nQuestions? Email Mary or Chris. We hope that you can join us. \nREGISTER HERE
URL:https://pacificmountain.ca/event/planning-for-first-third-a-way-forward/
CATEGORIES:PMRC Events
ATTACH;FMTTYPE=image/png:https://pacificmountain.ca/wordpress2021/wp-content/uploads/First-Third-Planning-A-Way-Forward-SQuare-images.png
END:VEVENT
END:VCALENDAR