BEGIN:VCALENDAR
VERSION:2.0
PRODID:-//Pacific Mountain Region - ECPv6.8.1//NONSGML v1.0//EN
CALSCALE:GREGORIAN
METHOD:PUBLISH
X-ORIGINAL-URL:https://pacificmountain.ca
X-WR-CALDESC:Events for Pacific Mountain Region
REFRESH-INTERVAL;VALUE=DURATION:PT1H
X-Robots-Tag:noindex
X-PUBLISHED-TTL:PT1H
BEGIN:VTIMEZONE
TZID:America/Vancouver
BEGIN:DAYLIGHT
TZOFFSETFROM:-0800
TZOFFSETTO:-0700
TZNAME:PDT
DTSTART:20210314T100000
END:DAYLIGHT
BEGIN:STANDARD
TZOFFSETFROM:-0700
TZOFFSETTO:-0800
TZNAME:PST
DTSTART:20211107T090000
END:STANDARD
END:VTIMEZONE
BEGIN:VEVENT
DTSTART;TZID=America/Vancouver:20210925T150000
DTEND;TZID=America/Vancouver:20210925T170000
DTSTAMP:20260423T113003
CREATED:20210908T223728Z
LAST-MODIFIED:20210908T223728Z
UID:10400-1632582000-1632589200@pacificmountain.ca
SUMMARY:Young Adult Gathering - Mug Painting
DESCRIPTION:Mug Painting Night at FirstMetropolitan United (Victoria)\nIt’s time to get together with other United Church YAs in the Victoria area – for community\, connection and FUN. We’re serving drinks and snacks\, sharing a short time of worship\, and … painting mugs from FiredUp! Ceramics Studio! (Once painted\, your mug gets dropped off to FiredUp! to get sealed with a food-safe clear glaze. About a week later First Third Staff will pick up your fired mug and drop it to you!).
URL:https://pacificmountain.ca/event/young-adult-gathering-mug-painting/
LOCATION:FirstMetropolitan United Church\, 932 Balmoral Road\, Victoria\, BC\, Canada
CATEGORIES:PMRC Events
ATTACH;FMTTYPE=image/jpeg:https://pacificmountain.ca/wordpress2021/wp-content/uploads/Mug-Painting.jpg
END:VEVENT
END:VCALENDAR