BEGIN:VCALENDAR
VERSION:2.0
PRODID:-//Pacific Mountain Region - ECPv6.8.1//NONSGML v1.0//EN
CALSCALE:GREGORIAN
METHOD:PUBLISH
X-WR-CALNAME:Pacific Mountain Region
X-ORIGINAL-URL:https://pacificmountain.ca
X-WR-CALDESC:Events for Pacific Mountain Region
REFRESH-INTERVAL;VALUE=DURATION:PT1H
X-Robots-Tag:noindex
X-PUBLISHED-TTL:PT1H
BEGIN:VTIMEZONE
TZID:America/Vancouver
BEGIN:DAYLIGHT
TZOFFSETFROM:-0800
TZOFFSETTO:-0700
TZNAME:PDT
DTSTART:20210314T100000
END:DAYLIGHT
BEGIN:STANDARD
TZOFFSETFROM:-0700
TZOFFSETTO:-0800
TZNAME:PST
DTSTART:20211107T090000
END:STANDARD
END:VTIMEZONE
BEGIN:VEVENT
DTSTART;TZID=America/Vancouver:20210326T103000
DTEND;TZID=America/Vancouver:20210326T123000
DTSTAMP:20260424T201627
CREATED:20210107T223544Z
LAST-MODIFIED:20210107T223544Z
UID:7615-1616754600-1616761800@pacificmountain.ca
SUMMARY:How to Lead When You Don't Know Where You're Going\, with Susan Beaumont
DESCRIPTION:4-week workshop\, starting March 5
URL:https://pacificmountain.ca/event/how-to-lead-when-you-dont-know-where-youre-going-with-susan-beaumont-4/
CATEGORIES:PMRC Events
ATTACH;FMTTYPE=image/png:https://pacificmountain.ca/wordpress2021/wp-content/uploads/How-to-Lead.png
END:VEVENT
END:VCALENDAR